Workbook

Sheet TEAMS
C1: 1st choice | E1: 2nd Choice
B2: Division | C2: Venue | D2: Night | E2: Venue | F2: Night | J2: Venue
A3: 1 | B3: NU Blue | C3: UEA | D3: Wednesday | E3: Hellesdon High | F3: Monday | H3: DIV 1 | J3: UEA
A4: 2 | B4: NU White | C4: UEA | D4: Wednesday | E4: Hellesdon High | F4: Monday | J4: HELLESDON CC
A5: 3 | B5: TB Mustangs | C5: Sprowston | D5: Wednesday | E5: Open | F5: Tuesday | J5: SPROWSTON
A6: 4 | B6: Stars | C6: UEA | D6: Tuesday | E6: City | F6: Wednesday | J6: OPEN
A7: 5 | B7: TB Racers | C7: Open | D7: Thursday | E7: Sprowston | F7: Monday | J7: CITY
A8: 6 | B8: Red Knights | C8: Hewett | D8: Tuesday | F8: Wednesday | J8: OLD CATTON
A9: 7 | B9: Cromer Cobras | C9: Hellesdon CC | D9: Monday | E9: Open | F9: Tuesday | J9: HELLESDON HIGH
A10: 8 | B10: Jets | C10: UEA | D10: Wednesday | E10: City | F10: Monday | J10: THORPE
A11: 9 | B11: Phoenix | C11: UEA | D11: Tuesday | E11: Hellesdon High | F11: Monday | H11: DIV 2 | J11: HEWETT
A12: 10 | B12: Black Knights | C12: Hewett | D12: Monday | F12: Wednesday
A13: 11 | B13: TB Colts | C13: Sprowston | D13: Tuesday | E13: Open | F13: Tuesday
A14: 12 | B14: NU Yellow | C14: UEA | D14: Tuesday | E14: Hellesdon High | F14: Wednesday
A15: 13 | B15: Sonics | C15: Open | D15: Tuesday | E15: Hellesdon High | F15: Tuesday
A16: 14 | B16: NU Royal | C16: UEA | D16: Monday | E16: Hellesdon High | F16: Tuesday | J16: orange = 2nd option
A17: 15 | B17: Cliff Park | C17: Open | D17: Monday | E17: City | F17: Monday
A18: 16 | B18: Sirens | C18: Open | D18: Monday | E18: Hellesdon High | F18: Tuesday
A19: 17 | B19: Blades | C19: Open | D19: Tuesday | E19: Hellesdon High | F19: Wednesday | H19: DIV 3
A20: 18 | B20: Venus | C20: Open | D20: Tuesday | E20: Thorpe | F20: Monday
A21: 19 | B21: Premier | C21: Hellesdon CC | D21: Tuesday | E21: Hellesdon High | F21: Tuesday | J21: no hellesdon high use CAN instead
A22: 20 | B22: White Knights | C22: Hewett | D22: Wednesday | E22: UEA | F22: Tuesday | J22: hewett after easter | K22: DONE
A23: 21 | B23: Belton | C23: Open | D23: Monday | E23: City | F23: Wednesday
A24: 22 | B24: Wrens | C24: Open | D24: Tuesday | E24: Sprowston | F24: Wednesday
A25: 23 | B25: Hotshots | C25: Open | D25: Tuesday | E25: Hellesdon High | F25: Wednesday
A26: 24 | B26: Icenians | C26: Open | D26: Wednesday | E26: City | F26: Monday
A27: 25 | B27: NU Ruby | C27: UEA | D27: Wednesday | E27: Hellesdon High | F27: Monday | H27: DIV 4
A28: 26 | B28: TB Shetlands | C28: Sprowston | D28: Wednesday | E28: Hellesdon CC | F28: Thursday
A29: 27 | B29: Falcons | C29: City | D29: Tuesday | E29: UEA | F29: Tuesday
A30: 28 | B30: Hethersett Rockets | C30: Hellesdon High | E30: City
A31: 29 | B31: NCF Emerald | C31: Hellesdon High | E31: City
A32: 30 | B32: Watton Wolves | C32: UEA | D32: Tuesday | E32: Hellesdon High | F32: Monday
A33: 31 | B33: Trailblazers | C33: Hellesdon High | D33: Thursday | E33: City | F33: Tuesday
A34: 32 | B34: Red Hot Chillies | C34: Sprowston | E34: Open
A35: 33 | B35: Hornets | C35: Open | D35: Monday | E35: City | F35: Tuesday | H35: DIV 5
A36: 34 | B36: NU Amber | C36: UEA | D36: Tuesday | E36: Hellesdon High | F36: Wednesday
A37: 35 | B37: Gems | C37: Hewett | D37: Monday | E37: UEA | F37: Wednesday
A38: 36 | B38: TB Fillies | C38: Sprowston | D38: Thursday | E38: Open | F38: Monday
A39: 37 | B39: First Home Improvements | C39: Open | D39: Monday | E39: Thorpe | F39: Tuesday
A40: 38 | B40: NU Red | C40: UEA | D40: Monday | E40: Hellesdon High | F40: Tuesday | G40: didn’t fill in 1st choice so put 2nd choice 1st
...

Sheet Sheet1
A2: Division 1 | B2: 1 | C2: 2 | D2: 3 | E2: 4 | F2: 5 | G2: 6 | H2: 7 | I2: 8
A3: 1
A4: 2
A5: 3
A6: 4
A7: 5
A8: 6
A9: 7
A10: 8
A12: Division 2 | B12: 9 | C12: 10 | D12: 11 | E12: 12 | F12: 13 | G12: 14 | H12: 15 | I12: 16
A13: 9
A14: 10
A15: 11
A16: 12
A17: 13
A18: 14
A19: 15
A20: 16
A26: Division 3 | B26: 17 | C26: 18 | D26: 19 | E26: 20 | F26: 21 | G26: 22 | H26: 23 | I26: 24
A27: 17
A28: 18
A29: 19
A30: 20
A31: 21
A32: 22
A33: 23
A34: 24
A36: Division 4 | B36: 25 | C36: 26 | D36: 27 | E36: 28 | F36: 29 | G36: 30 | H36: 31 | I36: 32
A37: 25
A38: 26
A39: 27
A40: 28
A41: 29
A42: 30
A43: 31
A44: 32
A51: Division 5 | B51: 33 | C51: 34 | D51: 35 | E51: 36 | F51: 37 | G51: 38 | H51: 39 | I51: 40
A52: 33
A53: 34
A54: 35
...

Sheet VENUES
A1: Summer competitive league fixtures - draft 2026 - Venue requirements | O1: Contacted | R1: 18:30-20:30 (two hour per court)
A2: Updated 21 Feb 2026 | O2: Confirmed | R2: Matches start at 7pm
A4: week | F4: day | G4: Date | H4: UEA | I4: Hellesdon CC | J4: HEWETT | K4: OPEN | L4: CITY (CAN) | M4: OLD CATTON | N4: Hellesdon High | O4: Sprowston Academy | P4: THORPE | Q4: Total GAMES | R4: NOTES
A5: 1 | F5: MONDAY | G5: 46104 | H5: ='WK 1 FIXTURES'!H40 -> 0 | I5: ='WK 1 FIXTURES'!I40 -> 0 | J5: ='WK 1 FIXTURES'!J40 -> 0 | K5: ='WK 1 FIXTURES'!K40 -> 3 | L5: ='WK 1 FIXTURES'!L40 -> 0 | M5: ='WK 1 FIXTURES'!M40 -> 0 | N5: ='WK 1 FIXTURES'!N40 -> 3 | O5: ='WK 1 FIXTURES'!O40 -> 0 | P5: ='WK 1 FIXTURES'!P40 -> 0 | Q5: =SUM(H5:P5) -> 6
A6: 1 | F6: TUESDAY | G6: 46105 | H6: ='WK 1 FIXTURES'!H41 -> 2 | I6: ='WK 1 FIXTURES'!I41 -> 0 | J6: ='WK 1 FIXTURES'!J41 -> 0 | K6: ='WK 1 FIXTURES'!K41 -> 3 | L6: ='WK 1 FIXTURES'!L41 -> 1 | M6: ='WK 1 FIXTURES'!M41 -> 0 | N6: ='WK 1 FIXTURES'!N41 -> 2 | O6: ='WK 1 FIXTURES'!O41 -> 0 | P6: ='WK 1 FIXTURES'!P41 -> 0 | Q6: =SUM(H6:P6) -> 8
A7: 1 | F7: WEDNESDAY | G7: 46106 | H7: ='WK 1 FIXTURES'!H42 -> 4 | I7: ='WK 1 FIXTURES'!I42 -> 0 | J7: ='WK 1 FIXTURES'!J42 -> 0 | K7: ='WK 1 FIXTURES'!K42 -> 0 | L7: ='WK 1 FIXTURES'!L42 -> 0 | M7: ='WK 1 FIXTURES'!M42 -> 0 | N7: ='WK 1 FIXTURES'!N42 -> 3 | O7: ='WK 1 FIXTURES'!O42 -> 0 | P7: ='WK 1 FIXTURES'!P42 -> 0 | Q7: =SUM(H7:P7) -> 7
A8: 1 | F8: THURSDAY | G8: 46107 | H8: ='WK 1 FIXTURES'!H43 -> 0 | I8: ='WK 1 FIXTURES'!I43 -> 0 | J8: ='WK 1 FIXTURES'!J43 -> 0 | K8: ='WK 1 FIXTURES'!K43 -> 0 | L8: ='WK 1 FIXTURES'!L43 -> 0 | M8: ='WK 1 FIXTURES'!M43 -> 0 | N8: ='WK 1 FIXTURES'!N43 -> 0 | O8: ='WK 1 FIXTURES'!O43 -> 0 | P8: ='WK 1 FIXTURES'!P43 -> 0 | Q8: =SUM(H8:P8) -> 0
A9: 2 | F9: MONDAY | G9: 46111 | H9: ='WK 2 FIXTURES'!H40 -> 0 | I9: ='WK 2 FIXTURES'!I40 -> 0 | J9: ='WK 2 FIXTURES'!J40 -> 0 | K9: ='WK 2 FIXTURES'!K40 -> 4 | L9: ='WK 2 FIXTURES'!L40 -> 0 | M9: ='WK 2 FIXTURES'!M40 -> 0 | N9: ='WK 2 FIXTURES'!N40 -> 1 | O9: ='WK 2 FIXTURES'!O40 -> 0 | P9: ='WK 2 FIXTURES'!P40 -> 0 | Q9: =SUM(H9:P9) -> 5
A10: 2 | F10: TUESDAY | G10: 46112 | H10: ='WK 2 FIXTURES'!H41 -> 4 | I10: ='WK 2 FIXTURES'!I41 -> 0 | J10: ='WK 2 FIXTURES'!J41 -> 0 | K10: ='WK 2 FIXTURES'!K41 -> 2 | L10: ='WK 2 FIXTURES'!L41 -> 0 | M10: ='WK 2 FIXTURES'!M41 -> 0 | N10: ='WK 2 FIXTURES'!N41 -> 2 | O10: ='WK 2 FIXTURES'!O41 -> 0 | P10: ='WK 2 FIXTURES'!P41 -> 0 | Q10: =SUM(H10:P10) -> 8
A11: 2 | F11: WEDNESDAY | G11: 46113 | H11: ='WK 2 FIXTURES'!H42 -> 4 | I11: ='WK 2 FIXTURES'!I42 -> 0 | J11: ='WK 2 FIXTURES'!J42 -> 0 | K11: ='WK 2 FIXTURES'!K42 -> 1 | L11: ='WK 2 FIXTURES'!L42 -> 0 | M11: ='WK 2 FIXTURES'!M42 -> 0 | N11: ='WK 2 FIXTURES'!N42 -> 2 | O11: ='WK 2 FIXTURES'!O42 -> 0 | P11: ='WK 2 FIXTURES'!P42 -> 0 | Q11: =SUM(H11:P11) -> 7
A12: 2 | F12: THURSDAY | G12: 46114 | H12: ='WK 2 FIXTURES'!H43 -> 0 | I12: ='WK 2 FIXTURES'!I43 -> 0 | J12: ='WK 2 FIXTURES'!J43 -> 0 | K12: ='WK 2 FIXTURES'!K43 -> 0 | L12: ='WK 2 FIXTURES'!L43 -> 0 | M12: ='WK 2 FIXTURES'!M43 -> 0 | N12: ='WK 2 FIXTURES'!N43 -> 1 | O12: ='WK 2 FIXTURES'!O43 -> 0 | P12: ='WK 2 FIXTURES'!P43 -> 0 | Q12: =SUM(H12:P12) -> 1
A13: 3 | F13: MONDAY | G13: 46125 | H13: ='WK 3 FIXTURES'!H40 -> 0 | I13: ='WK 3 FIXTURES'!I40 -> 0 | J13: ='WK 3 FIXTURES'!J40 -> 1 | K13: ='WK 3 FIXTURES'!K40 -> 3 | L13: ='WK 3 FIXTURES'!L40 -> 0 | M13: ='WK 3 FIXTURES'!M40 -> 0 | N13: ='WK 3 FIXTURES'!N40 -> 2 | O13: ='WK 3 FIXTURES'!O40 -> 0 | P13: ='WK 3 FIXTURES'!P40 -> 0 | Q13: =SUM(H13:P13) -> 6
A14: 3 | F14: TUESDAY | G14: 46126 | H14: ='WK 3 FIXTURES'!H41 -> 3 | I14: ='WK 3 FIXTURES'!I41 -> 0 | J14: ='WK 3 FIXTURES'!J41 -> 0 | K14: ='WK 3 FIXTURES'!K41 -> 3 | L14: ='WK 3 FIXTURES'!L41 -> 1 | M14: ='WK 3 FIXTURES'!M41 -> 0 | N14: ='WK 3 FIXTURES'!N41 -> 1 | O14: ='WK 3 FIXTURES'!O41 -> 0 | P14: ='WK 3 FIXTURES'!P41 -> 0 | Q14: =SUM(H14:P14) -> 8
A15: 3 | F15: WEDNESDAY | G15: 46127 | H15: ='WK 3 FIXTURES'!H42 -> 2 | I15: ='WK 3 FIXTURES'!I42 -> 0 | J15: ='WK 3 FIXTURES'!J42 -> 0 | K15: ='WK 3 FIXTURES'!K42 -> 0 | L15: ='WK 3 FIXTURES'!L42 -> 0 | M15: ='WK 3 FIXTURES'!M42 -> 0 | N15: ='WK 3 FIXTURES'!N42 -> 3 | O15: ='WK 3 FIXTURES'!O42 -> 2 | P15: ='WK 3 FIXTURES'!P42 -> 0 | Q15: =SUM(H15:P15) -> 7
A16: 3 | F16: THURSDAY | G16: 46128 | H16: ='WK 3 FIXTURES'!H43 -> 0 | I16: ='WK 3 FIXTURES'!I43 -> 0 | J16: ='WK 3 FIXTURES'!J43 -> 0 | K16: ='WK 3 FIXTURES'!K43 -> 0 | L16: ='WK 3 FIXTURES'!L43 -> 0 | M16: ='WK 3 FIXTURES'!M43 -> 0 | N16: ='WK 3 FIXTURES'!N43 -> 0 | O16: ='WK 3 FIXTURES'!O43 -> 1 | P16: ='WK 3 FIXTURES'!P43 -> 0 | Q16: =SUM(H16:P16) -> 1
A17: 4 | F17: MONDAY | G17: 46132 | H17: ='WK 4 FIXTURES'!H40 -> 0 | I17: ='WK 4 FIXTURES'!I40 -> 0 | J17: ='WK 4 FIXTURES'!J40 -> 0 | K17: ='WK 4 FIXTURES'!K40 -> 3 | L17: ='WK 4 FIXTURES'!L40 -> 0 | M17: ='WK 4 FIXTURES'!M40 -> 0 | N17: ='WK 4 FIXTURES'!N40 -> 1 | O17: ='WK 4 FIXTURES'!O40 -> 1 | P17: ='WK 4 FIXTURES'!P40 -> 0 | Q17: =SUM(H17:P17) -> 5
A18: 4 | F18: TUESDAY | G18: 46133 | H18: ='WK 4 FIXTURES'!H41 -> 4 | I18: ='WK 4 FIXTURES'!I41 -> 0 | J18: ='WK 4 FIXTURES'!J41 -> 0 | K18: ='WK 4 FIXTURES'!K41 -> 2 | L18: ='WK 4 FIXTURES'!L41 -> 0 | M18: ='WK 4 FIXTURES'!M41 -> 0 | N18: ='WK 4 FIXTURES'!N41 -> 0 | O18: ='WK 4 FIXTURES'!O41 -> 2 | P18: ='WK 4 FIXTURES'!P41 -> 0 | Q18: =SUM(H18:P18) -> 8
A19: 4 | F19: WEDNESDAY | G19: 46134 | H19: ='WK 4 FIXTURES'!H42 -> 3 | I19: ='WK 4 FIXTURES'!I42 -> 0 | J19: ='WK 4 FIXTURES'!J42 -> 1 | K19: ='WK 4 FIXTURES'!K42 -> 1 | L19: ='WK 4 FIXTURES'!L42 -> 0 | M19: ='WK 4 FIXTURES'!M42 -> 0 | N19: ='WK 4 FIXTURES'!N42 -> 0 | O19: ='WK 4 FIXTURES'!O42 -> 2 | P19: ='WK 4 FIXTURES'!P42 -> 0 | Q19: =SUM(H19:P19) -> 7
A20: 4 | F20: THURSDAY | G20: 46135 | H20: ='WK 4 FIXTURES'!H43 -> 0 | I20: ='WK 4 FIXTURES'!I43 -> 0 | J20: ='WK 4 FIXTURES'!J43 -> 0 | K20: ='WK 4 FIXTURES'!K43 -> 0 | L20: ='WK 4 FIXTURES'!L43 -> 0 | M20: ='WK 4 FIXTURES'!M43 -> 0 | N20: ='WK 4 FIXTURES'!N43 -> 0 | O20: ='WK 4 FIXTURES'!O43 -> 1 | P20: ='WK 4 FIXTURES'!P43 -> 0 | Q20: =SUM(H20:P20) -> 1
A21: 5 | F21: MONDAY | G21: 46139 | H21: ='WK 5 FIXTURES'!H40 -> 0 | I21: ='WK 5 FIXTURES'!I40 -> 0 | J21: ='WK 5 FIXTURES'!J40 -> 1 | K21: ='WK 5 FIXTURES'!K40 -> 3 | L21: ='WK 5 FIXTURES'!L40 -> 0 | M21: ='WK 5 FIXTURES'!M40 -> 0 | N21: ='WK 5 FIXTURES'!N40 -> 1 | O21: ='WK 5 FIXTURES'!O40 -> 0 | P21: ='WK 5 FIXTURES'!P40 -> 0 | Q21: =SUM(H21:P21) -> 5
A22: 5 | F22: TUESDAY | G22: 46140 | H22: ='WK 5 FIXTURES'!H41 -> 1 | I22: ='WK 5 FIXTURES'!I41 -> 0 | J22: ='WK 5 FIXTURES'!J41 -> 1 | K22: ='WK 5 FIXTURES'!K41 -> 3 | L22: ='WK 5 FIXTURES'!L41 -> 1 | M22: ='WK 5 FIXTURES'!M41 -> 0 | N22: ='WK 5 FIXTURES'!N41 -> 0 | O22: ='WK 5 FIXTURES'!O41 -> 1 | P22: ='WK 5 FIXTURES'!P41 -> 0 | Q22: =SUM(H22:P22) -> 7
A23: 5 | F23: WEDNESDAY | G23: 46141 | H23: ='WK 5 FIXTURES'!H42 -> 3 | I23: ='WK 5 FIXTURES'!I42 -> 0 | J23: ='WK 5 FIXTURES'!J42 -> 1 | K23: ='WK 5 FIXTURES'!K42 -> 1 | L23: ='WK 5 FIXTURES'!L42 -> 0 | M23: ='WK 5 FIXTURES'!M42 -> 0 | N23: ='WK 5 FIXTURES'!N42 -> 1 | O23: ='WK 5 FIXTURES'!O42 -> 2 | P23: ='WK 5 FIXTURES'!P42 -> 0 | Q23: =SUM(H23:P23) -> 8
A24: 5 | F24: THURSDAY | G24: 46142 | H24: ='WK 5 FIXTURES'!H43 -> 0 | I24: ='WK 5 FIXTURES'!I43 -> 0 | J24: ='WK 5 FIXTURES'!J43 -> 0 | K24: ='WK 5 FIXTURES'!K43 -> 0 | L24: ='WK 5 FIXTURES'!L43 -> 0 | M24: ='WK 5 FIXTURES'!M43 -> 0 | N24: ='WK 5 FIXTURES'!N43 -> 0 | O24: ='WK 5 FIXTURES'!O43 -> 1 | P24: ='WK 5 FIXTURES'!P43 -> 0 | Q24: =SUM(H24:P24) -> 1
A25: 6 | F25: MONDAY | G25: 46146 | H25: ='WK 6 FIXTURES'!H40 -> 0 | I25: ='WK 6 FIXTURES'!I40 -> 0 | J25: ='WK 6 FIXTURES'!J40 -> 0 | K25: ='WK 6 FIXTURES'!K40 -> 0 | L25: ='WK 6 FIXTURES'!L40 -> 0 | M25: ='WK 6 FIXTURES'!M40 -> 0 | N25: ='WK 6 FIXTURES'!N40 -> 0 | O25: ='WK 6 FIXTURES'!O40 -> 0 | P25: ='WK 6 FIXTURES'!P40 -> 0 | Q25: =SUM(H25:P25) -> 0 | R25: Bank holiday
A26: 6 | F26: TUESDAY | G26: 46147 | H26: ='WK 6 FIXTURES'!H41 -> 4 | I26: ='WK 6 FIXTURES'!I41 -> 0 | J26: ='WK 6 FIXTURES'!J41 -> 0 | K26: ='WK 6 FIXTURES'!K41 -> 2 | L26: ='WK 6 FIXTURES'!L41 -> 0 | M26: ='WK 6 FIXTURES'!M41 -> 0 | N26: ='WK 6 FIXTURES'!N41 -> 1 | O26: ='WK 6 FIXTURES'!O41 -> 2 | P26: ='WK 6 FIXTURES'!P41 -> 0 | Q26: =SUM(H26:P26) -> 9
A27: 6 | F27: WEDNESDAY | G27: 46148 | H27: ='WK 6 FIXTURES'!H42 -> 4 | I27: ='WK 6 FIXTURES'!I42 -> 0 | J27: ='WK 6 FIXTURES'!J42 -> 1 | K27: ='WK 6 FIXTURES'!K42 -> 1 | L27: ='WK 6 FIXTURES'!L42 -> 1 | M27: ='WK 6 FIXTURES'!M42 -> 0 | N27: ='WK 6 FIXTURES'!N42 -> 2 | O27: ='WK 6 FIXTURES'!O42 -> 0 | P27: ='WK 6 FIXTURES'!P42 -> 0 | Q27: =SUM(H27:P27) -> 9
A28: 6 | F28: THURSDAY | G28: 46149 | H28: ='WK 6 FIXTURES'!H43 -> 0 | I28: ='WK 6 FIXTURES'!I43 -> 0 | J28: ='WK 6 FIXTURES'!J43 -> 0 | K28: ='WK 6 FIXTURES'!K43 -> 0 | L28: ='WK 6 FIXTURES'!L43 -> 0 | M28: ='WK 6 FIXTURES'!M43 -> 0 | N28: ='WK 6 FIXTURES'!N43 -> 2 | O28: ='WK 6 FIXTURES'!O43 -> 1 | P28: ='WK 6 FIXTURES'!P43 -> 0 | Q28: =SUM(H28:P28) -> 3
A29: 7 | F29: MONDAY | G29: 46153 | H29: ='WK 7 FIXTURES'!H40 -> 0 | I29: ='WK 7 FIXTURES'!I40 -> 0 | J29: ='WK 7 FIXTURES'!J40 -> 0 | K29: ='WK 7 FIXTURES'!K40 -> 3 | L29: ='WK 7 FIXTURES'!L40 -> 0 | M29: ='WK 7 FIXTURES'!M40 -> 0 | N29: ='WK 7 FIXTURES'!N40 -> 1 | O29: ='WK 7 FIXTURES'!O40 -> 2 | P29: ='WK 7 FIXTURES'!P40 -> 0 | Q29: =SUM(H29:P29) -> 6
A30: 7 | F30: TUESDAY | G30: 46154 | H30: ='WK 7 FIXTURES'!H41 -> 3 | I30: ='WK 7 FIXTURES'!I41 -> 0 | J30: ='WK 7 FIXTURES'!J41 -> 1 | K30: ='WK 7 FIXTURES'!K41 -> 2 | L30: ='WK 7 FIXTURES'!L41 -> 1 | M30: ='WK 7 FIXTURES'!M41 -> 0 | N30: ='WK 7 FIXTURES'!N41 -> 0 | O30: ='WK 7 FIXTURES'!O41 -> 1 | P30: ='WK 7 FIXTURES'!P41 -> 0 | Q30: =SUM(H30:P30) -> 8
A31: 7 | F31: WEDNESDAY | G31: 46155 | H31: ='WK 7 FIXTURES'!H42 -> 2 | I31: ='WK 7 FIXTURES'!I42 -> 0 | J31: ='WK 7 FIXTURES'!J42 -> 1 | K31: ='WK 7 FIXTURES'!K42 -> 1 | L31: ='WK 7 FIXTURES'!L42 -> 1 | M31: ='WK 7 FIXTURES'!M42 -> 0 | N31: ='WK 7 FIXTURES'!N42 -> 1 | O31: ='WK 7 FIXTURES'!O42 -> 0 | P31: ='WK 7 FIXTURES'!P42 -> 0 | Q31: =SUM(H31:P31) -> 6
A32: 7 | F32: THURSDAY | G32: 46156 | H32: ='WK 7 FIXTURES'!H43 -> 0 | I32: ='WK 7 FIXTURES'!I43 -> 0 | J32: ='WK 7 FIXTURES'!J43 -> 0 | K32: ='WK 7 FIXTURES'!K43 -> 0 | L32: ='WK 7 FIXTURES'!L43 -> 0 | M32: ='WK 7 FIXTURES'!M43 -> 0 | N32: ='WK 7 FIXTURES'!N43 -> 0 | O32: ='WK 7 FIXTURES'!O43 -> 1 | P32: ='WK 7 FIXTURES'!P43 -> 0 | Q32: =SUM(H32:P32) -> 1
A33: 8 | F33: MONDAY | G33: 46160 | H33: ='WK 8 FIXTURES'!H40 -> 1 | I33: ='WK 8 FIXTURES'!I40 -> 0 | J33: ='WK 8 FIXTURES'!J40 -> 1 | K33: ='WK 8 FIXTURES'!K40 -> 1 | L33: ='WK 8 FIXTURES'!L40 -> 0 | M33: ='WK 8 FIXTURES'!M40 -> 0 | N33: ='WK 8 FIXTURES'!N40 -> 0 | O33: ='WK 8 FIXTURES'!O40 -> 2 | P33: ='WK 8 FIXTURES'!P40 -> 0 | Q33: =SUM(H33:P33) -> 5 | R33: Hewett only one court
A34: 8 | F34: TUESDAY | G34: 46161 | H34: ='WK 8 FIXTURES'!H41 -> 3 | I34: ='WK 8 FIXTURES'!I41 -> 0 | J34: ='WK 8 FIXTURES'!J41 -> 1 | K34: ='WK 8 FIXTURES'!K41 -> 3 | L34: ='WK 8 FIXTURES'!L41 -> 0 | M34: ='WK 8 FIXTURES'!M41 -> 0 | N34: ='WK 8 FIXTURES'!N41 -> 0 | O34: ='WK 8 FIXTURES'!O41 -> 2 | P34: ='WK 8 FIXTURES'!P41 -> 0 | Q34: =SUM(H34:P34) -> 9
A35: 8 | F35: WEDNESDAY | G35: 46162 | H35: ='WK 8 FIXTURES'!H42 -> 1 | I35: ='WK 8 FIXTURES'!I42 -> 0 | J35: ='WK 8 FIXTURES'!J42 -> 1 | K35: ='WK 8 FIXTURES'!K42 -> 1 | L35: ='WK 8 FIXTURES'!L42 -> 0 | M35: ='WK 8 FIXTURES'!M42 -> 0 | N35: ='WK 8 FIXTURES'!N42 -> 1 | O35: ='WK 8 FIXTURES'!O42 -> 2 | P35: ='WK 8 FIXTURES'!P42 -> 0 | Q35: =SUM(H35:P35) -> 6
A36: 8 | F36: THURSDAY | G36: 46163 | H36: ='WK 8 FIXTURES'!H43 -> 0 | I36: ='WK 8 FIXTURES'!I43 -> 0 | J36: ='WK 8 FIXTURES'!J43 -> 0 | K36: ='WK 8 FIXTURES'!K43 -> 0 | L36: ='WK 8 FIXTURES'!L43 -> 0 | M36: ='WK 8 FIXTURES'!M43 -> 0 | N36: ='WK 8 FIXTURES'!N43 -> 1 | O36: ='WK 8 FIXTURES'!O43 -> 0 | P36: ='WK 8 FIXTURES'!P43 -> 0 | Q36: =SUM(H36:P36) -> 1
A37: 9 | F37: MONDAY | G37: 46174 | H37: ='WK 9 FIXTURES'!H40 -> 1 | I37: ='WK 9 FIXTURES'!I40 -> 0 | J37: ='WK 9 FIXTURES'!J40 -> 1 | K37: ='WK 9 FIXTURES'!K40 -> 1 | L37: ='WK 9 FIXTURES'!L40 -> 0 | M37: ='WK 9 FIXTURES'!M40 -> 0 | N37: ='WK 9 FIXTURES'!N40 -> 1 | O37: ='WK 9 FIXTURES'!O40 -> 2 | P37: ='WK 9 FIXTURES'!P40 -> 0 | Q37: =SUM(H37:P37) -> 6
A38: 9 | F38: TUESDAY | G38: 46175 | H38: ='WK 9 FIXTURES'!H41 -> 1 | I38: ='WK 9 FIXTURES'!I41 -> 0 | J38: ='WK 9 FIXTURES'!J41 -> 0 | K38: ='WK 9 FIXTURES'!K41 -> 3 | L38: ='WK 9 FIXTURES'!L41 -> 1 | M38: ='WK 9 FIXTURES'!M41 -> 0 | N38: ='WK 9 FIXTURES'!N41 -> 1 | O38: ='WK 9 FIXTURES'!O41 -> 2 | P38: ='WK 9 FIXTURES'!P41 -> 0 | Q38: =SUM(H38:P38) -> 8
A39: 9 | F39: WEDNESDAY | G39: 46176 | H39: ='WK 9 FIXTURES'!H42 -> 1 | I39: ='WK 9 FIXTURES'!I42 -> 0 | J39: ='WK 9 FIXTURES'!J42 -> 1 | K39: ='WK 9 FIXTURES'!K42 -> 0 | L39: ='WK 9 FIXTURES'!L42 -> 0 | M39: ='WK 9 FIXTURES'!M42 -> 0 | N39: ='WK 9 FIXTURES'!N42 -> 2 | O39: ='WK 9 FIXTURES'!O42 -> 2 | P39: ='WK 9 FIXTURES'!P42 -> 0 | Q39: =SUM(H39:P39) -> 6
A40: 9 | F40: THURSDAY | G40: 46177 | H40: ='WK 9 FIXTURES'!H43 -> 0 | I40: ='WK 9 FIXTURES'!I43 -> 0 | J40: ='WK 9 FIXTURES'!J43 -> 0 | K40: ='WK 9 FIXTURES'!K43 -> 0 | L40: ='WK 9 FIXTURES'!L43 -> 0 | M40: ='WK 9 FIXTURES'!M43 -> 0 | N40: ='WK 9 FIXTURES'!N43 -> 1 | O40: ='WK 9 FIXTURES'!O43 -> 0 | P40: ='WK 9 FIXTURES'!P43 -> 0 | Q40: =SUM(H40:P40) -> 1
A41: 10 | F41: MONDAY | G41: 46181 | H41: ='WK 10 FIXTURES'!H40 -> 1 | I41: ='WK 10 FIXTURES'!I40 -> 0 | J41: ='WK 10 FIXTURES'!J40 -> 1 | K41: ='WK 10 FIXTURES'!K40 -> 2 | L41: ='WK 10 FIXTURES'!L40 -> 0 | M41: ='WK 10 FIXTURES'!M40 -> 0 | N41: ='WK 10 FIXTURES'!N40 -> 1 | O41: ='WK 10 FIXTURES'!O40 -> 2 | P41: ='WK 10 FIXTURES'!P40 -> 0 | Q41: =SUM(H41:P41) -> 7
...

Sheet WK 1 FIXTURES
F3: Week Comm | G3: 46104 | H3: Wk 1 | U3: Playing | X3: Umpiring
B4: Playing | D4: Umpiring | U4: Home | V4: Away | W4: Playing | X4: Home | Y4: Away | Z4: Umpiring
B5: Home | C5: Away | D5: Home | E5: Away | F5: Day | G5: Date | H5: Div | J5: Home Team | L5: Away Team | M5: Umpire 1 | N5: Umpire 2 | O5: Venue | P5: UMP1 | Q5: UMP2
B7: =I7 -> 7 | C7: =K7 -> 6 | D7: =P7 -> 8 | E7: =Q7 -> 14 | F7: =VLOOKUP(I7,TEAMS!A5:D10,4,0) -> Monday | G7: =VLOOKUP(F7,$F$40:$G$43,2,FALSE) -> 46104 | H7: 1 | I7: 7 | J7: =VLOOKUP($I7,TEAMS!$A$3:$D$56,2,0) -> Cromer Cobras | K7: 6 | L7: =VLOOKUP($K7,TEAMS!$A$3:$D$56,2,0) -> Red Knights | M7: =VLOOKUP($P7,TEAMS!$A$3:$D$56,2,0) -> Jets | N7: =VLOOKUP($Q7,TEAMS!$A$3:$D$56,2,0) -> NU Royal | O7: Hellesdon High | P7: 8 | Q7: 14
B8: =I8 -> 8 | C8: =K8 -> 4 | D8: =P8 -> 6 | E8: =Q8 -> 12 | F8: =VLOOKUP(I8,TEAMS!A6:D11,4,0) -> Wednesday | G8: =VLOOKUP(F8,$F$40:$G$43,2,FALSE) -> 46106 | H8: 1 | I8: 8 | J8: =VLOOKUP($I8,TEAMS!$A$3:$D$56,2,0) -> Jets | K8: 4 | L8: =VLOOKUP($K8,TEAMS!$A$3:$D$56,2,0) -> Stars | M8: =VLOOKUP($P8,TEAMS!$A$3:$D$56,2,0) -> Red Knights | N8: =VLOOKUP($Q8,TEAMS!$A$3:$D$56,2,0) -> NU Yellow | O8: =VLOOKUP($I8,TEAMS!$A$3:$D$56,3,0) -> UEA | P8: 6 | Q8: 12
B9: =I9 -> 1 | C9: =K9 -> 3 | D9: =P9 -> 16 | E9: =Q9 -> 23 | F9: =VLOOKUP(I9,TEAMS!A3:D10,4,0) -> Wednesday | G9: =VLOOKUP(F9,$F$40:$G$43,2,FALSE) -> 46106 | H9: 1 | I9: 1 | J9: =VLOOKUP($I9,TEAMS!$A$3:$D$56,2,0) -> NU Blue | K9: 3 | L9: =VLOOKUP($K9,TEAMS!$A$3:$D$56,2,0) -> TB Mustangs | M9: =VLOOKUP($P9,TEAMS!$A$3:$D$56,2,0) -> Sirens | N9: =VLOOKUP($Q9,TEAMS!$A$3:$D$56,2,0) -> Hotshots | O9: =VLOOKUP($I9,TEAMS!$A$3:$D$56,3,0) -> UEA | P9: 16 | Q9: 23
B10: =I10 -> 2 | C10: =K10 -> 5 | D10: =P10 -> 13 | E10: =Q10 -> 19 | F10: =VLOOKUP(I10,TEAMS!A4:D10,4,0) -> Wednesday | G10: =VLOOKUP(F10,$F$40:$G$43,2,FALSE) -> 46106 | H10: 1 | I10: 2 | J10: =VLOOKUP($I10,TEAMS!$A$3:$D$56,2,0) -> NU White | K10: 5 | L10: =VLOOKUP($K10,TEAMS!$A$3:$D$56,2,0) -> TB Racers | M10: =VLOOKUP($P10,TEAMS!$A$3:$D$56,2,0) -> Sonics | N10: =VLOOKUP($Q10,TEAMS!$A$3:$D$56,2,0) -> Premier | O10: =VLOOKUP($I10,TEAMS!$A$3:$D$56,3,0) -> UEA | P10: 13 | Q10: 19
H11: 1
B12: =I12 -> 15 | C12: =K12 -> 11 | D12: =P12 -> 10 | E12: =Q12 -> 3 | F12: =VLOOKUP(I12,TEAMS!A12:D56,4,0) -> Monday | G12: =VLOOKUP(F12,$F$40:$G$43,2,FALSE) -> 46104 | H12: 2 | I12: 15 | J12: =VLOOKUP($I12,TEAMS!$A$3:$D$56,2,0) -> Cliff Park | K12: 11 | L12: =VLOOKUP($K12,TEAMS!$A$3:$D$56,2,0) -> TB Colts | M12: =VLOOKUP($P12,TEAMS!$A$3:$D$56,2,0) -> Black Knights | N12: =VLOOKUP($Q12,TEAMS!$A$3:$D$56,2,0) -> TB Mustangs | O12: =VLOOKUP($I12,TEAMS!$A$3:$D$56,3,0) -> Open | P12: 10 | Q12: 3
B13: =I13 -> 12 | C13: =K13 -> 16 | D13: =P13 -> 4 | E13: =Q13 -> 5 | F13: =VLOOKUP(I13,TEAMS!A13:D56,4,0) -> Tuesday | G13: =VLOOKUP(F13,$F$40:$G$43,2,FALSE) -> 46105 | H13: 2 | I13: 12 | J13: =VLOOKUP($I13,TEAMS!$A$3:$D$56,2,0) -> NU Yellow | K13: 16 | L13: =VLOOKUP($K13,TEAMS!$A$3:$D$56,2,0) -> Sirens | M13: =VLOOKUP($P13,TEAMS!$A$3:$D$56,2,0) -> Stars | N13: =VLOOKUP($Q13,TEAMS!$A$3:$D$56,2,0) -> TB Racers | O13: =VLOOKUP($I13,TEAMS!$A$3:$D$56,3,0) -> UEA | P13: 4 | Q13: 5
B14: =I14 -> 9 | C14: =K14 -> 13 | D14: =P14 -> 2 | E14: =Q14 -> 1 | F14: Tuesday | G14: 46105 | H14: 2 | I14: 9 | J14: =VLOOKUP($I14,TEAMS!$A$3:$D$56,2,0) -> Phoenix | K14: 13 | L14: =VLOOKUP($K14,TEAMS!$A$3:$D$56,2,0) -> Sonics | M14: =VLOOKUP($P14,TEAMS!$A$3:$D$56,2,0) -> NU White | N14: =VLOOKUP($Q14,TEAMS!$A$3:$D$56,2,0) -> NU Blue | O14: =VLOOKUP($I14,TEAMS!$A$3:$D$56,3,0) -> UEA | P14: 2 | Q14: 1
B15: =I15 -> 14 | C15: =K15 -> 10 | D15: =P15 -> 25 | E15: =Q15 -> 11 | F15: Tuesday | G15: =VLOOKUP(F15,$F$40:$G$43,2,FALSE) -> 46105 | H15: 2 | I15: 14 | J15: =VLOOKUP($I15,TEAMS!$A$3:$D$56,2,0) -> NU Royal | K15: 10 | L15: =VLOOKUP($K15,TEAMS!$A$3:$D$56,2,0) -> Black Knights | M15: =VLOOKUP($P15,TEAMS!$A$3:$D$56,2,0) -> NU Ruby | N15: =VLOOKUP($Q15,TEAMS!$A$3:$D$56,2,0) -> TB Colts | O15: Hellesdon High | P15: 25 | Q15: 11
H16: 2
B17: =I17 -> 18 | C17: =K17 -> 17 | D17: =P17 -> 7 | E17: =Q17 -> 30 | F17: =VLOOKUP(I17,TEAMS!A16:D61,4,0) -> Tuesday | G17: =VLOOKUP(F17,$F$40:$G$43,2,FALSE) -> 46105 | H17: 3 | I17: 18 | J17: =VLOOKUP($I17,TEAMS!$A$3:$D$56,2,0) -> Venus | K17: 17 | L17: =VLOOKUP($K17,TEAMS!$A$3:$D$56,2,0) -> Blades | M17: =VLOOKUP($P17,TEAMS!$A$3:$D$56,2,0) -> Cromer Cobras | N17: =VLOOKUP($Q17,TEAMS!$A$3:$D$56,2,0) -> Watton Wolves | O17: =VLOOKUP($I17,TEAMS!$A$3:$D$56,3,0) -> Open | P17: 7 | Q17: 30
B18: =I18 -> 19 | C18: =K18 -> 22 | D18: =P18 -> 26 | E18: =Q18 -> 34 | F18: =VLOOKUP(I18,TEAMS!A17:D62,4,0) -> Tuesday | G18: =VLOOKUP(F18,$F$40:$G$43,2,FALSE) -> 46105 | H18: 3 | I18: 19 | J18: =VLOOKUP($I18,TEAMS!$A$3:$D$56,2,0) -> Premier | K18: 22 | L18: =VLOOKUP($K18,TEAMS!$A$3:$D$56,2,0) -> Wrens | M18: =VLOOKUP($P18,TEAMS!$A$3:$D$56,2,0) -> TB Shetlands | N18: =VLOOKUP($Q18,TEAMS!$A$3:$D$56,2,0) -> NU Amber | O18: Hellesdon High | P18: 26 | Q18: 34
B19: =I19 -> 23 | C19: =K19 -> 20 | D19: =P19 -> 21 | E19: =Q19 -> 33 | F19: =VLOOKUP(I19,TEAMS!A18:D63,4,0) -> Tuesday | G19: =VLOOKUP(F19,$F$40:$G$43,2,FALSE) -> 46105 | H19: 3 | I19: 23 | J19: =VLOOKUP($I19,TEAMS!$A$3:$D$56,2,0) -> Hotshots | K19: 20 | L19: =VLOOKUP($K19,TEAMS!$A$3:$D$56,2,0) -> White Knights | M19: =VLOOKUP($P19,TEAMS!$A$3:$D$56,2,0) -> Belton | N19: =VLOOKUP($Q19,TEAMS!$A$3:$D$56,2,0) -> Hornets | O19: =VLOOKUP($I19,TEAMS!$A$3:$D$56,3,0) -> Open | P19: 21 | Q19: 33
B20: =I20 -> 21 | C20: =K20 -> 24 | D20: =P20 -> 20 | E20: =Q20 -> 18 | F20: =VLOOKUP(I20,TEAMS!A19:D64,4,0) -> Monday | G20: =VLOOKUP(F20,$F$40:$G$43,2,FALSE) -> 46104 | H20: 3 | I20: 21 | J20: =VLOOKUP($I20,TEAMS!$A$3:$D$56,2,0) -> Belton | K20: 24 | L20: =VLOOKUP($K20,TEAMS!$A$3:$D$56,2,0) -> Icenians | M20: =VLOOKUP($P20,TEAMS!$A$3:$D$56,2,0) -> White Knights | N20: =VLOOKUP($Q20,TEAMS!$A$3:$D$56,2,0) -> Venus | O20: =VLOOKUP($I20,TEAMS!$A$3:$D$56,3,0) -> Open | P20: 20 | Q20: 18
H21: 3
B22: =I22 -> 31 | C22: =K22 -> 32 | D22: =P22 -> 43 | E22: =Q22 -> 17 | F22: Wednesday | G22: =VLOOKUP(F22,$F$40:$G$43,2,FALSE) -> 46106 | H22: 4 | I22: 31 | J22: =VLOOKUP($I22,TEAMS!$A$3:$D$56,2,0) -> Trailblazers | K22: 32 | L22: =VLOOKUP($K22,TEAMS!$A$3:$D$56,2,0) -> Red Hot Chillies | M22: =VLOOKUP($P22,TEAMS!$A$3:$D$56,2,0) -> Trowse | N22: =VLOOKUP($Q22,TEAMS!$A$3:$D$56,2,0) -> Blades | O22: =VLOOKUP($I22,TEAMS!$A$3:$D$56,3,0) -> Hellesdon High | P22: 43 | Q22: 17
B23: =I23 -> 25 | C23: =K23 -> 26 | D23: =P23 -> 28 | E23: =Q23 -> 15 | F23: =VLOOKUP(I23,TEAMS!A21:D66,4,0) -> Wednesday | G23: =VLOOKUP(F23,$F$40:$G$43,2,FALSE) -> 46106 | H23: 4 | I23: 25 | J23: =VLOOKUP($I23,TEAMS!$A$3:$D$56,2,0) -> NU Ruby | K23: 26 | L23: =VLOOKUP($K23,TEAMS!$A$3:$D$56,2,0) -> TB Shetlands | M23: =VLOOKUP($P23,TEAMS!$A$3:$D$56,2,0) -> Hethersett Rockets | N23: =VLOOKUP($Q23,TEAMS!$A$3:$D$56,2,0) -> Cliff Park | O23: =VLOOKUP($I23,TEAMS!$A$3:$D$56,3,0) -> UEA | P23: 28 | Q23: 15
B24: =I24 -> 27 | C24: =K24 -> 28 | D24: =P24 -> 24 | E24: =Q24 -> 29 | F24: =VLOOKUP(I24,TEAMS!A22:D67,4,0) -> Tuesday | G24: =VLOOKUP(F24,$F$40:$G$43,2,FALSE) -> 46105 | H24: 4 | I24: 27 | J24: =VLOOKUP($I24,TEAMS!$A$3:$D$56,2,0) -> Falcons | K24: 28 | L24: =VLOOKUP($K24,TEAMS!$A$3:$D$56,2,0) -> Hethersett Rockets | M24: =VLOOKUP($P24,TEAMS!$A$3:$D$56,2,0) -> Icenians | N24: =VLOOKUP($Q24,TEAMS!$A$3:$D$56,2,0) -> NCF Emerald | O24: =VLOOKUP($I24,TEAMS!$A$3:$D$56,3,0) -> City | P24: 24 | Q24: 29
B25: =I25 -> 29 | C25: =K25 -> 30 | D25: =P25 -> 37 | E25: =Q25 -> 42 | F25: Wednesday | G25: =VLOOKUP(F25,$F$40:$G$43,2,FALSE) -> 46106 | H25: 4 | I25: 29 | J25: =VLOOKUP($I25,TEAMS!$A$3:$D$56,2,0) -> NCF Emerald | K25: 30 | L25: =VLOOKUP($K25,TEAMS!$A$3:$D$56,2,0) -> Watton Wolves | M25: =VLOOKUP($P25,TEAMS!$A$3:$D$56,2,0) -> First Home Improvements | N25: =VLOOKUP($Q25,TEAMS!$A$3:$D$56,2,0) -> TB Ponies | O25: =VLOOKUP($I25,TEAMS!$A$3:$D$56,3,0) -> Hellesdon High | P25: 37 | Q25: 42
H26: 4
B27: =I27 -> 39 | C27: =K27 -> 38 | D27: =P27 -> 35 | E27: =Q27 -> 41 | F27: =VLOOKUP(I27,TEAMS!A26:D81,4,0) -> Wednesday | G27: =VLOOKUP(F27,$F$40:$G$43,2,FALSE) -> 46106 | H27: 5 | I27: 39 | J27: =VLOOKUP($I27,TEAMS!$A$3:$D$56,2,0) -> Tigers | K27: 38 | L27: =VLOOKUP($K27,TEAMS!$A$3:$D$56,2,0) -> NU Red | M27: =VLOOKUP($P27,TEAMS!$A$3:$D$56,2,0) -> Gems | N27: =VLOOKUP($Q27,TEAMS!$A$3:$D$56,2,0) -> Dragons | O27: Hellesdon High | P27: 35 | Q27: 41
B28: =I28 -> 36 | C28: =K28 -> 40 | D28: =P28 -> 0 | E28: =Q28 -> 0 | G28: =VLOOKUP(F28,$F$40:$G$43,2,FALSE) -> #N/A | H28: 5 | I28: 36 | J28: =VLOOKUP($I28,TEAMS!$A$3:$D$56,2,0) -> TB Fillies | K28: 40 | L28: =VLOOKUP($K28,TEAMS!$A$3:$D$56,2,0) -> BYE WEEK | M28: =VLOOKUP($P28,TEAMS!$A$3:$D$56,2,0) -> #N/A | N28: =VLOOKUP($Q28,TEAMS!$A$3:$D$56,2,0) -> #N/A
B29: =I29 -> 33 | C29: =K29 -> 35 | D29: =P29 -> 27 | E29: =Q29 -> 31 | F29: =VLOOKUP(I29,TEAMS!A23:D78,4,0) -> Monday | G29: =VLOOKUP(F29,$F$40:$G$43,2,FALSE) -> 46104 | H29: 5 | I29: 33 | J29: =VLOOKUP($I29,TEAMS!$A$3:$D$56,2,0) -> Hornets | K29: 35 | L29: =VLOOKUP($K29,TEAMS!$A$3:$D$56,2,0) -> Gems | M29: =VLOOKUP($P29,TEAMS!$A$3:$D$56,2,0) -> Falcons | N29: =VLOOKUP($Q29,TEAMS!$A$3:$D$56,2,0) -> Trailblazers | O29: =VLOOKUP($I29,TEAMS!$A$3:$D$56,3,0) -> Open | P29: 27 | Q29: 31
B30: =I30 -> 37 | C30: =K30 -> 34 | D30: =P30 -> 32 | E30: =Q30 -> 36 | F30: =VLOOKUP(I30,TEAMS!A25:D80,4,0) -> Monday | G30: =VLOOKUP(F30,$F$40:$G$43,2,FALSE) -> 46104 | H30: 5 | I30: 37 | J30: =VLOOKUP($I30,TEAMS!$A$3:$D$56,2,0) -> First Home Improvements | K30: 34 | L30: =VLOOKUP($K30,TEAMS!$A$3:$D$56,2,0) -> NU Amber | M30: =VLOOKUP($P30,TEAMS!$A$3:$D$56,2,0) -> Red Hot Chillies | N30: =VLOOKUP($Q30,TEAMS!$A$3:$D$56,2,0) -> TB Fillies | O30: =VLOOKUP($I30,TEAMS!$A$3:$D$56,3,0) -> Open | P30: 32 | Q30: 36
B31: =I32 -> 46 | C31: =K32 -> 47 | D31: =P31 -> 0 | E31: =Q31 -> 0
B32: =I33 -> 44 | C32: =K33 -> 48 | D32: =P32 -> 0 | E32: =Q32 -> 0 | G32: =VLOOKUP(F32,$F$40:$G$43,2,FALSE) -> #N/A | H32: 6 | I32: 46 | J32: =VLOOKUP($I32,TEAMS!$A$3:$D$56,2,0) -> Doves | K32: 47 | L32: =VLOOKUP($K32,TEAMS!$A$3:$D$56,2,0) -> BYE WEEK | M32: =VLOOKUP($P32,TEAMS!$A$3:$D$56,2,0) -> #N/A | N32: =VLOOKUP($Q32,TEAMS!$A$3:$D$56,2,0) -> #N/A
B33: =I34 -> 41 | C33: =K34 -> 43 | D33: =P33 -> 0 | E33: =Q33 -> 0 | G33: =VLOOKUP(F33,$F$40:$G$43,2,FALSE) -> #N/A | H33: 6 | I33: 44 | J33: =VLOOKUP($I33,TEAMS!$A$3:$D$56,2,0) -> Cromer Vipers | K33: 48 | L33: =VLOOKUP($K33,TEAMS!$A$3:$D$56,2,0) -> BYE WEEK | M33: =VLOOKUP($P33,TEAMS!$A$3:$D$56,2,0) -> #N/A | N33: =VLOOKUP($Q33,TEAMS!$A$3:$D$56,2,0) -> #N/A
B34: =#REF! -> #REF! | C34: =#REF! -> #REF! | D34: =P34 -> 38 | E34: =Q34 -> 44 | F34: =VLOOKUP(I34,TEAMS!A28:D83,4,0) -> Monday | G34: =VLOOKUP(F34,$F$40:$G$43,2,FALSE) -> 46104 | H34: 6 | I34: 41 | J34: =VLOOKUP($I34,TEAMS!$A$3:$D$56,2,0) -> Dragons | K34: 43 | L34: =VLOOKUP($K34,TEAMS!$A$3:$D$56,2,0) -> Trowse | M34: =VLOOKUP($P34,TEAMS!$A$3:$D$56,2,0) -> NU Red | N34: =VLOOKUP($Q34,TEAMS!$A$3:$D$56,2,0) -> Cromer Vipers | O34: =VLOOKUP($I34,TEAMS!$A$3:$D$56,3,0) -> Hellesdon High | P34: 38 | Q34: 44
B35: =I35 -> 45 | C35: =K35 -> 42 | D35: =P35 -> 22 | E35: =Q35 -> 9 | F35: Monday | G35: =VLOOKUP(F35,$F$40:$G$43,2,FALSE) -> 46104 | H35: 6 | I35: 45 | J35: =VLOOKUP($I35,TEAMS!$A$3:$D$56,2,0) -> NCF Onyx | K35: 42 | L35: =VLOOKUP($K35,TEAMS!$A$3:$D$56,2,0) -> TB Ponies | M35: =VLOOKUP($P35,TEAMS!$A$3:$D$56,2,0) -> Wrens | N35: =VLOOKUP($Q35,TEAMS!$A$3:$D$56,2,0) -> Phoenix | O35: Hellesdon High | P35: 22 | Q35: 9
G37: where indicated the date or venue has changed
G39: Date | H39: UEA | I39: Hellesdon CC | J39: HEWETT | K39: OPEN | L39: CITY | M39: OLD CATTON | N39: Hellesdon High | O39: SPROWSTON | P39: THORPE
F40: MONDAY | G40: =G3 -> 46104 | H40: =COUNTIFS($O$7:$O$35,H$39,$F$7:$F$35,$F40) -> 0 | I40: =COUNTIFS($O$7:$O$35,I$39,$F$7:$F$35,$F40) -> 0 | J40: =COUNTIFS($O$7:$O$35,J$39,$F$7:$F$35,$F40) -> 0 | K40: 3 | L40: =COUNTIFS($O$7:$O$35,L$39,$F$7:$F$35,$F40) -> 0 | M40: =COUNTIFS($O$7:$O$35,M$39,$F$7:$F$35,$F40) -> 0 | N40: =COUNTIFS($O$7:$O$35,N$39,$F$7:$F$35,$F40) -> 3 | O40: =COUNTIFS($O$7:$O$35,O$39,$F$7:$F$35,$F40) -> 0 | P40: =COUNTIFS($O$7:$O$35,P$39,$F$7:$F$35,$F40) -> 0 | Q40: =SUM(H40:P40) -> 6
F41: TUESDAY | G41: =G40+1 -> 46105 | H41: 2 | I41: =COUNTIFS($O$7:$O$35,I$39,$F$7:$F$35,$F41) -> 0 | J41: =COUNTIFS($O$7:$O$35,J$39,$F$7:$F$35,$F41) -> 0 | K41: 3 | L41: =COUNTIFS($O$7:$O$35,L$39,$F$7:$F$35,$F41) -> 1 | M41: =COUNTIFS($O$7:$O$35,M$39,$F$7:$F$35,$F41) -> 0 | N41: =COUNTIFS($O$7:$O$35,N$39,$F$7:$F$35,$F41) -> 2 | O41: =COUNTIFS($O$7:$O$35,O$39,$F$7:$F$35,$F41) -> 0 | P41: =COUNTIFS($O$7:$O$35,P$39,$F$7:$F$35,$F41) -> 0 | Q41: =SUM(H41:P41) -> 8
F42: WEDNESDAY | G42: =G41+1 -> 46106 | H42: =COUNTIFS($O$7:$O$35,H$39,$F$7:$F$35,$F42) -> 4 | I42: =COUNTIFS($O$7:$O$35,I$39,$F$7:$F$35,$F42) -> 0 | J42: =COUNTIFS($O$7:$O$35,J$39,$F$7:$F$35,$F42) -> 0 | K42: =COUNTIFS($O$7:$O$35,K$39,$F$7:$F$35,$F42) -> 0 | L42: =COUNTIFS($O$7:$O$35,L$39,$F$7:$F$35,$F42) -> 0 | M42: =COUNTIFS($O$7:$O$35,M$39,$F$7:$F$35,$F42) -> 0 | N42: =COUNTIFS($O$7:$O$35,N$39,$F$7:$F$35,$F42) -> 3 | O42: =COUNTIFS($O$7:$O$35,O$39,$F$7:$F$35,$F42) -> 0 | P42: =COUNTIFS($O$7:$O$35,P$39,$F$7:$F$35,$F42) -> 0 | Q42: =SUM(H42:P42) -> 7
F43: THURSDAY | G43: =G42+1 -> 46107 | H43: =COUNTIFS($O$7:$O$35,H$39,$F$7:$F$35,$F43) -> 0 | I43: =COUNTIFS($O$7:$O$35,I$39,$F$7:$F$35,$F43) -> 0 | J43: =COUNTIFS($O$7:$O$35,J$39,$F$7:$F$35,$F43) -> 0 | K43: =COUNTIFS($O$7:$O$35,K$39,$F$7:$F$35,$F43) -> 0 | L43: =COUNTIFS($O$7:$O$35,L$39,$F$7:$F$35,$F43) -> 0 | M43: =COUNTIFS($O$7:$O$35,M$39,$F$7:$F$35,$F43) -> 0 | N43: =COUNTIFS($O$7:$O$35,N$39,$F$7:$F$35,$F43) -> 0 | O43: =COUNTIFS($O$7:$O$35,O$39,$F$7:$F$35,$F43) -> 0 | P43: =COUNTIFS($O$7:$O$35,P$39,$F$7:$F$35,$F43) -> 0 | Q43: =SUM(H43:P43) -> 0
Q44: =SUM(Q40:Q43) -> 21

Sheet WK 2 FIXTURES
F3: Week Comm | G3: 46111 | H3: Wk 2 | U3: Playing | X3: Umpiring
B4: Playing | D4: Umpiring | U4: Home | V4: Away | X4: Home | Y4: Away
B5: Home | C5: Away | D5: Home | E5: Away | F5: Day | G5: Date | H5: Div | I5: Team Num | J5: Home Team | L5: Away Team | M5: Umpire 1 | N5: Umpire 2 | O5: Venue | P5: UMP1 | Q5: UMP2
B7: =I7 -> 4 | C7: =K7 -> 7 | D7: =P7 -> 1 | E7: =Q7 -> 2 | F7: =VLOOKUP(I7,TEAMS!A3:D56,4,0) -> Tuesday | G7: =VLOOKUP(F7,$F$40:$G$43,2,FALSE) -> 46112 | H7: 1 | I7: 4 | J7: =VLOOKUP($I7,TEAMS!$A$3:$D$56,2,0) -> Stars | K7: 7 | L7: =VLOOKUP($K7,TEAMS!$A$3:$D$56,2,0) -> Cromer Cobras | M7: =VLOOKUP($P7,TEAMS!$A$3:$D$56,2,0) -> NU Blue | N7: =VLOOKUP($Q7,TEAMS!$A$3:$D$56,2,0) -> NU White | O7: =VLOOKUP($I7,TEAMS!$A$3:$D$56,3,0) -> UEA | P7: 1 | Q7: 2
B8: =I8 -> 8 | C8: =K8 -> 2 | D8: =P8 -> 6 | E8: =Q8 -> 3 | F8: =VLOOKUP(I8,TEAMS!A4:D57,4,0) -> Wednesday | G8: =VLOOKUP(F8,$F$40:$G$43,2,FALSE) -> 46113 | H8: 1 | I8: 8 | J8: =VLOOKUP($I8,TEAMS!$A$3:$D$56,2,0) -> Jets | K8: 2 | L8: =VLOOKUP($K8,TEAMS!$A$3:$D$56,2,0) -> NU White | M8: =VLOOKUP($P8,TEAMS!$A$3:$D$56,2,0) -> Red Knights | N8: =VLOOKUP($Q8,TEAMS!$A$3:$D$56,2,0) -> TB Mustangs | O8: =VLOOKUP($I8,TEAMS!$A$3:$D$56,3,0) -> UEA | P8: 6 | Q8: 3
B9: =I9 -> 1 | C9: =K9 -> 5 | D9: =P9 -> 4 | E9: =Q9 -> 12 | F9: =VLOOKUP(I9,TEAMS!A3:D56,4,0) -> Wednesday | G9: =VLOOKUP(F9,$F$40:$G$43,2,FALSE) -> 46113 | H9: 1 | I9: 1 | J9: =VLOOKUP($I9,TEAMS!$A$3:$D$56,2,0) -> NU Blue | K9: 5 | L9: =VLOOKUP($K9,TEAMS!$A$3:$D$56,2,0) -> TB Racers | M9: =VLOOKUP($P9,TEAMS!$A$3:$D$56,2,0) -> Stars | N9: =VLOOKUP($Q9,TEAMS!$A$3:$D$56,2,0) -> NU Yellow | O9: =VLOOKUP($I9,TEAMS!$A$3:$D$56,3,0) -> UEA | P9: 4 | Q9: 12
B10: =I10 -> 6 | C10: =K10 -> 3 | D10: =P10 -> 5 | E10: =Q10 -> 18 | F10: =VLOOKUP(I10,TEAMS!A5:D56,4,0) -> Tuesday | G10: =VLOOKUP(F10,$F$40:$G$43,2,FALSE) -> 46112 | H10: 1 | I10: 6 | J10: =VLOOKUP($I10,TEAMS!$A$3:$D$56,2,0) -> Red Knights | K10: 3 | L10: =VLOOKUP($K10,TEAMS!$A$3:$D$56,2,0) -> TB Mustangs | M10: =VLOOKUP($P10,TEAMS!$A$3:$D$56,2,0) -> TB Racers | N10: =VLOOKUP($Q10,TEAMS!$A$3:$D$56,2,0) -> Venus | O10: UEA | P10: 5 | Q10: 18
B12: =I12 -> 14 | C12: =K12 -> 11 | D12: =P12 -> 8 | E12: =Q12 -> 10 | F12: Tuesday | G12: =VLOOKUP(F12,$F$40:$G$43,2,FALSE) -> 46112 | H12: 2 | I12: 14 | J12: =VLOOKUP($I12,TEAMS!$A$3:$D$56,2,0) -> NU Royal | K12: 11 | L12: =VLOOKUP($K12,TEAMS!$A$3:$D$56,2,0) -> TB Colts | M12: =VLOOKUP($P12,TEAMS!$A$3:$D$56,2,0) -> Jets | N12: =VLOOKUP($Q12,TEAMS!$A$3:$D$56,2,0) -> Black Knights | O12: Hellesdon High | P12: 8 | Q12: 10
B13: =I13 -> 12 | C13: =K13 -> 9 | D13: =P13 -> 25 | E13: =Q13 -> 26 | F13: =VLOOKUP(I13,TEAMS!A9:D62,4,0) -> Tuesday | G13: =VLOOKUP(F13,$F$40:$G$43,2,FALSE) -> 46112 | H13: 2 | I13: 12 | J13: =VLOOKUP($I13,TEAMS!$A$3:$D$56,2,0) -> NU Yellow | K13: 9 | L13: =VLOOKUP($K13,TEAMS!$A$3:$D$56,2,0) -> Phoenix | M13: =VLOOKUP($P13,TEAMS!$A$3:$D$56,2,0) -> NU Ruby | N13: =VLOOKUP($Q13,TEAMS!$A$3:$D$56,2,0) -> TB Shetlands | O13: =VLOOKUP($I13,TEAMS!$A$3:$D$56,3,0) -> UEA | P13: 25 | Q13: 26
B14: =I14 -> 13 | C14: =K14 -> 16 | D14: =P14 -> 46 | E14: =Q14 -> 34 | F14: =VLOOKUP(I14,TEAMS!A10:D63,4,0) -> Tuesday | G14: =VLOOKUP(F14,$F$40:$G$43,2,FALSE) -> 46112 | H14: 2 | I14: 13 | J14: =VLOOKUP($I14,TEAMS!$A$3:$D$56,2,0) -> Sonics | K14: 16 | L14: =VLOOKUP($K14,TEAMS!$A$3:$D$56,2,0) -> Sirens | M14: =VLOOKUP($P14,TEAMS!$A$3:$D$56,2,0) -> Doves | N14: =VLOOKUP($Q14,TEAMS!$A$3:$D$56,2,0) -> NU Amber | O14: Hellesdon High | P14: 46 | Q14: 34
B15: =I15 -> 15 | C15: =K15 -> 10 | D15: =P15 -> 11 | E15: =Q15 -> 20 | F15: =VLOOKUP(I15,TEAMS!A11:D64,4,0) -> Monday | G15: =VLOOKUP(F15,$F$40:$G$43,2,FALSE) -> 46111 | H15: 2 | I15: 15 | J15: =VLOOKUP($I15,TEAMS!$A$3:$D$56,2,0) -> Cliff Park | K15: 10 | L15: =VLOOKUP($K15,TEAMS!$A$3:$D$56,2,0) -> Black Knights | M15: =VLOOKUP($P15,TEAMS!$A$3:$D$56,2,0) -> TB Colts | N15: =VLOOKUP($Q15,TEAMS!$A$3:$D$56,2,0) -> White Knights | O15: =VLOOKUP($I15,TEAMS!$A$3:$D$56,3,0) -> Open | P15: 11 | Q15: 20
B17: =I17 -> 24 | C17: =K17 -> 20 | D17: =P17 -> 7 | E17: =Q17 -> 13 | F17: =VLOOKUP(I17,TEAMS!A15:D68,4,0) -> Wednesday | G17: =VLOOKUP(F17,$F$40:$G$43,2,FALSE) -> 46113 | H17: 3 | I17: 24 | J17: =VLOOKUP($I17,TEAMS!$A$3:$D$56,2,0) -> Icenians | K17: 20 | L17: =VLOOKUP($K17,TEAMS!$A$3:$D$56,2,0) -> White Knights | M17: =VLOOKUP($P17,TEAMS!$A$3:$D$56,2,0) -> Cromer Cobras | N17: =VLOOKUP($Q17,TEAMS!$A$3:$D$56,2,0) -> Sonics | O17: =VLOOKUP($I17,TEAMS!$A$3:$D$56,3,0) -> Open | P17: 7 | Q17: 13
B18: =I18 -> 17 | C18: =K18 -> 22 | D18: =P18 -> 21 | E18: =Q18 -> 33 | F18: =VLOOKUP(I18,TEAMS!A16:D69,4,0) -> Tuesday | G18: =VLOOKUP(F18,$F$40:$G$43,2,FALSE) -> 46112 | H18: 3 | I18: 17 | J18: =VLOOKUP($I18,TEAMS!$A$3:$D$56,2,0) -> Blades | K18: 22 | L18: =VLOOKUP($K18,TEAMS!$A$3:$D$56,2,0) -> Wrens | M18: =VLOOKUP($P18,TEAMS!$A$3:$D$56,2,0) -> Belton | N18: =VLOOKUP($Q18,TEAMS!$A$3:$D$56,2,0) -> Hornets | O18: =VLOOKUP($I18,TEAMS!$A$3:$D$56,3,0) -> Open | P18: 21 | Q18: 33
B19: =I19 -> 21 | C19: =K19 -> 18 | D19: =P19 -> 14 | E19: =Q19 -> 16 | F19: =VLOOKUP(I19,TEAMS!A13:D66,4,0) -> Monday | G19: =VLOOKUP(F19,$F$40:$G$43,2,FALSE) -> 46111 | H19: 3 | I19: 21 | J19: =VLOOKUP($I19,TEAMS!$A$3:$D$56,2,0) -> Belton | K19: 18 | L19: =VLOOKUP($K19,TEAMS!$A$3:$D$56,2,0) -> Venus | M19: =VLOOKUP($P19,TEAMS!$A$3:$D$56,2,0) -> NU Royal | N19: =VLOOKUP($Q19,TEAMS!$A$3:$D$56,2,0) -> Sirens | O19: =VLOOKUP($I19,TEAMS!$A$3:$D$56,3,0) -> Open | P19: 14 | Q19: 16
B20: =I20 -> 23 | C20: =K20 -> 19 | D20: =P20 -> 36 | E20: =Q20 -> 38 | F20: =VLOOKUP(I20,TEAMS!A14:D67,4,0) -> Tuesday | G20: =VLOOKUP(F20,$F$40:$G$43,2,FALSE) -> 46112 | H20: 3 | I20: 23 | J20: =VLOOKUP($I20,TEAMS!$A$3:$D$56,2,0) -> Hotshots | K20: 19 | L20: =VLOOKUP($K20,TEAMS!$A$3:$D$56,2,0) -> Premier | M20: =VLOOKUP($P20,TEAMS!$A$3:$D$56,2,0) -> TB Fillies | N20: =VLOOKUP($Q20,TEAMS!$A$3:$D$56,2,0) -> NU Red | O20: =VLOOKUP($I20,TEAMS!$A$3:$D$56,3,0) -> Open | P20: 36 | Q20: 38
B22: =I22 -> 28 | C22: =K22 -> 26 | D22: =P22 -> 9 | E22: =Q22 -> 17 | F22: Wednesday | G22: =VLOOKUP(F22,$F$40:$G$43,2,FALSE) -> 46113 | H22: 4 | I22: 28 | J22: =VLOOKUP($I22,TEAMS!$A$3:$D$56,2,0) -> Hethersett Rockets | K22: 26 | L22: =VLOOKUP($K22,TEAMS!$A$3:$D$56,2,0) -> TB Shetlands | M22: =VLOOKUP($P22,TEAMS!$A$3:$D$56,2,0) -> Phoenix | N22: =VLOOKUP($Q22,TEAMS!$A$3:$D$56,2,0) -> Blades | O22: =VLOOKUP($I22,TEAMS!$A$3:$D$56,3,0) -> Hellesdon High | P22: 9 | Q22: 17
B23: =I23 -> 30 | C23: =K23 -> 32 | D23: =P23 -> 15 | E23: =Q23 -> 24 | F23: =VLOOKUP(I23,TEAMS!A21:D76,4,0) -> Tuesday | G23: =VLOOKUP(F23,$F$40:$G$43,2,FALSE) -> 46112 | H23: 4 | I23: 30 | J23: =VLOOKUP($I23,TEAMS!$A$3:$D$56,2,0) -> Watton Wolves | K23: 32 | L23: =VLOOKUP($K23,TEAMS!$A$3:$D$56,2,0) -> Red Hot Chillies | M23: =VLOOKUP($P23,TEAMS!$A$3:$D$56,2,0) -> Cliff Park | N23: =VLOOKUP($Q23,TEAMS!$A$3:$D$56,2,0) -> Icenians | O23: =VLOOKUP($I23,TEAMS!$A$3:$D$56,3,0) -> UEA | P23: 15 | Q23: 24
B24: =I24 -> 25 | C24: =K24 -> 27 | D24: =P24 -> 19 | E24: =Q24 -> 22 | F24: =VLOOKUP(I24,TEAMS!A18:D73,4,0) -> Wednesday | G24: =VLOOKUP(F24,$F$40:$G$43,2,FALSE) -> 46113 | H24: 4 | I24: 25 | J24: =VLOOKUP($I24,TEAMS!$A$3:$D$56,2,0) -> NU Ruby | K24: 27 | L24: =VLOOKUP($K24,TEAMS!$A$3:$D$56,2,0) -> Falcons | M24: =VLOOKUP($P24,TEAMS!$A$3:$D$56,2,0) -> Premier | N24: =VLOOKUP($Q24,TEAMS!$A$3:$D$56,2,0) -> Wrens | O24: =VLOOKUP($I24,TEAMS!$A$3:$D$56,3,0) -> UEA | P24: 19 | Q24: 22
B25: =I25 -> 29 | C25: =K25 -> 31 | D25: =P25 -> 23 | E25: =Q25 -> 0 | F25: Wednesday | G25: =VLOOKUP(F25,$F$40:$G$43,2,FALSE) -> 46113 | H25: 4 | I25: 29 | J25: =VLOOKUP($I25,TEAMS!$A$3:$D$56,2,0) -> NCF Emerald | K25: 31 | L25: =VLOOKUP($K25,TEAMS!$A$3:$D$56,2,0) -> Trailblazers | M25: =VLOOKUP($P25,TEAMS!$A$3:$D$56,2,0) -> Hotshots | N25: =VLOOKUP($Q25,TEAMS!$A$3:$D$56,2,0) -> #N/A | O25: =VLOOKUP($I25,TEAMS!$A$3:$D$56,3,0) -> Hellesdon High | P25: 23
B27: =I27 -> 36 | C27: =K27 -> 39 | D27: =P27 -> 28 | E27: =Q27 -> 29 | F27: Monday | G27: =VLOOKUP(F27,$F$40:$G$43,2,FALSE) -> 46111 | H27: 5 | I27: 36 | J27: =VLOOKUP($I27,TEAMS!$A$3:$D$56,2,0) -> TB Fillies | K27: 39 | L27: =VLOOKUP($K27,TEAMS!$A$3:$D$56,2,0) -> Tigers | M27: =VLOOKUP($P27,TEAMS!$A$3:$D$56,2,0) -> Hethersett Rockets | N27: =VLOOKUP($Q27,TEAMS!$A$3:$D$56,2,0) -> NCF Emerald | O27: Open | P27: 28 | Q27: 29
B28: =I28 -> 40 | C28: =K28 -> 34 | D28: =P28 -> 0 | E28: =Q28 -> 0 | F28: =VLOOKUP(I28,TEAMS!A23:D78,4,0) -> 0 | G28: =VLOOKUP(F28,$F$40:$G$43,2,FALSE) -> #N/A | H28: 5 | I28: 40 | J28: =VLOOKUP($I28,TEAMS!$A$3:$D$56,2,0) -> BYE WEEK | K28: 34 | L28: =VLOOKUP($K28,TEAMS!$A$3:$D$56,2,0) -> NU Amber | M28: =VLOOKUP($P28,TEAMS!$A$3:$D$56,2,0) -> #N/A | N28: =VLOOKUP($Q28,TEAMS!$A$3:$D$56,2,0) -> #N/A
B29: =I29 -> 33 | C29: =K29 -> 37 | D29: =P29 -> 27 | E29: =Q29 -> 30 | F29: =VLOOKUP(I29,TEAMS!A24:D79,4,0) -> Monday | G29: =VLOOKUP(F29,$F$40:$G$43,2,FALSE) -> 46111 | H29: 5 | I29: 33 | J29: =VLOOKUP($I29,TEAMS!$A$3:$D$56,2,0) -> Hornets | K29: 37 | L29: =VLOOKUP($K29,TEAMS!$A$3:$D$56,2,0) -> First Home Improvements | M29: =VLOOKUP($P29,TEAMS!$A$3:$D$56,2,0) -> Falcons | N29: =VLOOKUP($Q29,TEAMS!$A$3:$D$56,2,0) -> Watton Wolves | O29: =VLOOKUP($I29,TEAMS!$A$3:$D$56,3,0) -> Open | P29: 27 | Q29: 30
B30: =I30 -> 35 | C30: =K30 -> 38 | D30: =P30 -> 32 | E30: =Q30 -> 37 | F30: Wednesday | G30: =VLOOKUP(F30,$F$40:$G$43,2,FALSE) -> 46113 | H30: 5 | I30: 35 | J30: =VLOOKUP($I30,TEAMS!$A$3:$D$56,2,0) -> Gems | K30: 38 | L30: =VLOOKUP($K30,TEAMS!$A$3:$D$56,2,0) -> NU Red | M30: =VLOOKUP($P30,TEAMS!$A$3:$D$56,2,0) -> Red Hot Chillies | N30: =VLOOKUP($Q30,TEAMS!$A$3:$D$56,2,0) -> First Home Improvements | O30: UEA | P30: 32 | Q30: 37
B31: =I32 -> 44 | C31: =K32 -> 47 | D31: =P32 -> 0 | E31: =Q32 -> 0
B32: =I33 -> 48 | C32: =K33 -> 42 | D32: =P33 -> 0 | E32: =Q33 -> 0 | G32: =VLOOKUP(F32,$F$40:$G$43,2,FALSE) -> #N/A | H32: 6 | I32: 44 | J32: =VLOOKUP($I32,TEAMS!$A$3:$D$56,2,0) -> Cromer Vipers | K32: 47 | L32: =VLOOKUP($K32,TEAMS!$A$3:$D$56,2,0) -> BYE WEEK | M32: =VLOOKUP($P32,TEAMS!$A$3:$D$56,2,0) -> #N/A | N32: =VLOOKUP($Q32,TEAMS!$A$3:$D$56,2,0) -> #N/A
B33: =I34 -> 41 | C33: =K34 -> 45 | D33: =P34 -> 43 | E33: =Q34 -> 35 | F33: =VLOOKUP(I33,TEAMS!A28:D83,4,0) -> 0 | G33: =VLOOKUP(F33,$F$40:$G$43,2,FALSE) -> #N/A | H33: 6 | I33: 48 | J33: =VLOOKUP($I33,TEAMS!$A$3:$D$56,2,0) -> BYE WEEK | K33: 42 | L33: =VLOOKUP($K33,TEAMS!$A$3:$D$56,2,0) -> TB Ponies | M33: =VLOOKUP($P33,TEAMS!$A$3:$D$56,2,0) -> #N/A | N33: =VLOOKUP($Q33,TEAMS!$A$3:$D$56,2,0) -> #N/A
F34: =VLOOKUP(I34,TEAMS!A29:D84,4,0) -> Monday | G34: =VLOOKUP(F34,$F$40:$G$43,2,FALSE) -> 46111 | H34: 6 | I34: 41 | J34: =VLOOKUP($I34,TEAMS!$A$3:$D$56,2,0) -> Dragons | K34: 45 | L34: =VLOOKUP($K34,TEAMS!$A$3:$D$56,2,0) -> NCF Onyx | M34: =VLOOKUP($P34,TEAMS!$A$3:$D$56,2,0) -> Trowse | N34: =VLOOKUP($Q34,TEAMS!$A$3:$D$56,2,0) -> Gems | O34: =VLOOKUP($I34,TEAMS!$A$3:$D$56,3,0) -> Hellesdon High | P34: 43 | Q34: 35
F35: =VLOOKUP(I35,TEAMS!A30:D85,4,0) -> Thursday | G35: =VLOOKUP(F35,$F$40:$G$43,2,FALSE) -> 46114 | H35: 6 | I35: 43 | J35: =VLOOKUP($I35,TEAMS!$A$3:$D$56,2,0) -> Trowse | K35: 46 | L35: =VLOOKUP($K35,TEAMS!$A$3:$D$56,2,0) -> Doves | M35: =VLOOKUP($P35,TEAMS!$A$3:$D$56,2,0) -> Dragons | N35: =VLOOKUP($Q35,TEAMS!$A$3:$D$56,2,0) -> Cromer Vipers | O35: =VLOOKUP($I35,TEAMS!$A$3:$D$56,3,0) -> Hellesdon High | P35: 41 | Q35: 44
G37: where indicated the date or venue has changed
G39: Date | H39: UEA | I39: HELLESDON CC | J39: HEWETT | K39: OPEN | L39: CITY | M39: OLD CATTON | N39: Hellesdon High | O39: SPROWSTON | P39: THORPE
F40: MONDAY | G40: =G3 -> 46111 | H40: =COUNTIFS($O$7:$O$35,H$39,$F$7:$F$35,$F40) -> 0 | I40: =COUNTIFS($O$7:$O$35,I$39,$F$7:$F$35,$F40) -> 0 | J40: =COUNTIFS($O$7:$O$35,J$39,$F$7:$F$35,$F40) -> 0 | K40: =COUNTIFS($O$7:$O$35,K$39,$F$7:$F$35,$F40) -> 4 | L40: =COUNTIFS($O$7:$O$35,L$39,$F$7:$F$35,$F40) -> 0 | M40: =COUNTIFS($O$7:$O$35,M$39,$F$7:$F$35,$F40) -> 0 | N40: =COUNTIFS($O$7:$O$35,N$39,$F$7:$F$35,$F40) -> 1 | O40: =COUNTIFS($O$7:$O$35,O$39,$F$7:$F$35,$F40) -> 0 | P40: =COUNTIFS($O$7:$O$35,P$39,$F$7:$F$35,$F40) -> 0 | Q40: =SUM(H40:P40) -> 5
F41: TUESDAY | G41: =G40+1 -> 46112 | H41: =COUNTIFS($O$7:$O$35,H$39,$F$7:$F$35,$F41) -> 4 | I41: =COUNTIFS($O$7:$O$35,I$39,$F$7:$F$35,$F41) -> 0 | J41: =COUNTIFS($O$7:$O$35,J$39,$F$7:$F$35,$F41) -> 0 | K41: =COUNTIFS($O$7:$O$35,K$39,$F$7:$F$35,$F41) -> 2 | L41: =COUNTIFS($O$7:$O$35,L$39,$F$7:$F$35,$F41) -> 0 | M41: =COUNTIFS($O$7:$O$35,M$39,$F$7:$F$35,$F41) -> 0 | N41: =COUNTIFS($O$7:$O$35,N$39,$F$7:$F$35,$F41) -> 2 | O41: =COUNTIFS($O$7:$O$35,O$39,$F$7:$F$35,$F41) -> 0 | P41: =COUNTIFS($O$7:$O$35,P$39,$F$7:$F$35,$F41) -> 0 | Q41: =SUM(H41:P41) -> 8
F42: WEDNESDAY | G42: =G41+1 -> 46113 | H42: =COUNTIFS($O$7:$O$35,H$39,$F$7:$F$35,$F42) -> 4 | I42: =COUNTIFS($O$7:$O$35,I$39,$F$7:$F$35,$F42) -> 0 | J42: =COUNTIFS($O$7:$O$35,J$39,$F$7:$F$35,$F42) -> 0 | K42: =COUNTIFS($O$7:$O$35,K$39,$F$7:$F$35,$F42) -> 1 | L42: =COUNTIFS($O$7:$O$35,L$39,$F$7:$F$35,$F42) -> 0 | M42: =COUNTIFS($O$7:$O$35,M$39,$F$7:$F$35,$F42) -> 0 | N42: =COUNTIFS($O$7:$O$35,N$39,$F$7:$F$35,$F42) -> 2 | O42: =COUNTIFS($O$7:$O$35,O$39,$F$7:$F$35,$F42) -> 0 | P42: =COUNTIFS($O$7:$O$35,P$39,$F$7:$F$35,$F42) -> 0 | Q42: =SUM(H42:P42) -> 7
F43: THURSDAY | G43: =G42+1 -> 46114 | H43: =COUNTIFS($O$7:$O$35,H$39,$F$7:$F$35,$F43) -> 0 | I43: =COUNTIFS($O$7:$O$35,I$39,$F$7:$F$35,$F43) -> 0 | J43: =COUNTIFS($O$7:$O$35,J$39,$F$7:$F$35,$F43) -> 0 | K43: =COUNTIFS($O$7:$O$35,K$39,$F$7:$F$35,$F43) -> 0 | L43: =COUNTIFS($O$7:$O$35,L$39,$F$7:$F$35,$F43) -> 0 | M43: =COUNTIFS($O$7:$O$35,M$39,$F$7:$F$35,$F43) -> 0 | N43: =COUNTIFS($O$7:$O$35,N$39,$F$7:$F$35,$F43) -> 1 | O43: =COUNTIFS($O$7:$O$35,O$39,$F$7:$F$35,$F43) -> 0 | P43: =COUNTIFS($O$7:$O$35,P$39,$F$7:$F$35,$F43) -> 0 | Q43: =SUM(H43:P43) -> 1
Q44: =SUM(Q40:Q43) -> 21

Sheet WK 3 FIXTURES
F3: Week Comm | G3: 46125 | H3: Wk 3
B4: Playing | D4: Umpiring
B5: Home | C5: Away | D5: Home | E5: Away | F5: Day | G5: Date | H5: Div | I5: Team Num | J5: Home Team | L5: Away Team | M5: Umpire 1 | N5: Umpire 2 | O5: Venue | P5: UMP1 | Q5: UMP2
B7: =I7 -> 8 | C7: =K7 -> 7 | D7: =P7 -> 4 | E7: =Q7 -> 6 | F7: =VLOOKUP(I7,TEAMS!A3:D56,4,0) -> Wednesday | G7: =VLOOKUP(F7,$F$40:$G$43,2,FALSE) -> 46127 | H7: 1 | I7: 8 | J7: =VLOOKUP($I7,TEAMS!$A$3:$D$56,2,0) -> Jets | K7: 7 | L7: =VLOOKUP($K7,TEAMS!$A$3:$D$56,2,0) -> Cromer Cobras | M7: =VLOOKUP($P7,TEAMS!$A$3:$D$56,2,0) -> Stars | N7: =VLOOKUP($Q7,TEAMS!$A$3:$D$56,2,0) -> Red Knights | O7: =VLOOKUP($I7,TEAMS!$A$3:$D$56,3,0) -> UEA | P7: 4 | Q7: 6
B8: =I8 -> 4 | C8: =K8 -> 6 | D8: =P8 -> 1 | E8: =Q8 -> 5 | F8: =VLOOKUP(I8,TEAMS!A3:D56,4,0) -> Tuesday | G8: =VLOOKUP(F8,$F$40:$G$43,2,FALSE) -> 46126 | H8: 1 | I8: 4 | J8: =VLOOKUP($I8,TEAMS!$A$3:$D$56,2,0) -> Stars | K8: 6 | L8: =VLOOKUP($K8,TEAMS!$A$3:$D$56,2,0) -> Red Knights | M8: =VLOOKUP($P8,TEAMS!$A$3:$D$56,2,0) -> NU Blue | N8: =VLOOKUP($Q8,TEAMS!$A$3:$D$56,2,0) -> TB Racers | O8: =VLOOKUP($I8,TEAMS!$A$3:$D$56,3,0) -> UEA | P8: 1 | Q8: 5
B9: =I9 -> 1 | C9: =K9 -> 2 | D9: =P9 -> 11 | E9: =Q9 -> 12 | F9: =VLOOKUP(I9,TEAMS!A3:D56,4,0) -> Wednesday | G9: =VLOOKUP(F9,$F$40:$G$43,2,FALSE) -> 46127 | H9: 1 | I9: 1 | J9: =VLOOKUP($I9,TEAMS!$A$3:$D$56,2,0) -> NU Blue | K9: 2 | L9: =VLOOKUP($K9,TEAMS!$A$3:$D$56,2,0) -> NU White | M9: =VLOOKUP($P9,TEAMS!$A$3:$D$56,2,0) -> TB Colts | N9: =VLOOKUP($Q9,TEAMS!$A$3:$D$56,2,0) -> NU Yellow | O9: =VLOOKUP($I9,TEAMS!$A$3:$D$56,3,0) -> UEA | P9: 11 | Q9: 12
B10: =I10 -> 3 | C10: =K10 -> 5 | D10: =P10 -> 13 | E10: =Q10 -> 16 | F10: =VLOOKUP(I10,TEAMS!A5:D56,4,0) -> Wednesday | G10: =VLOOKUP(F10,$F$40:$G$43,2,FALSE) -> 46127 | H10: 1 | I10: 3 | J10: =VLOOKUP($I10,TEAMS!$A$3:$D$56,2,0) -> TB Mustangs | K10: 5 | L10: =VLOOKUP($K10,TEAMS!$A$3:$D$56,2,0) -> TB Racers | M10: =VLOOKUP($P10,TEAMS!$A$3:$D$56,2,0) -> Sonics | N10: =VLOOKUP($Q10,TEAMS!$A$3:$D$56,2,0) -> Sirens | O10: =VLOOKUP($I10,TEAMS!$A$3:$D$56,3,0) -> Sprowston | P10: 13 | Q10: 16
B12: =I12 -> 15 | C12: =K12 -> 12 | D12: =P12 -> 2 | E12: =Q12 -> 3 | F12: =VLOOKUP(I12,TEAMS!A8:D61,4,0) -> Monday | G12: =VLOOKUP(F12,$F$40:$G$43,2,FALSE) -> 46125 | H12: 2 | I12: 15 | J12: =VLOOKUP($I12,TEAMS!$A$3:$D$56,2,0) -> Cliff Park | K12: 12 | L12: =VLOOKUP($K12,TEAMS!$A$3:$D$56,2,0) -> NU Yellow | M12: =VLOOKUP($P12,TEAMS!$A$3:$D$56,2,0) -> NU White | N12: =VLOOKUP($Q12,TEAMS!$A$3:$D$56,2,0) -> TB Mustangs | O12: =VLOOKUP($I12,TEAMS!$A$3:$D$56,3,0) -> Open | P12: 2 | Q12: 3
B13: =I13 -> 9 | C13: =K13 -> 14 | D13: =P13 -> 8 | E13: =Q13 -> 23 | F13: =VLOOKUP(I13,TEAMS!A10:D63,4,0) -> Tuesday | G13: =VLOOKUP(F13,$F$40:$G$43,2,FALSE) -> 46126 | H13: 2 | I13: 9 | J13: =VLOOKUP($I13,TEAMS!$A$3:$D$56,2,0) -> Phoenix | K13: 14 | L13: =VLOOKUP($K13,TEAMS!$A$3:$D$56,2,0) -> NU Royal | M13: =VLOOKUP($P13,TEAMS!$A$3:$D$56,2,0) -> Jets | N13: =VLOOKUP($Q13,TEAMS!$A$3:$D$56,2,0) -> Hotshots | O13: =VLOOKUP($I13,TEAMS!$A$3:$D$56,3,0) -> UEA | P13: 8 | Q13: 23
B14: =I14 -> 13 | C14: =K14 -> 10 | D14: =P14 -> 25 | E14: =Q14 -> 34 | F14: =VLOOKUP(I14,TEAMS!A9:D62,4,0) -> Tuesday | G14: =VLOOKUP(F14,$F$40:$G$43,2,FALSE) -> 46126 | H14: 2 | I14: 13 | J14: =VLOOKUP($I14,TEAMS!$A$3:$D$56,2,0) -> Sonics | K14: 10 | L14: =VLOOKUP($K14,TEAMS!$A$3:$D$56,2,0) -> Black Knights | M14: =VLOOKUP($P14,TEAMS!$A$3:$D$56,2,0) -> NU Ruby | N14: =VLOOKUP($Q14,TEAMS!$A$3:$D$56,2,0) -> NU Amber | O14: =VLOOKUP($I14,TEAMS!$A$3:$D$56,3,0) -> Open | P14: 25 | Q14: 34
B15: =I15 -> 16 | C15: =K15 -> 11 | D15: =P15 -> 10 | E15: =Q15 -> 14 | F15: =VLOOKUP(I15,TEAMS!A11:D64,4,0) -> Monday | G15: =VLOOKUP(F15,$F$40:$G$43,2,FALSE) -> 46125 | H15: 2 | I15: 16 | J15: =VLOOKUP($I15,TEAMS!$A$3:$D$56,2,0) -> Sirens | K15: 11 | L15: =VLOOKUP($K15,TEAMS!$A$3:$D$56,2,0) -> TB Colts | M15: =VLOOKUP($P15,TEAMS!$A$3:$D$56,2,0) -> Black Knights | N15: =VLOOKUP($Q15,TEAMS!$A$3:$D$56,2,0) -> NU Royal | O15: =VLOOKUP($I15,TEAMS!$A$3:$D$56,3,0) -> Open | P15: 10 | Q15: 14
B17: =I17 -> 24 | C17: =K17 -> 23 | D17: =P17 -> 18 | E17: =Q17 -> 19 | F17: =VLOOKUP(I17,TEAMS!A14:D67,4,0) -> Wednesday | G17: =VLOOKUP(F17,$F$40:$G$43,2,FALSE) -> 46127 | H17: 3 | I17: 24 | J17: =VLOOKUP($I17,TEAMS!$A$3:$D$56,2,0) -> Icenians | K17: 23 | L17: =VLOOKUP($K17,TEAMS!$A$3:$D$56,2,0) -> Hotshots | M17: =VLOOKUP($P17,TEAMS!$A$3:$D$56,2,0) -> Venus | N17: =VLOOKUP($Q17,TEAMS!$A$3:$D$56,2,0) -> Premier | O17: =VLOOKUP($I17,TEAMS!$A$3:$D$56,3,0) -> Open | P17: 18 | Q17: 19
B18: =I18 -> 19 | C18: =K18 -> 18 | D18: =P18 -> 7 | E18: =Q18 -> 21 | F18: Tuesday | G18: =VLOOKUP(F18,$F$40:$G$43,2,FALSE) -> 46126 | H18: 3 | I18: 19 | J18: =VLOOKUP($I18,TEAMS!$A$3:$D$56,2,0) -> Premier | K18: 18 | L18: =VLOOKUP($K18,TEAMS!$A$3:$D$56,2,0) -> Venus | M18: =VLOOKUP($P18,TEAMS!$A$3:$D$56,2,0) -> Cromer Cobras | N18: =VLOOKUP($Q18,TEAMS!$A$3:$D$56,2,0) -> Belton | O18: Hellesdon High | P18: 7 | Q18: 21
B19: =I19 -> 22 | C19: =K19 -> 20 | D19: =P19 -> 33 | E19: =Q19 -> 38 | F19: Tuesday | G19: =VLOOKUP(F19,$F$40:$G$43,2,FALSE) -> 46126 | H19: 3 | I19: 22 | J19: =VLOOKUP($I19,TEAMS!$A$3:$D$56,2,0) -> Wrens | K19: 20 | L19: =VLOOKUP($K19,TEAMS!$A$3:$D$56,2,0) -> White Knights | M19: =VLOOKUP($P19,TEAMS!$A$3:$D$56,2,0) -> Hornets | N19: =VLOOKUP($Q19,TEAMS!$A$3:$D$56,2,0) -> NU Red | O19: =VLOOKUP($I19,TEAMS!$A$3:$D$56,3,0) -> Open | P19: 33 | Q19: 38
B20: =I20 -> 17 | C20: =K20 -> 21 | D20: =P20 -> 20 | E20: =Q20 -> 26 | F20: Wednesday | G20: =VLOOKUP(F20,$F$40:$G$43,2,FALSE) -> 46127 | H20: 3 | I20: 17 | J20: =VLOOKUP($I20,TEAMS!$A$3:$D$56,2,0) -> Blades | K20: 21 | L20: =VLOOKUP($K20,TEAMS!$A$3:$D$56,2,0) -> Belton | M20: =VLOOKUP($P20,TEAMS!$A$3:$D$56,2,0) -> White Knights | N20: =VLOOKUP($Q20,TEAMS!$A$3:$D$56,2,0) -> TB Shetlands | O20: Hellesdon High | P20: 20 | Q20: 26
B22: =I22 -> 27 | C22: =K22 -> 26 | D22: =P22 -> 17 | E22: =Q22 -> 24 | F22: =VLOOKUP(I22,TEAMS!A19:D74,4,0) -> Tuesday | G22: =VLOOKUP(F22,$F$40:$G$43,2,FALSE) -> 46126 | H22: 4 | I22: 27 | J22: =VLOOKUP($I22,TEAMS!$A$3:$D$56,2,0) -> Falcons | K22: 26 | L22: =VLOOKUP($K22,TEAMS!$A$3:$D$56,2,0) -> TB Shetlands | M22: =VLOOKUP($P22,TEAMS!$A$3:$D$56,2,0) -> Blades | N22: =VLOOKUP($Q22,TEAMS!$A$3:$D$56,2,0) -> Icenians | O22: =VLOOKUP($I22,TEAMS!$A$3:$D$56,3,0) -> City | P22: 17 | Q22: 24
B23: =I23 -> 32 | C23: =K23 -> 29 | D23: =P23 -> 9 | E23: =Q23 -> 15 | F23: Wednesday | G23: =VLOOKUP(F23,$F$40:$G$43,2,FALSE) -> 46127 | H23: 4 | I23: 32 | J23: =VLOOKUP($I23,TEAMS!$A$3:$D$56,2,0) -> Red Hot Chillies | K23: 29 | L23: =VLOOKUP($K23,TEAMS!$A$3:$D$56,2,0) -> NCF Emerald | M23: =VLOOKUP($P23,TEAMS!$A$3:$D$56,2,0) -> Phoenix | N23: =VLOOKUP($Q23,TEAMS!$A$3:$D$56,2,0) -> Cliff Park | O23: =VLOOKUP($I23,TEAMS!$A$3:$D$56,3,0) -> Sprowston | P23: 9 | Q23: 15
B24: =I24 -> 30 | C24: =K24 -> 31 | D24: =P24 -> 28 | E24: =Q24 -> 29 | F24: =VLOOKUP(I24,TEAMS!A21:D76,4,0) -> Tuesday | G24: =VLOOKUP(F24,$F$40:$G$43,2,FALSE) -> 46126 | H24: 4 | I24: 30 | J24: =VLOOKUP($I24,TEAMS!$A$3:$D$56,2,0) -> Watton Wolves | K24: 31 | L24: =VLOOKUP($K24,TEAMS!$A$3:$D$56,2,0) -> Trailblazers | M24: =VLOOKUP($P24,TEAMS!$A$3:$D$56,2,0) -> Hethersett Rockets | N24: =VLOOKUP($Q24,TEAMS!$A$3:$D$56,2,0) -> NCF Emerald | O24: =VLOOKUP($I24,TEAMS!$A$3:$D$56,3,0) -> UEA | P24: 28 | Q24: 29
B25: =I25 -> 28 | C25: =K25 -> 25 | D25: =P25 -> 22 | E25: =Q25 -> 30 | F25: Wednesday | G25: =VLOOKUP(F25,$F$40:$G$43,2,FALSE) -> 46127 | H25: 4 | I25: 28 | J25: =VLOOKUP($I25,TEAMS!$A$3:$D$56,2,0) -> Hethersett Rockets | K25: 25 | L25: =VLOOKUP($K25,TEAMS!$A$3:$D$56,2,0) -> NU Ruby | M25: =VLOOKUP($P25,TEAMS!$A$3:$D$56,2,0) -> Wrens | N25: =VLOOKUP($Q25,TEAMS!$A$3:$D$56,2,0) -> Watton Wolves | O25: =VLOOKUP($I25,TEAMS!$A$3:$D$56,3,0) -> Hellesdon High | P25: 22 | Q25: 30
B27: =I27 -> 40 | C27: =K27 -> 39 | D27: =P27 -> 0 | E27: =Q27 -> 0 | F27: =VLOOKUP(I27,TEAMS!A25:D80,4,0) -> 0 | G27: =VLOOKUP(F27,$F$40:$G$43,2,FALSE) -> #N/A | H27: 5 | I27: 40 | J27: =VLOOKUP($I27,TEAMS!$A$3:$D$56,2,0) -> BYE WEEK | K27: 39 | L27: =VLOOKUP($K27,TEAMS!$A$3:$D$56,2,0) -> Tigers | M27: =VLOOKUP($P27,TEAMS!$A$3:$D$56,2,0) -> #N/A | N27: =VLOOKUP($Q27,TEAMS!$A$3:$D$56,2,0) -> #N/A | O27: =VLOOKUP($I27,TEAMS!$A$3:$D$56,3,0) -> 0
B28: =I28 -> 36 | C28: =K28 -> 38 | D28: =P28 -> 35 | E28: =Q28 -> 37 | F28: =VLOOKUP(I28,TEAMS!A23:D78,4,0) -> Thursday | G28: =VLOOKUP(F28,$F$40:$G$43,2,FALSE) -> 46128 | H28: 5 | I28: 36 | J28: =VLOOKUP($I28,TEAMS!$A$3:$D$56,2,0) -> TB Fillies | K28: 38 | L28: =VLOOKUP($K28,TEAMS!$A$3:$D$56,2,0) -> NU Red | M28: =VLOOKUP($P28,TEAMS!$A$3:$D$56,2,0) -> Gems | N28: =VLOOKUP($Q28,TEAMS!$A$3:$D$56,2,0) -> First Home Improvements | O28: =VLOOKUP($I28,TEAMS!$A$3:$D$56,3,0) -> Sprowston | P28: 35 | Q28: 37
B29: =I29 -> 33 | C29: =K29 -> 34 | D29: =P29 -> 36 | E29: =Q29 -> 31 | F29: =VLOOKUP(I29,TEAMS!A24:D79,4,0) -> Monday | G29: =VLOOKUP(F29,$F$40:$G$43,2,FALSE) -> 46125 | H29: 5 | I29: 33 | J29: =VLOOKUP($I29,TEAMS!$A$3:$D$56,2,0) -> Hornets | K29: 34 | L29: =VLOOKUP($K29,TEAMS!$A$3:$D$56,2,0) -> NU Amber | M29: =VLOOKUP($P29,TEAMS!$A$3:$D$56,2,0) -> TB Fillies | N29: =VLOOKUP($Q29,TEAMS!$A$3:$D$56,2,0) -> Trailblazers | O29: =VLOOKUP($I29,TEAMS!$A$3:$D$56,3,0) -> Open | P29: 36 | Q29: 31
B30: =I30 -> 35 | C30: =K30 -> 37 | D30: =P30 -> 32 | E30: =Q30 -> 20 | F30: =VLOOKUP(I30,TEAMS!A26:D81,4,0) -> Monday | G30: =VLOOKUP(F30,$F$40:$G$43,2,FALSE) -> 46125 | H30: 5 | I30: 35 | J30: =VLOOKUP($I30,TEAMS!$A$3:$D$56,2,0) -> Gems | K30: 37 | L30: =VLOOKUP($K30,TEAMS!$A$3:$D$56,2,0) -> First Home Improvements | M30: =VLOOKUP($P30,TEAMS!$A$3:$D$56,2,0) -> Red Hot Chillies | N30: =VLOOKUP($Q30,TEAMS!$A$3:$D$56,2,0) -> White Knights | O30: =VLOOKUP($I30,TEAMS!$A$3:$D$56,3,0) -> Hewett | P30: 32 | Q30: 20
B31: =I32 -> 48 | C31: =K32 -> 47 | D31: =P32 -> 0 | E31: =Q32 -> 0
B32: =I33 -> 44 | C32: =K33 -> 46 | D32: =P33 -> 39 | E32: =Q33 -> 43 | F32: =VLOOKUP(I32,TEAMS!A27:D82,4,0) -> 0 | G32: =VLOOKUP(F32,$F$40:$G$43,2,FALSE) -> #N/A | H32: 6 | I32: 48 | J32: =VLOOKUP($I32,TEAMS!$A$3:$D$56,2,0) -> BYE WEEK | K32: 47 | L32: =VLOOKUP($K32,TEAMS!$A$3:$D$56,2,0) -> BYE WEEK | M32: =VLOOKUP($P32,TEAMS!$A$3:$D$56,2,0) -> #N/A | N32: =VLOOKUP($Q32,TEAMS!$A$3:$D$56,2,0) -> #N/A | O32: =VLOOKUP($I32,TEAMS!$A$3:$D$56,3,0) -> 0
B33: =I34 -> 41 | C33: =K34 -> 42 | D33: =P34 -> 27 | E33: =Q34 -> 45 | F33: =VLOOKUP(I33,TEAMS!A28:D83,4,0) -> Monday | G33: =VLOOKUP(F33,$F$40:$G$43,2,FALSE) -> 46125 | H33: 6 | I33: 44 | J33: =VLOOKUP($I33,TEAMS!$A$3:$D$56,2,0) -> Cromer Vipers | K33: 46 | L33: =VLOOKUP($K33,TEAMS!$A$3:$D$56,2,0) -> Doves | M33: =VLOOKUP($P33,TEAMS!$A$3:$D$56,2,0) -> Tigers | N33: =VLOOKUP($Q33,TEAMS!$A$3:$D$56,2,0) -> Trowse | O33: =VLOOKUP($I33,TEAMS!$A$3:$D$56,3,0) -> Hellesdon High | P33: 39 | Q33: 43
F34: =VLOOKUP(I34,TEAMS!A29:D84,4,0) -> Monday | G34: =VLOOKUP(F34,$F$40:$G$43,2,FALSE) -> 46125 | H34: 6 | I34: 41 | J34: =VLOOKUP($I34,TEAMS!$A$3:$D$56,2,0) -> Dragons | K34: 42 | L34: =VLOOKUP($K34,TEAMS!$A$3:$D$56,2,0) -> TB Ponies | M34: =VLOOKUP($P34,TEAMS!$A$3:$D$56,2,0) -> Falcons | N34: =VLOOKUP($Q34,TEAMS!$A$3:$D$56,2,0) -> NCF Onyx | O34: =VLOOKUP($I34,TEAMS!$A$3:$D$56,3,0) -> Hellesdon High | P34: 27 | Q34: 45
F35: Wednesday | G35: =VLOOKUP(F35,$F$40:$G$43,2,FALSE) -> 46127 | H35: 6 | I35: 45 | J35: =VLOOKUP($I35,TEAMS!$A$3:$D$56,2,0) -> NCF Onyx | K35: 43 | L35: =VLOOKUP($K35,TEAMS!$A$3:$D$56,2,0) -> Trowse | M35: =VLOOKUP($P35,TEAMS!$A$3:$D$56,2,0) -> Dragons | N35: =VLOOKUP($Q35,TEAMS!$A$3:$D$56,2,0) -> Cromer Vipers | O35: =VLOOKUP($I35,TEAMS!$A$3:$D$56,3,0) -> Hellesdon High | P35: 41 | Q35: 44
G37: where indicated the date or venue has changed
G39: Date | H39: UEA | I39: HELLESDON CC | J39: HEWETT | K39: OPEN | L39: CITY | M39: OLD CATTON | N39: Hellesdon High | O39: SPROWSTON | P39: THORPE
F40: MONDAY | G40: =G3 -> 46125 | H40: =COUNTIFS($O$7:$O$35,H$39,$F$7:$F$35,$F40) -> 0 | I40: =COUNTIFS($O$7:$O$35,I$39,$F$7:$F$35,$F40) -> 0 | J40: =COUNTIFS($O$7:$O$35,J$39,$F$7:$F$35,$F40) -> 1 | K40: =COUNTIFS($O$7:$O$35,K$39,$F$7:$F$35,$F40) -> 3 | L40: =COUNTIFS($O$7:$O$35,L$39,$F$7:$F$35,$F40) -> 0 | M40: =COUNTIFS($O$7:$O$35,M$39,$F$7:$F$35,$F40) -> 0 | N40: =COUNTIFS($O$7:$O$35,N$39,$F$7:$F$35,$F40) -> 2 | O40: =COUNTIFS($O$7:$O$35,O$39,$F$7:$F$35,$F40) -> 0 | P40: =COUNTIFS($O$7:$O$35,P$39,$F$7:$F$35,$F40) -> 0 | Q40: =SUM(H40:P40) -> 6
F41: TUESDAY | G41: =G40+1 -> 46126 | H41: =COUNTIFS($O$7:$O$35,H$39,$F$7:$F$35,$F41) -> 3 | I41: =COUNTIFS($O$7:$O$35,I$39,$F$7:$F$35,$F41) -> 0 | J41: =COUNTIFS($O$7:$O$35,J$39,$F$7:$F$35,$F41) -> 0 | K41: 3 | L41: =COUNTIFS($O$7:$O$35,L$39,$F$7:$F$35,$F41) -> 1 | M41: =COUNTIFS($O$7:$O$35,M$39,$F$7:$F$35,$F41) -> 0 | N41: =COUNTIFS($O$7:$O$35,N$39,$F$7:$F$35,$F41) -> 1 | O41: =COUNTIFS($O$7:$O$35,O$39,$F$7:$F$35,$F41) -> 0 | P41: =COUNTIFS($O$7:$O$35,P$39,$F$7:$F$35,$F41) -> 0 | Q41: =SUM(H41:P41) -> 8
F42: WEDNESDAY | G42: =G41+1 -> 46127 | H42: =COUNTIFS($O$7:$O$35,H$39,$F$7:$F$35,$F42) -> 2 | I42: =COUNTIFS($O$7:$O$35,I$39,$F$7:$F$35,$F42) -> 0 | J42: =COUNTIFS($O$7:$O$35,J$39,$F$7:$F$35,$F42) -> 0 | L42: =COUNTIFS($O$7:$O$35,L$39,$F$7:$F$35,$F42) -> 0 | M42: =COUNTIFS($O$7:$O$35,M$39,$F$7:$F$35,$F42) -> 0 | N42: =COUNTIFS($O$7:$O$35,N$39,$F$7:$F$35,$F42) -> 3 | O42: =COUNTIFS($O$7:$O$35,O$39,$F$7:$F$35,$F42) -> 2 | P42: =COUNTIFS($O$7:$O$35,P$39,$F$7:$F$35,$F42) -> 0 | Q42: =SUM(H42:P42) -> 7
F43: THURSDAY | G43: =G42+1 -> 46128 | H43: =COUNTIFS($O$7:$O$35,H$39,$F$7:$F$35,$F43) -> 0 | I43: =COUNTIFS($O$7:$O$35,I$39,$F$7:$F$35,$F43) -> 0 | J43: =COUNTIFS($O$7:$O$35,J$39,$F$7:$F$35,$F43) -> 0 | K43: =COUNTIFS($O$7:$O$35,K$39,$F$7:$F$35,$F43) -> 0 | L43: =COUNTIFS($O$7:$O$35,L$39,$F$7:$F$35,$F43) -> 0 | M43: =COUNTIFS($O$7:$O$35,M$39,$F$7:$F$35,$F43) -> 0 | N43: =COUNTIFS($O$7:$O$35,N$39,$F$7:$F$35,$F43) -> 0 | O43: =COUNTIFS($O$7:$O$35,O$39,$F$7:$F$35,$F43) -> 1 | P43: =COUNTIFS($O$7:$O$35,P$39,$F$7:$F$35,$F43) -> 0 | Q43: =SUM(H43:P43) -> 1
Q44: =SUM(Q40:Q43) -> 22

Sheet WK 4 FIXTURES
F3: Week Comm | G3: 46132 | H3: Wk 4 | U3: Playing | X3: Umpiring
B4: Playing | D4: Umpiring | U4: Home | V4: Away | X4: Home | Y4: Away
B5: Home | C5: Away | D5: Home | E5: Away | F5: Day | G5: Date | H5: Div | I5: Team Num | J5: Home Team | L5: Away Team | M5: Umpire 1 | N5: Umpire 2 | O5: Venue | P5: UMP1 | Q5: UMP2
