Workbook

Sheet TEAMS
C1: 1st choice | E1: 2nd Choice
B2: Division | C2: Venue | D2: Night | E2: Venue | F2: Night | J2: Venue
A3: 1 | B3: NU Blue | C3: UEA | D3: Wednesday | E3: Hellesdon High | F3: Monday | H3: DIV 1 | J3: UEA
A4: 2 | B4: NU White | C4: UEA | D4: Wednesday | E4: Hellesdon High | F4: Monday | J4: HELLESDON CC
A5: 3 | B5: TB Mustangs | C5: Sprowston | D5: Wednesday | E5: Open | F5: Tuesday | J5: SPROWSTON
A6: 4 | B6: Stars | C6: UEA | D6: Tuesday | E6: City | F6: Wednesday | J6: OPEN
A7: 5 | B7: TB Racers | C7: Open | D7: Thursday | E7: Sprowston | F7: Monday | J7: CITY
A8: 6 | B8: Red Knights | C8: Hewett | D8: Tuesday | F8: Wednesday | J8: OLD CATTON
A9: 7 | B9: Cromer Cobras | C9: Hellesdon CC | D9: Monday | E9: Open | F9: Tuesday | J9: HELLESDON HIGH
A10: 8 | B10: Jets | C10: UEA | D10: Wednesday | E10: City | F10: Monday | J10: THORPE
A11: 9 | B11: Phoenix | C11: UEA | D11: Tuesday | E11: Hellesdon High | F11: Monday | H11: DIV 2 | J11: HEWETT
A12: 10 | B12: Black Knights | C12: Hewett | D12: Monday | F12: Wednesday
A13: 11 | B13: TB Colts | C13: Sprowston | D13: Tuesday | E13: Open | F13: Tuesday
A14: 12 | B14: NU Yellow | C14: UEA | D14: Tuesday | E14: Hellesdon High | F14: Wednesday
A15: 13 | B15: Sonics | C15: Open | D15: Tuesday | E15: Hellesdon High | F15: Tuesday
A16: 14 | B16: NU Royal | C16: UEA | D16: Monday | E16: Hellesdon High | F16: Tuesday | J16: orange = 2nd option
A17: 15 | B17: Cliff Park | C17: Open | D17: Monday | E17: City | F17: Monday
A18: 16 | B18: Sirens | C18: Open | D18: Monday | E18: Hellesdon High | F18: Tuesday
A19: 17 | B19: Blades | C19: Open | D19: Tuesday | E19: Hellesdon High | F19: Wednesday | H19: DIV 3
A20: 18 | B20: Venus | C20: Open | D20: Tuesday | E20: Thorpe | F20: Monday
A21: 19 | B21: Premier | C21: Hellesdon CC | D21: Tuesday | E21: Hellesdon High | F21: Tuesday | J21: no hellesdon high use CAN instead
A22: 20 | B22: White Knights | C22: Hewett | D22: Wednesday | E22: UEA | F22: Tuesday | J22: hewett after easter | K22: DONE
A23: 21 | B23: Belton | C23: Open | D23: Monday | E23: City | F23: Wednesday
A24: 22 | B24: Wrens | C24: Open | D24: Tuesday | E24: Sprowston | F24: Wednesday
A25: 23 | B25: Hotshots | C25: Open | D25: Tuesday | E25: Hellesdon High | F25: Wednesday
A26: 24 | B26: Icenians | C26: Open | D26: Wednesday | E26: City | F26: Monday
A27: 25 | B27: NU Ruby | C27: UEA | D27: Wednesday | E27: Hellesdon High | F27: Monday | H27: DIV 4
A28: 26 | B28: TB Shetlands | C28: Sprowston | D28: Wednesday | E28: Hellesdon CC | F28: Thursday
A29: 27 | B29: Falcons | C29: City | D29: Tuesday | E29: UEA | F29: Tuesday
A30: 28 | B30: Hethersett Rockets | C30: Hellesdon High | E30: City
A31: 29 | B31: NCF Emerald | C31: Hellesdon High | E31: City
A32: 30 | B32: Watton Wolves | C32: UEA | D32: Tuesday | E32: Hellesdon High | F32: Monday
A33: 31 | B33: Trailblazers | C33: Hellesdon High | D33: Thursday | E33: City | F33: Tuesday
A34: 32 | B34: Red Hot Chillies | C34: Sprowston | E34: Open
A35: 33 | B35: Hornets | C35: Open | D35: Monday | E35: City | F35: Tuesday | H35: DIV 5
A36: 34 | B36: NU Amber | C36: UEA | D36: Tuesday | E36: Hellesdon High | F36: Wednesday
A37: 35 | B37: Gems | C37: Hewett | D37: Monday | E37: UEA | F37: Wednesday
A38: 36 | B38: TB Fillies | C38: Sprowston | D38: Thursday | E38: Open | F38: Monday
A39: 37 | B39: First Home Improvements | C39: Open | D39: Monday | E39: Thorpe | F39: Tuesday
A40: 38 | B40: NU Red | C40: UEA | D40: Monday | E40: Hellesdon High | F40: Tuesday | G40: didn’t fill in 1st choice so put 2nd choice 1st
A41: 39 | B41: Tigers | C41: Hellesdon High | D41: Wednesday | E41: UEA | F41: Thursday
A42: 40 | B42: BYE WEEK
A43: 41 | B43: Dragons | C43: Hellesdon High | D43: Monday | E43: Open | F43: Tuesday | H43: DIV 6
A44: 42 | B44: TB Ponies | C44: Sprowston | D44: Monday | E44: Open | F44: Tuesday
A45: 43 | B45: Trowse | C45: Hellesdon High | D45: Thursday | E45: UEA | F45: Monday
A46: 44 | B46: Cromer Vipers | C46: Hellesdon High | D46: Monday | E46: Hellesdon High
A47: 45 | B47: NCF Onyx | C47: Hellesdon High | E47: City
A48: 46 | B48: Doves | C48: Old Catton | D48: Monday | E48: Sprowston | F48: Tuesday
A49: 47 | B49: BYE WEEK
A50: 48 | B50: BYE WEEK
A51: 49 | H51: DIV 7
A52: 50
A53: 51
A54: 52
A55: 53
A56: 54
A57: 55
A58: 56
A59: 57 | B59: NMNC 1 | C59: Hellesdon High | D59: Thursday | H59: CVL
A60: 58 | B60: Firebirds | C60: Hellesdon High | D60: Thursday
A61: 59 | B61: Thoroughbreds | C61: Hellesdon High | D61: Thursday
A62: 60 | B62: Hellesdon Hawks | C62: Hellesdon High | D62: Thursday
A63: 61 | B63: Trailblazers B | C63: Hellesdon High | D63: Thursday
A64: 62 | B64: Vixens | C64: Hellesdon High | D64: Thursday
A65: 63 | B65: BYE WEEK
A66: 64 | B66: Wymondham Wildkats | C66: Hellesdon High | D66: Thursday
A67: 65
A68: 66
A69: 67
A70: 68
I75: Courts at Venue | J75: Venue | K75: Monday | L75: Tuesday | M75: Wednesday | N75: Thursday
I76: 4 | J76: UEA | K76: =COUNTIFS($C$3:$C$56,$J76,$D$3:$D$56,K$75) -> 2 | L76: =COUNTIFS($C$3:$C$56,$J76,$D$3:$D$56,L$75) -> 5 | M76: =COUNTIFS($C$3:$C$56,$J76,$D$3:$D$56,M$75) -> 4 | N76: =COUNTIFS($C$3:$C$56,$J76,$D$3:$D$56,N$75) -> 0
I77: 2 | J77: HELLESDON CC | K77: =COUNTIFS($C$3:$C$56,$J77,$D$3:$D$56,K$75) -> 1 | L77: =COUNTIFS($C$3:$C$56,$J77,$D$3:$D$56,L$75) -> 1 | M77: =COUNTIFS($C$3:$C$56,$J77,$D$3:$D$56,M$75) -> 0 | N77: =COUNTIFS($C$3:$C$56,$J77,$D$3:$D$56,N$75) -> 0
J78: SPROWSTON | K78: =COUNTIFS($C$3:$C$56,$J78,$D$3:$D$56,K$75) -> 1 | L78: =COUNTIFS($C$3:$C$56,$J78,$D$3:$D$56,L$75) -> 1 | M78: =COUNTIFS($C$3:$C$56,$J78,$D$3:$D$56,M$75) -> 2 | N78: =COUNTIFS($C$3:$C$56,$J78,$D$3:$D$56,N$75) -> 1
I79: 3 | J79: OPEN | K79: 3 | L79: =COUNTIFS($C$3:$C$56,$J79,$D$3:$D$56,L$75) -> 4 | M79: =COUNTIFS($C$3:$C$56,$J79,$D$3:$D$56,M$75) -> 1 | N79: =COUNTIFS($C$3:$C$56,$J79,$D$3:$D$56,N$75) -> 0
I80: 4 | J80: CITY | K80: =COUNTIFS($C$3:$C$56,$J80,$D$3:$D$56,K$75) -> 0 | L80: =COUNTIFS($C$3:$C$56,$J80,$D$3:$D$56,L$75) -> 1 | M80: =COUNTIFS($C$3:$C$56,$J80,$D$3:$D$56,M$75) -> 0 | N80: =COUNTIFS($C$3:$C$56,$J80,$D$3:$D$56,N$75) -> 0
I81: 1 | J81: OLD CATTON | K81: =COUNTIFS($C$3:$C$56,$J81,$D$3:$D$56,K$75) -> 1 | L81: =COUNTIFS($C$3:$C$56,$J81,$D$3:$D$56,L$75) -> 0 | M81: =COUNTIFS($C$3:$C$56,$J81,$D$3:$D$56,M$75) -> 0 | N81: =COUNTIFS($C$3:$C$56,$J81,$D$3:$D$56,N$75) -> 0
I82: 4 | J82: HELLESDON HIGH | K82: =COUNTIFS($C$3:$C$56,$J82,$D$3:$D$56,K$75) -> 2 | L82: =COUNTIFS($C$3:$C$56,$J82,$D$3:$D$56,L$75) -> 0 | M82: =COUNTIFS($C$3:$C$56,$J82,$D$3:$D$56,M$75) -> 1 | N82: =COUNTIFS($C$3:$C$56,$J82,$D$3:$D$56,N$75) -> 2
I83: 2 | J83: THORPE | K83: =COUNTIFS($C$3:$C$56,$J83,$D$3:$D$56,K$75) -> 0 | L83: =COUNTIFS($C$3:$C$56,$J83,$D$3:$D$56,L$75) -> 0 | M83: =COUNTIFS($C$3:$C$56,$J83,$D$3:$D$56,M$75) -> 0 | N83: =COUNTIFS($C$3:$C$56,$J83,$D$3:$D$56,N$75) -> 0
I84: 1 | J84: HEWETT | K84: =COUNTIFS($C$3:$C$56,$J84,$D$3:$D$56,K$75) -> 2 | L84: =COUNTIFS($C$3:$C$56,$J84,$D$3:$D$56,L$75) -> 1 | M84: =COUNTIFS($C$3:$C$56,$J84,$D$3:$D$56,M$75) -> 1 | N84: =COUNTIFS($C$3:$C$56,$J84,$D$3:$D$56,N$75) -> 0

Sheet Sheet1
A2: Division 1 | B2: 1 | C2: 2 | D2: 3 | E2: 4 | F2: 5 | G2: 6 | H2: 7 | I2: 8
A3: 1
A4: 2
A5: 3
A6: 4
A7: 5
A8: 6
A9: 7
A10: 8
A12: Division 2 | B12: 9 | C12: 10 | D12: 11 | E12: 12 | F12: 13 | G12: 14 | H12: 15 | I12: 16
A13: 9
A14: 10
A15: 11
A16: 12
A17: 13
A18: 14
A19: 15
A20: 16
A26: Division 3 | B26: 17 | C26: 18 | D26: 19 | E26: 20 | F26: 21 | G26: 22 | H26: 23 | I26: 24
A27: 17
A28: 18
A29: 19
A30: 20
A31: 21
A32: 22
A33: 23
A34: 24
A36: Division 4 | B36: 25 | C36: 26 | D36: 27 | E36: 28 | F36: 29 | G36: 30 | H36: 31 | I36: 32
A37: 25
A38: 26
A39: 27
A40: 28
A41: 29
A42: 30
A43: 31
A44: 32
A51: Division 5 | B51: 33 | C51: 34 | D51: 35 | E51: 36 | F51: 37 | G51: 38 | H51: 39 | I51: 40
A52: 33
A53: 34
A54: 35
A55: 36
A56: 37
A57: 38
A58: 39
A59: 40
A61: Division 6 | B61: 41 | C61: 42 | D61: 43 | E61: 44 | F61: 45 | G61: 46 | H61: 47 | I61: 48
A62: 41
A63: 42
A64: 43
A65: 44
A66: 45
A67: 46
A68: 47
A69: 48
A77: Division 7 | B77: 49 | C77: 50 | D77: 51 | E77: 52 | F77: 53 | G77: 54
A78: 49
A79: 50
A80: 51
A81: 52
A82: 53
A83: 54
A85: CVL | B85: 1 | C85: =B85+1 -> 2 | D85: =C85+1 -> 3 | E85: =D85+1 -> 4 | F85: =E85+1 -> 5 | G85: =F85+1 -> 6 | H85: =G85+1 -> 7 | I85: =H85+1 -> 8 | J85: =I85+1 -> 9 | ... N85: =M85+1 -> 13
A86: 1 | B86: 2 | C86: Y | D86: Y | E86: Y | F86: Y | K86: Y | M86: Y | O86: =COUNTIF(B86:N86,"y") -> 6
A87: =A86+1 -> 2 | G87: Y | I87: Y | J87: Y | K87: Y | L87: Y | M87: Y | O87: =COUNTIF(B87:N87,"y") -> 6
A88: =A87+1 -> 3 | C88: Y | F88: Y | G88: Y | H88: Y | K88: Y | L88: Y | O88: =COUNTIF(B88:N88,"y") -> 6
A89: =A88+1 -> 4 | C89: Y | D89: Y | J89: Y | L89: Y | M89: Y | N89: Y | O89: =COUNTIF(B89:N89,"y") -> 6
A90: =A89+1 -> 5 | C90: Y | E90: Y | G90: Y | J90: Y | L90: Y | M90: Y | O90: =COUNTIF(B90:N90,"y") -> 6
A91: =A90+1 -> 6 | B91: Y | E91: Y | I91: Y | J91: Y | L91: Y | N91: Y | O91: =COUNTIF(B91:N91,"y") -> 6
A92: =A91+1 -> 7 | B92: Y | C92: Y | E92: Y | F92: Y | G92: Y | I92: Y | O92: =COUNTIF(B92:N92,"y") -> 6
A93: =A92+1 -> 8 | B93: Y | D93: Y | E93: Y | F93: Y | J93: Y | M93: Y | O93: =COUNTIF(B93:N93,"y") -> 6
A94: =A93+1 -> 9 | B94: Y | D94: Y | H94: Y | K94: Y | L94: Y | N94: Y | O94: =COUNTIF(B94:N94,"y") -> 6
A95: =A94+1 -> 10 | E95: Y | F95: Y | G95: Y | H95: Y | I95: Y | N95: Y | O95: =COUNTIF(B95:N95,"y") -> 6
A96: =A95+1 -> 11 | B96: Y | H96: Y | I96: Y | K96: Y | N96: Y | O96: =COUNTIF(B96:N96,"y") -> 5
A97: =A96+1 -> 12 | D97: Y | G97: Y | H97: Y | J97: Y | K97: Y | L97: Y | O97: =COUNTIF(B97:N97,"y") -> 6
A98: =A97+1 -> 13 | B98: Y | C98: Y | D98: Y | F98: Y | H98: Y | I98: Y | O98: =COUNTIF(B98:N98,"y") -> 6

Sheet VENUES
A1: Summer competitive league fixtures - draft 2026 - Venue requirements | O1: Contacted | R1: 18:30-20:30 (two hour per court)
A2: Updated 21 Feb 2026 | O2: Confirmed | R2: Matches start at 7pm
A4: week | F4: day | G4: Date | H4: UEA | I4: Hellesdon CC | J4: HEWETT | K4: OPEN | L4: CITY (CAN) | M4: OLD CATTON | N4: Hellesdon High | O4: Sprowston Academy | P4: THORPE | Q4: Total GAMES | R4: NOTES
A5: 1 | F5: MONDAY | G5: 46104 | H5: ='WK 1 FIXTURES'!H40 -> 0 | I5: ='WK 1 FIXTURES'!I40 -> 0 | J5: ='WK 1 FIXTURES'!J40 -> 0 | K5: ='WK 1 FIXTURES'!K40 -> 3 | L5: ='WK 1 FIXTURES'!L40 -> 0 | M5: ='WK 1 FIXTURES'!M40 -> 0 | N5: ='WK 1 FIXTURES'!N40 -> 3 | O5: ='WK 1 FIXTURES'!O40 -> 0 | P5: ='WK 1 FIXTURES'!P40 -> 0 | Q5: =SUM(H5:P5) -> 6
A6: 1 | F6: TUESDAY | G6: 46105 | H6: ='WK 1 FIXTURES'!H41 -> 2 | I6: ='WK 1 FIXTURES'!I41 -> 0 | J6: ='WK 1 FIXTURES'!J41 -> 0 | K6: ='WK 1 FIXTURES'!K41 -> 3 | L6: ='WK 1 FIXTURES'!L41 -> 1 | M6: ='WK 1 FIXTURES'!M41 -> 0 | N6: ='WK 1 FIXTURES'!N41 -> 2 | O6: ='WK 1 FIXTURES'!O41 -> 0 | P6: ='WK 1 FIXTURES'!P41 -> 0 | Q6: =SUM(H6:P6) -> 8
A7: 1 | F7: WEDNESDAY | G7: 46106 | H7: ='WK 1 FIXTURES'!H42 -> 4 | I7: ='WK 1 FIXTURES'!I42 -> 0 | J7: ='WK 1 FIXTURES'!J42 -> 0 | K7: ='WK 1 FIXTURES'!K42 -> 0 | L7: ='WK 1 FIXTURES'!L42 -> 0 | M7: ='WK 1 FIXTURES'!M42 -> 0 | N7: ='WK 1 FIXTURES'!N42 -> 3 | O7: ='WK 1 FIXTURES'!O42 -> 0 | P7: ='WK 1 FIXTURES'!P42 -> 0 | Q7: =SUM(H7:P7) -> 7
A8: 1 | F8: THURSDAY | G8: 46107 | H8: ='WK 1 FIXTURES'!H43 -> 0 | I8: ='WK 1 FIXTURES'!I43 -> 0 | J8: ='WK 1 FIXTURES'!J43 -> 0 | K8: ='WK 1 FIXTURES'!K43 -> 0 | L8: ='WK 1 FIXTURES'!L43 -> 0 | M8: ='WK 1 FIXTURES'!M43 -> 0 | N8: ='WK 1 FIXTURES'!N43 -> 0 | O8: ='WK 1 FIXTURES'!O43 -> 0 | P8: ='WK 1 FIXTURES'!P43 -> 0 | Q8: =SUM(H8:P8) -> 0
A9: 2 | F9: MONDAY | G9: 46111 | H9: ='WK 2 FIXTURES'!H40 -> 0 | I9: ='WK 2 FIXTURES'!I40 -> 0 | J9: ='WK 2 FIXTURES'!J40 -> 0 | K9: ='WK 2 FIXTURES'!K40 -> 4 | L9: ='WK 2 FIXTURES'!L40 -> 0 | M9: ='WK 2 FIXTURES'!M40 -> 0 | N9: ='WK 2 FIXTURES'!N40 -> 1 | O9: ='WK 2 FIXTURES'!O40 -> 0 | P9: ='WK 2 FIXTURES'!P40 -> 0 | Q9: =SUM(H9:P9) -> 5
A10: 2 | F10: TUESDAY | G10: 46112 | H10: ='WK 2 FIXTURES'!H41 -> 4 | I10: ='WK 2 FIXTURES'!I41 -> 0 | J10: ='WK 2 FIXTURES'!J41 -> 0 | K10: ='WK 2 FIXTURES'!K41 -> 2 | L10: ='WK 2 FIXTURES'!L41 -> 0 | M10: ='WK 2 FIXTURES'!M41 -> 0 | N10: ='WK 2 FIXTURES'!N41 -> 2 | O10: ='WK 2 FIXTURES'!O41 -> 0 | P10: ='WK 2 FIXTURES'!P41 -> 0 | Q10: =SUM(H10:P10) -> 8
A11: 2 | F11: WEDNESDAY | G11: 46113 | H11: ='WK 2 FIXTURES'!H42 -> 4 | I11: ='WK 2 FIXTURES'!I42 -> 0 | J11: ='WK 2 FIXTURES'!J42 -> 0 | K11: ='WK 2 FIXTURES'!K42 -> 1 | L11: ='WK 2 FIXTURES'!L42 -> 0 | M11: ='WK 2 FIXTURES'!M42 -> 0 | N11: ='WK 2 FIXTURES'!N42 -> 2 | O11: ='WK 2 FIXTURES'!O42 -> 0 | P11: ='WK 2 FIXTURES'!P42 -> 0 | Q11: =SUM(H11:P11) -> 7
A12: 2 | F12: THURSDAY | G12: 46114 | H12: ='WK 2 FIXTURES'!H43 -> 0 | I12: ='WK 2 FIXTURES'!I43 -> 0 | J12: ='WK 2 FIXTURES'!J43 -> 0 | K12: ='WK 2 FIXTURES'!K43 -> 0 | L12: ='WK 2 FIXTURES'!L43 -> 0 | M12: ='WK 2 FIXTURES'!M43 -> 0 | N12: ='WK 2 FIXTURES'!N43 -> 1 | O12: ='WK 2 FIXTURES'!O43 -> 0 | P12: ='WK 2 FIXTURES'!P43 -> 0 | Q12: =SUM(H12:P12) -> 1
A13: 3 | F13: MONDAY | G13: 46125 | H13: ='WK 3 FIXTURES'!H40 -> 0 | I13: ='WK 3 FIXTURES'!I40 -> 0 | J13: ='WK 3 FIXTURES'!J40 -> 1 | K13: ='WK 3 FIXTURES'!K40 -> 3 | L13: ='WK 3 FIXTURES'!L40 -> 0 | M13: ='WK 3 FIXTURES'!M40 -> 0 | N13: ='WK 3 FIXTURES'!N40 -> 2 | O13: ='WK 3 FIXTURES'!O40 -> 0 | P13: ='WK 3 FIXTURES'!P40 -> 0 | Q13: =SUM(H13:P13) -> 6
A14: 3 | F14: TUESDAY | G14: 46126 | H14: ='WK 3 FIXTURES'!H41 -> 3 | I14: ='WK 3 FIXTURES'!I41 -> 0 | J14: ='WK 3 FIXTURES'!J41 -> 0 | K14: ='WK 3 FIXTURES'!K41 -> 3 | L14: ='WK 3 FIXTURES'!L41 -> 1 | M14: ='WK 3 FIXTURES'!M41 -> 0 | N14: ='WK 3 FIXTURES'!N41 -> 1 | O14: ='WK 3 FIXTURES'!O41 -> 0 | P14: ='WK 3 FIXTURES'!P41 -> 0 | Q14: =SUM(H14:P14) -> 8
A15: 3 | F15: WEDNESDAY | G15: 46127 | H15: ='WK 3 FIXTURES'!H42 -> 2 | I15: ='WK 3 FIXTURES'!I42 -> 0 | J15: ='WK 3 FIXTURES'!J42 -> 0 | K15: ='WK 3 FIXTURES'!K42 -> 0 | L15: ='WK 3 FIXTURES'!L42 -> 0 | M15: ='WK 3 FIXTURES'!M42 -> 0 | N15: ='WK 3 FIXTURES'!N42 -> 3 | O15: ='WK 3 FIXTURES'!O42 -> 2 | P15: ='WK 3 FIXTURES'!P42 -> 0 | Q15: =SUM(H15:P15) -> 7
A16: 3 | F16: THURSDAY | G16: 46128 | H16: ='WK 3 FIXTURES'!H43 -> 0 | I16: ='WK 3 FIXTURES'!I43 -> 0 | J16: ='WK 3 FIXTURES'!J43 -> 0 | K16: ='WK 3 FIXTURES'!K43 -> 0 | L16: ='WK 3 FIXTURES'!L43 -> 0 | M16: ='WK 3 FIXTURES'!M43 -> 0 | N16: ='WK 3 FIXTURES'!N43 -> 0 | O16: ='WK 3 FIXTURES'!O43 -> 1 | P16: ='WK 3 FIXTURES'!P43 -> 0 | Q16: =SUM(H16:P16) -> 1
A17: 4 | F17: MONDAY | G17: 46132 | H17: ='WK 4 FIXTURES'!H40 -> 0 | I17: ='WK 4 FIXTURES'!I40 -> 0 | J17: ='WK 4 FIXTURES'!J40 -> 0 | K17: ='WK 4 FIXTURES'!K40 -> 3 | L17: ='WK 4 FIXTURES'!L40 -> 0 | M17: ='WK 4 FIXTURES'!M40 -> 0 | N17: ='WK 4 FIXTURES'!N40 -> 1 | O17: ='WK 4 FIXTURES'!O40 -> 1 | P17: ='WK 4 FIXTURES'!P40 -> 0 | Q17: =SUM(H17:P17) -> 5
A18: 4 | F18: TUESDAY | G18: 46133 | H18: ='WK 4 FIXTURES'!H41 -> 4 | I18: ='WK 4 FIXTURES'!I41 -> 0 | J18: ='WK 4 FIXTURES'!J41 -> 0 | K18: ='WK 4 FIXTURES'!K41 -> 2 | L18: ='WK 4 FIXTURES'!L41 -> 0 | M18: ='WK 4 FIXTURES'!M41 -> 0 | N18: ='WK 4 FIXTURES'!N41 -> 0 | O18: ='WK 4 FIXTURES'!O41 -> 2 | P18: ='WK 4 FIXTURES'!P41 -> 0 | Q18: =SUM(H18:P18) -> 8
A19: 4 | F19: WEDNESDAY | G19: 46134 | H19: ='WK 4 FIXTURES'!H42 -> 3 | I19: ='WK 4 FIXTURES'!I42 -> 0 | J19: ='WK 4 FIXTURES'!J42 -> 1 | K19: ='WK 4 FIXTURES'!K42 -> 1 | L19: ='WK 4 FIXTURES'!L42 -> 0 | M19: ='WK 4 FIXTURES'!M42 -> 0 | N19: ='WK 4 FIXTURES'!N42 -> 0 | O19: ='WK 4 FIXTURES'!O42 -> 2 | P19: ='WK 4 FIXTURES'!P42 -> 0 | Q19: =SUM(H19:P19) -> 7
A20: 4 | F20: THURSDAY | G20: 46135 | H20: ='WK 4 FIXTURES'!H43 -> 0 | I20: ='WK 4 FIXTURES'!I43 -> 0 | J20: ='WK 4 FIXTURES'!J43 -> 0 | K20: ='WK 4 FIXTURES'!K43 -> 0 | L20: ='WK 4 FIXTURES'!L43 -> 0 | M20: ='WK 4 FIXTURES'!M43 -> 0 | N20: ='WK 4 FIXTURES'!N43 -> 0 | O20: ='WK 4 FIXTURES'!O43 -> 1 | P20: ='WK 4 FIXTURES'!P43 -> 0 | Q20: =SUM(H20:P20) -> 1
A21: 5 | F21: MONDAY | G21: 46139 | H21: ='WK 5 FIXTURES'!H40 -> 0 | I21: ='WK 5 FIXTURES'!I40 -> 0 | J21: ='WK 5 FIXTURES'!J40 -> 1 | K21: ='WK 5 FIXTURES'!K40 -> 3 | L21: ='WK 5 FIXTURES'!L40 -> 0 | M21: ='WK 5 FIXTURES'!M40 -> 0 | N21: ='WK 5 FIXTURES'!N40 -> 1 | O21: ='WK 5 FIXTURES'!O40 -> 0 | P21: ='WK 5 FIXTURES'!P40 -> 0 | Q21: =SUM(H21:P21) -> 5
A22: 5 | F22: TUESDAY | G22: 46140 | H22: ='WK 5 FIXTURES'!H41 -> 1 | I22: ='WK 5 FIXTURES'!I41 -> 0 | J22: ='WK 5 FIXTURES'!J41 -> 1 | K22: ='WK 5 FIXTURES'!K41 -> 3 | L22: ='WK 5 FIXTURES'!L41 -> 1 | M22: ='WK 5 FIXTURES'!M41 -> 0 | N22: ='WK 5 FIXTURES'!N41 -> 0 | O22: ='WK 5 FIXTURES'!O41 -> 1 | P22: ='WK 5 FIXTURES'!P41 -> 0 | Q22: =SUM(H22:P22) -> 7
A23: 5 | F23: WEDNESDAY | G23: 46141 | H23: ='WK 5 FIXTURES'!H42 -> 3 | I23: ='WK 5 FIXTURES'!I42 -> 0 | J23: ='WK 5 FIXTURES'!J42 -> 1 | K23: ='WK 5 FIXTURES'!K42 -> 1 | L23: ='WK 5 FIXTURES'!L42 -> 0 | M23: ='WK 5 FIXTURES'!M42 -> 0 | N23: ='WK 5 FIXTURES'!N42 -> 1 | O23: ='WK 5 FIXTURES'!O42 -> 2 | P23: ='WK 5 FIXTURES'!P42 -> 0 | Q23: =SUM(H23:P23) -> 8
A24: 5 | F24: THURSDAY | G24: 46142 | H24: ='WK 5 FIXTURES'!H43 -> 0 | I24: ='WK 5 FIXTURES'!I43 -> 0 | J24: ='WK 5 FIXTURES'!J43 -> 0 | K24: ='WK 5 FIXTURES'!K43 -> 0 | L24: ='WK 5 FIXTURES'!L43 -> 0 | M24: ='WK 5 FIXTURES'!M43 -> 0 | N24: ='WK 5 FIXTURES'!N43 -> 0 | O24: ='WK 5 FIXTURES'!O43 -> 1 | P24: ='WK 5 FIXTURES'!P43 -> 0 | Q24: =SUM(H24:P24) -> 1
A25: 6 | F25: MONDAY | G25: 46146 | H25: ='WK 6 FIXTURES'!H40 -> 0 | I25: ='WK 6 FIXTURES'!I40 -> 0 | J25: ='WK 6 FIXTURES'!J40 -> 0 | K25: ='WK 6 FIXTURES'!K40 -> 0 | L25: ='WK 6 FIXTURES'!L40 -> 0 | M25: ='WK 6 FIXTURES'!M40 -> 0 | N25: ='WK 6 FIXTURES'!N40 -> 0 | O25: ='WK 6 FIXTURES'!O40 -> 0 | P25: ='WK 6 FIXTURES'!P40 -> 0 | Q25: =SUM(H25:P25) -> 0 | R25: Bank holiday
A26: 6 | F26: TUESDAY | G26: 46147 | H26: ='WK 6 FIXTURES'!H41 -> 4 | I26: ='WK 6 FIXTURES'!I41 -> 0 | J26: ='WK 6 FIXTURES'!J41 -> 0 | K26: ='WK 6 FIXTURES'!K41 -> 2 | L26: ='WK 6 FIXTURES'!L41 -> 0 | M26: ='WK 6 FIXTURES'!M41 -> 0 | N26: ='WK 6 FIXTURES'!N41 -> 1 | O26: ='WK 6 FIXTURES'!O41 -> 2 | P26: ='WK 6 FIXTURES'!P41 -> 0 | Q26: =SUM(H26:P26) -> 9
A27: 6 | F27: WEDNESDAY | G27: 46148 | H27: ='WK 6 FIXTURES'!H42 -> 4 | I27: ='WK 6 FIXTURES'!I42 -> 0 | J27: ='WK 6 FIXTURES'!J42 -> 1 | K27: ='WK 6 FIXTURES'!K42 -> 1 | L27: ='WK 6 FIXTURES'!L42 -> 1 | M27: ='WK 6 FIXTURES'!M42 -> 0 | N27: ='WK 6 FIXTURES'!N42 -> 2 | O27: ='WK 6 FIXTURES'!O42 -> 0 | P27: ='WK 6 FIXTURES'!P42 -> 0 | Q27: =SUM(H27:P27) -> 9
A28: 6 | F28: THURSDAY | G28: 46149 | H28: ='WK 6 FIXTURES'!H43 -> 0 | I28: ='WK 6 FIXTURES'!I43 -> 0 | J28: ='WK 6 FIXTURES'!J43 -> 0 | K28: ='WK 6 FIXTURES'!K43 -> 0 | L28: ='WK 6 FIXTURES'!L43 -> 0 | M28: ='WK 6 FIXTURES'!M43 -> 0 | N28: ='WK 6 FIXTURES'!N43 -> 2 | O28: ='WK 6 FIXTURES'!O43 -> 1 | P28: ='WK 6 FIXTURES'!P43 -> 0 | Q28: =SUM(H28:P28) -> 3
A29: 7 | F29: MONDAY | G29: 46153 | H29: ='WK 7 FIXTURES'!H40 -> 0 | I29: ='WK 7 FIXTURES'!I40 -> 0 | J29: ='WK 7 FIXTURES'!J40 -> 0 | K29: ='WK 7 FIXTURES'!K40 -> 3 | L29: ='WK 7 FIXTURES'!L40 -> 0 | M29: ='WK 7 FIXTURES'!M40 -> 0 | N29: ='WK 7 FIXTURES'!N40 -> 1 | O29: ='WK 7 FIXTURES'!O40 -> 2 | P29: ='WK 7 FIXTURES'!P40 -> 0 | Q29: =SUM(H29:P29) -> 6
A30: 7 | F30: TUESDAY | G30: 46154 | H30: ='WK 7 FIXTURES'!H41 -> 3 | I30: ='WK 7 FIXTURES'!I41 -> 0 | J30: ='WK 7 FIXTURES'!J41 -> 1 | K30: ='WK 7 FIXTURES'!K41 -> 2 | L30: ='WK 7 FIXTURES'!L41 -> 1 | M30: ='WK 7 FIXTURES'!M41 -> 0 | N30: ='WK 7 FIXTURES'!N41 -> 0 | O30: ='WK 7 FIXTURES'!O41 -> 1 | P30: ='WK 7 FIXTURES'!P41 -> 0 | Q30: =SUM(H30:P30) -> 8
A31: 7 | F31: WEDNESDAY | G31: 46155 | H31: ='WK 7 FIXTURES'!H42 -> 2 | I31: ='WK 7 FIXTURES'!I42 -> 0 | J31: ='WK 7 FIXTURES'!J42 -> 1 | K31: ='WK 7 FIXTURES'!K42 -> 1 | L31: ='WK 7 FIXTURES'!L42 -> 1 | M31: ='WK 7 FIXTURES'!M42 -> 0 | N31: ='WK 7 FIXTURES'!N42 -> 1 | O31: ='WK 7 FIXTURES'!O42 -> 0 | P31: ='WK 7 FIXTURES'!P42 -> 0 | Q31: =SUM(H31:P31) -> 6
A32: 7 | F32: THURSDAY | G32: 46156 | H32: ='WK 7 FIXTURES'!H43 -> 0 | I32: ='WK 7 FIXTURES'!I43 -> 0 | J32: ='WK 7 FIXTURES'!J43 -> 0 | K32: ='WK 7 FIXTURES'!K43 -> 0 | L32: ='WK 7 FIXTURES'!L43 -> 0 | M32: ='WK 7 FIXTURES'!M43 -> 0 | N32: ='WK 7 FIXTURES'!N43 -> 0 | O32: ='WK 7 FIXTURES'!O43 -> 1 | P32: ='WK 7 FIXTURES'!P43 -> 0 | Q32: =SUM(H32:P32) -> 1
A33: 8 | F33: MONDAY | G33: 46160 | H33: ='WK 8 FIXTURES'!H40 -> 1 | I33: ='WK 8 FIXTURES'!I40 -> 0 | J33: ='WK 8 FIXTURES'!J40 -> 1 | K33: ='WK 8 FIXTURES'!K40 -> 1 | L33: ='WK 8 FIXTURES'!L40 -> 0 | M33: ='WK 8 FIXTURES'!M40 -> 0 | N33: ='WK 8 FIXTURES'!N40 -> 0 | O33: ='WK 8 FIXTURES'!O40 -> 2 | P33: ='WK 8 FIXTURES'!P40 -> 0 | Q33: =SUM(H33:P33) -> 5 | R33: Hewett only one court
A34: 8 | F34: TUESDAY | G34: 46161 | H34: ='WK 8 FIXTURES'!H41 -> 3 | I34: ='WK 8 FIXTURES'!I41 -> 0 | J34: ='WK 8 FIXTURES'!J41 -> 1 | K34: ='WK 8 FIXTURES'!K41 -> 3 | L34: ='WK 8 FIXTURES'!L41 -> 0 | M34: ='WK 8 FIXTURES'!M41 -> 0 | N34: ='WK 8 FIXTURES'!N41 -> 0 | O34: ='WK 8 FIXTURES'!O41 -> 2 | P34: ='WK 8 FIXTURES'!P41 -> 0 | Q34: =SUM(H34:P34) -> 9
A35: 8 | F35: WEDNESDAY | G35: 46162 | H35: ='WK 8 FIXTURES'!H42 -> 1 | I35: ='WK 8 FIXTURES'!I42 -> 0 | J35: ='WK 8 FIXTURES'!J42 -> 1 | K35: ='WK 8 FIXTURES'!K42 -> 1 | L35: ='WK 8 FIXTURES'!L42 -> 0 | M35: ='WK 8 FIXTURES'!M42 -> 0 | N35: ='WK 8 FIXTURES'!N42 -> 1 | O35: ='WK 8 FIXTURES'!O42 -> 2 | P35: ='WK 8 FIXTURES'!P42 -> 0 | Q35: =SUM(H35:P35) -> 6
A36: 8 | F36: THURSDAY | G36: 46163 | H36: ='WK 8 FIXTURES'!H43 -> 0 | I36: ='WK 8 FIXTURES'!I43 -> 0 | J36: ='WK 8 FIXTURES'!J43 -> 0 | K36: ='WK 8 FIXTURES'!K43 -> 0 | L36: ='WK 8 FIXTURES'!L43 -> 0 | M36: ='WK 8 FIXTURES'!M43 -> 0 | N36: ='WK 8 FIXTURES'!N43 -> 1 | O36: ='WK 8 FIXTURES'!O43 -> 0 | P36: ='WK 8 FIXTURES'!P43 -> 0 | Q36: =SUM(H36:P36) -> 1
A37: 9 | F37: MONDAY | G37: 46174 | H37: ='WK 9 FIXTURES'!H40 -> 1 | I37: ='WK 9 FIXTURES'!I40 -> 0 | J37: ='WK 9 FIXTURES'!J40 -> 1 | K37: ='WK 9 FIXTURES'!K40 -> 1 | L37: ='WK 9 FIXTURES'!L40 -> 0 | M37: ='WK 9 FIXTURES'!M40 -> 0 | N37: ='WK 9 FIXTURES'!N40 -> 1 | O37: ='WK 9 FIXTURES'!O40 -> 2 | P37: ='WK 9 FIXTURES'!P40 -> 0 | Q37: =SUM(H37:P37) -> 6
A38: 9 | F38: TUESDAY | G38: 46175 | H38: ='WK 9 FIXTURES'!H41 -> 1 | I38: ='WK 9 FIXTURES'!I41 -> 0 | J38: ='WK 9 FIXTURES'!J41 -> 0 | K38: ='WK 9 FIXTURES'!K41 -> 3 | L38: ='WK 9 FIXTURES'!L41 -> 1 | M38: ='WK 9 FIXTURES'!M41 -> 0 | N38: ='WK 9 FIXTURES'!N41 -> 1 | O38: ='WK 9 FIXTURES'!O41 -> 2 | P38: ='WK 9 FIXTURES'!P41 -> 0 | Q38: =SUM(H38:P38) -> 8
A39: 9 | F39: WEDNESDAY | G39: 46176 | H39: ='WK 9 FIXTURES'!H42 -> 1 | I39: ='WK 9 FIXTURES'!I42 -> 0 | J39: ='WK 9 FIXTURES'!J42 -> 1 | K39: ='WK 9 FIXTURES'!K42 -> 0 | L39: ='WK 9 FIXTURES'!L42 -> 0 | M39: ='WK 9 FIXTURES'!M42 -> 0 | N39: ='WK 9 FIXTURES'!N42 -> 2 | O39: ='WK 9 FIXTURES'!O42 -> 2 | P39: ='WK 9 FIXTURES'!P42 -> 0 | Q39: =SUM(H39:P39) -> 6
A40: 9 | F40: THURSDAY | G40: 46177 | H40: ='WK 9 FIXTURES'!H43 -> 0 | I40: ='WK 9 FIXTURES'!I43 -> 0 | J40: ='WK 9 FIXTURES'!J43 -> 0 | K40: ='WK 9 FIXTURES'!K43 -> 0 | L40: ='WK 9 FIXTURES'!L43 -> 0 | M40: ='WK 9 FIXTURES'!M43 -> 0 | N40: ='WK 9 FIXTURES'!N43 -> 1 | O40: ='WK 9 FIXTURES'!O43 -> 0 | P40: ='WK 9 FIXTURES'!P43 -> 0 | Q40: =SUM(H40:P40) -> 1
A41: 10 | F41: MONDAY | G41: 46181 | H41: ='WK 10 FIXTURES'!H40 -> 1 | I41: ='WK 10 FIXTURES'!I40 -> 0 | J41: ='WK 10 FIXTURES'!J40 -> 1 | K41: ='WK 10 FIXTURES'!K40 -> 2 | L41: ='WK 10 FIXTURES'!L40 -> 0 | M41: ='WK 10 FIXTURES'!M40 -> 0 | N41: ='WK 10 FIXTURES'!N40 -> 1 | O41: ='WK 10 FIXTURES'!O40 -> 2 | P41: ='WK 10 FIXTURES'!P40 -> 0 | Q41: =SUM(H41:P41) -> 7
A42: 10 | F42: TUESDAY | G42: 46182 | H42: ='WK 10 FIXTURES'!H41 -> 2 | I42: ='WK 10 FIXTURES'!I41 -> 0 | J42: ='WK 10 FIXTURES'!J41 -> 1 | K42: ='WK 10 FIXTURES'!K41 -> 2 | L42: ='WK 10 FIXTURES'!L41 -> 0 | M42: ='WK 10 FIXTURES'!M41 -> 0 | N42: ='WK 10 FIXTURES'!N41 -> 1 | O42: ='WK 10 FIXTURES'!O41 -> 2 | P42: ='WK 10 FIXTURES'!P41 -> 0 | Q42: =SUM(H42:P42) -> 8
A43: 10 | F43: WEDNESDAY | G43: 46183 | H43: ='WK 10 FIXTURES'!H42 -> 2 | I43: ='WK 10 FIXTURES'!I42 -> 0 | J43: ='WK 10 FIXTURES'!J42 -> 1 | K43: ='WK 10 FIXTURES'!K42 -> 0 | L43: ='WK 10 FIXTURES'!L42 -> 0 | M43: ='WK 10 FIXTURES'!M42 -> 0 | N43: ='WK 10 FIXTURES'!N42 -> 1 | O43: ='WK 10 FIXTURES'!O42 -> 1 | P43: ='WK 10 FIXTURES'!P42 -> 0 | Q43: =SUM(H43:P43) -> 5
A44: 10 | F44: THURSDAY | G44: 46184 | H44: ='WK 10 FIXTURES'!H43 -> 0 | I44: ='WK 10 FIXTURES'!I43 -> 0 | J44: ='WK 10 FIXTURES'!J43 -> 0 | K44: ='WK 10 FIXTURES'!K43 -> 0 | L44: ='WK 10 FIXTURES'!L43 -> 0 | M44: ='WK 10 FIXTURES'!M43 -> 0 | N44: ='WK 10 FIXTURES'!N43 -> 2 | O44: ='WK 10 FIXTURES'!O43 -> 0 | P44: ='WK 10 FIXTURES'!P43 -> 0 | Q44: =SUM(H44:P44) -> 2
A45: 11 | F45: MONDAY | G45: 46188 | H45: ='WK 11 FIXTURES'!H40 -> 2 | I45: ='WK 11 FIXTURES'!I40 -> 0 | J45: ='WK 11 FIXTURES'!J40 -> 1 | K45: ='WK 11 FIXTURES'!K40 -> 2 | L45: ='WK 11 FIXTURES'!L40 -> 0 | M45: ='WK 11 FIXTURES'!M40 -> 0 | N45: ='WK 11 FIXTURES'!N40 -> 2 | O45: ='WK 11 FIXTURES'!O40 -> 1 | P45: ='WK 11 FIXTURES'!P40 -> 0 | Q45: =SUM(H45:P45) -> 8
A46: 11 | F46: TUESDAY | G46: 46189 | H46: ='WK 11 FIXTURES'!H41 -> 1 | I46: ='WK 11 FIXTURES'!I41 -> 0 | J46: ='WK 11 FIXTURES'!J41 -> 1 | K46: ='WK 11 FIXTURES'!K41 -> 3 | L46: ='WK 11 FIXTURES'!L41 -> 1 | M46: ='WK 11 FIXTURES'!M41 -> 0 | N46: ='WK 11 FIXTURES'!N41 -> 1 | O46: ='WK 11 FIXTURES'!O41 -> 0 | P46: ='WK 11 FIXTURES'!P41 -> 0 | Q46: =SUM(H46:P46) -> 7
A47: 11 | F47: WEDNESDAY | G47: 46190 | H47: ='WK 11 FIXTURES'!H42 -> 2 | I47: ='WK 11 FIXTURES'!I42 -> 0 | J47: ='WK 11 FIXTURES'!J42 -> 0 | K47: ='WK 11 FIXTURES'!K42 -> 0 | L47: ='WK 11 FIXTURES'!L42 -> 0 | M47: ='WK 11 FIXTURES'!M42 -> 0 | N47: ='WK 11 FIXTURES'!N42 -> 3 | O47: ='WK 11 FIXTURES'!O42 -> 0 | P47: ='WK 11 FIXTURES'!P42 -> 0 | Q47: =SUM(H47:P47) -> 5
A48: 11 | F48: THURSDAY | G48: 46191 | H48: ='WK 11 FIXTURES'!H43 -> 0 | I48: ='WK 11 FIXTURES'!I43 -> 0 | J48: ='WK 11 FIXTURES'!J43 -> 0 | K48: ='WK 11 FIXTURES'!K43 -> 0 | L48: ='WK 11 FIXTURES'!L43 -> 0 | M48: ='WK 11 FIXTURES'!M43 -> 0 | N48: ='WK 11 FIXTURES'!N43 -> 1 | O48: ='WK 11 FIXTURES'!O43 -> 0 | P48: ='WK 11 FIXTURES'!P43 -> 0 | Q48: =SUM(H48:P48) -> 1
A49: 12 | F49: MONDAY | G49: 46195 | H49: ='WK 12 FIXTURES'!H40 -> 2 | I49: ='WK 12 FIXTURES'!I40 -> 0 | J49: ='WK 12 FIXTURES'!J40 -> 1 | K49: ='WK 12 FIXTURES'!K40 -> 1 | L49: ='WK 12 FIXTURES'!L40 -> 0 | M49: ='WK 12 FIXTURES'!M40 -> 0 | N49: ='WK 12 FIXTURES'!N40 -> 1 | O49: ='WK 12 FIXTURES'!O40 -> 2 | P49: ='WK 12 FIXTURES'!P40 -> 0 | Q49: =SUM(H49:P49) -> 7
A50: 12 | F50: TUESDAY | G50: 46196 | H50: ='WK 12 FIXTURES'!H41 -> 4 | I50: ='WK 12 FIXTURES'!I41 -> 0 | J50: ='WK 12 FIXTURES'!J41 -> 0 | K50: ='WK 12 FIXTURES'!K41 -> 2 | L50: ='WK 12 FIXTURES'!L41 -> 0 | M50: ='WK 12 FIXTURES'!M41 -> 0 | N50: ='WK 12 FIXTURES'!N41 -> 1 | O50: ='WK 12 FIXTURES'!O41 -> 1 | P50: ='WK 12 FIXTURES'!P41 -> 0 | Q50: =SUM(H50:P50) -> 8
A51: 12 | F51: WEDNESDAY | G51: 46197 | H51: ='WK 12 FIXTURES'!H42 -> 1 | I51: ='WK 12 FIXTURES'!I42 -> 0 | J51: ='WK 12 FIXTURES'!J42 -> 0 | K51: ='WK 12 FIXTURES'!K42 -> 0 | L51: ='WK 12 FIXTURES'!L42 -> 0 | M51: ='WK 12 FIXTURES'!M42 -> 0 | N51: ='WK 12 FIXTURES'!N42 -> 3 | O51: ='WK 12 FIXTURES'!O42 -> 1 | P51: ='WK 12 FIXTURES'!P42 -> 0 | Q51: =SUM(H51:P51) -> 5
A52: 12 | F52: THURSDAY | G52: 46198 | H52: ='WK 12 FIXTURES'!H43 -> 0 | I52: ='WK 12 FIXTURES'!I43 -> 0 | J52: ='WK 12 FIXTURES'!J43 -> 0 | K52: ='WK 12 FIXTURES'!K43 -> 0 | L52: ='WK 12 FIXTURES'!L43 -> 0 | M52: ='WK 12 FIXTURES'!M43 -> 0 | N52: ='WK 12 FIXTURES'!N43 -> 1 | O52: ='WK 12 FIXTURES'!O43 -> 0 | P52: ='WK 12 FIXTURES'!P43 -> 0 | Q52: =SUM(H52:P52) -> 1
A53: 13 | F53: MONDAY | G53: 46202 | H53: ='WK 13 FIXTURES'!H40 -> 1 | I53: ='WK 13 FIXTURES'!I40 -> 0 | J53: ='WK 13 FIXTURES'!J40 -> 0 | K53: ='WK 13 FIXTURES'!K40 -> 1 | L53: ='WK 13 FIXTURES'!L40 -> 0 | M53: ='WK 13 FIXTURES'!M40 -> 0 | N53: ='WK 13 FIXTURES'!N40 -> 3 | O53: ='WK 13 FIXTURES'!O40 -> 2 | P53: ='WK 13 FIXTURES'!P40 -> 0 | Q53: =SUM(H53:P53) -> 7
A54: 13 | F54: TUESDAY | G54: 46203 | H54: ='WK 13 FIXTURES'!H41 -> 1 | I54: ='WK 13 FIXTURES'!I41 -> 0 | J54: ='WK 13 FIXTURES'!J41 -> 1 | K54: ='WK 13 FIXTURES'!K41 -> 2 | L54: ='WK 13 FIXTURES'!L41 -> 2 | M54: ='WK 13 FIXTURES'!M41 -> 0 | N54: ='WK 13 FIXTURES'!N41 -> 0 | O54: ='WK 13 FIXTURES'!O41 -> 1 | P54: ='WK 13 FIXTURES'!P41 -> 0 | Q54: =SUM(H54:P54) -> 7
A55: 13 | F55: WEDNESDAY | G55: 46204 | H55: ='WK 13 FIXTURES'!H42 -> 1 | I55: ='WK 13 FIXTURES'!I42 -> 0 | J55: ='WK 13 FIXTURES'!J42 -> 1 | K55: ='WK 13 FIXTURES'!K42 -> 1 | L55: ='WK 13 FIXTURES'!L42 -> 0 | M55: ='WK 13 FIXTURES'!M42 -> 0 | N55: ='WK 13 FIXTURES'!N42 -> 0 | O55: ='WK 13 FIXTURES'!O42 -> 2 | P55: ='WK 13 FIXTURES'!P42 -> 0 | Q55: =SUM(H55:P55) -> 5
A56: 13 | F56: THURSDAY | G56: 46205 | H56: ='WK 13 FIXTURES'!H43 -> 0 | I56: ='WK 13 FIXTURES'!I43 -> 0 | J56: ='WK 13 FIXTURES'!J43 -> 0 | K56: ='WK 13 FIXTURES'!K43 -> 0 | L56: ='WK 13 FIXTURES'!L43 -> 0 | M56: ='WK 13 FIXTURES'!M43 -> 0 | N56: ='WK 13 FIXTURES'!N43 -> 1 | O56: ='WK 13 FIXTURES'!O43 -> 0 | P56: ='WK 13 FIXTURES'!P43 -> 0 | Q56: =SUM(H56:P56) -> 1
A57: 14 | F57: MONDAY | G57: 46209 | H57: ='WK 14 FIXTURES'!H40 -> 1 | I57: ='WK 14 FIXTURES'!I40 -> 0 | J57: ='WK 14 FIXTURES'!J40 -> 1 | K57: ='WK 14 FIXTURES'!K40 -> 1 | L57: ='WK 14 FIXTURES'!L40 -> 0 | M57: ='WK 14 FIXTURES'!M40 -> 0 | N57: ='WK 14 FIXTURES'!N40 -> 2 | O57: ='WK 14 FIXTURES'!O40 -> 0 | P57: ='WK 14 FIXTURES'!P40 -> 0 | Q57: =SUM(H57:P57) -> 5
A58: 14 | F58: TUESDAY | G58: 46210 | H58: ='WK 14 FIXTURES'!H41 -> 2 | I58: ='WK 14 FIXTURES'!I41 -> 0 | J58: ='WK 14 FIXTURES'!J41 -> 0 | K58: ='WK 14 FIXTURES'!K41 -> 1 | L58: ='WK 14 FIXTURES'!L41 -> 0 | M58: ='WK 14 FIXTURES'!M41 -> 0 | N58: ='WK 14 FIXTURES'!N41 -> 2 | O58: ='WK 14 FIXTURES'!O41 -> 1 | P58: ='WK 14 FIXTURES'!P41 -> 0 | Q58: =SUM(H58:P58) -> 6
A59: 14 | F59: WEDNESDAY | G59: 46211 | H59: ='WK 14 FIXTURES'!H42 -> 2 | I59: ='WK 14 FIXTURES'!I42 -> 0 | J59: ='WK 14 FIXTURES'!J42 -> 0 | K59: ='WK 14 FIXTURES'!K42 -> 0 | L59: ='WK 14 FIXTURES'!L42 -> 0 | M59: ='WK 14 FIXTURES'!M42 -> 0 | N59: ='WK 14 FIXTURES'!N42 -> 2 | O59: ='WK 14 FIXTURES'!O42 -> 2 | P59: ='WK 14 FIXTURES'!P42 -> 0 | Q59: =SUM(H59:P59) -> 6
A60: 14 | F60: THURSDAY | G60: 46212 | H60: ='WK 14 FIXTURES'!H43 -> 0 | I60: ='WK 14 FIXTURES'!I43 -> 0 | J60: ='WK 14 FIXTURES'!J43 -> 0 | K60: ='WK 14 FIXTURES'!K43 -> 0 | L60: ='WK 14 FIXTURES'!L43 -> 0 | M60: ='WK 14 FIXTURES'!M43 -> 0 | N60: ='WK 14 FIXTURES'!N43 -> 2 | O60: ='WK 14 FIXTURES'!O43 -> 0 | P60: ='WK 14 FIXTURES'!P43 -> 0 | Q60: =SUM(H60:P60) -> 2
A61: Total no. courts required | H61: =SUM(H5:H60) -> 76 | I61: =SUM(I5:I60) -> 0 | J61: =SUM(J5:J60) -> 22 | K61: =SUM(K5:K60) -> 68 | L61: =SUM(L5:L60) -> 10 | M61: =SUM(M5:M60) -> 0 | N61: =SUM(N5:N60) -> 67 | O61: =SUM(O5:O60) -> 50 | ... Q61: =SUM(Q5:Q60) -> 293

Sheet WK 1 FIXTURES
F3: Week Comm | G3: 46104 | H3: Wk 1 | U3: Playing | X3: Umpiring
B4: Playing | D4: Umpiring | U4: Home | V4: Away | W4: Playing | X4: Home | Y4: Away | Z4: Umpiring
B5: Home | C5: Away | D5: Home | E5: Away | F5: Day | G5: Date | H5: Div | J5: Home Team | L5: Away Team | M5: Umpire 1 | N5: Umpire 2 | O5: Venue | P5: UMP1 | Q5: UMP2
B7: =I7 -> 7 | C7: =K7 -> 6 | D7: =P7 -> 8 | E7: =Q7 -> 14 | F7: =VLOOKUP(I7,TEAMS!A5:D10,4,0) -> Monday | G7: =VLOOKUP(F7,$F$40:$G$43,2,FALSE) -> 46104 | H7: 1 | I7: 7 | J7: =VLOOKUP($I7,TEAMS!$A$3:$D$56,2,0) -> Cromer Cobras | K7: 6 | L7: =VLOOKUP($K7,TEAMS!$A$3:$D$56,2,0) -> Red Knights | M7: =VLOOKUP($P7,TEAMS!$A$3:$D$56,2,0) -> Jets | N7: =VLOOKUP($Q7,TEAMS!$A$3:$D$56,2,0) -> NU Royal | O7: Hellesdon High | P7: 8 | Q7: 14
B8: =I8 -> 8 | C8: =K8 -> 4 | D8: =P8 -> 6 | E8: =Q8 -> 12 | F8: =VLOOKUP(I8,TEAMS!A6:D11,4,0) -> Wednesday | G8: =VLOOKUP(F8,$F$40:$G$43,2,FALSE) -> 46106 | H8: 1 | I8: 8 | J8: =VLOOKUP($I8,TEAMS!$A$3:$D$56,2,0) -> Jets | K8: 4 | L8: =VLOOKUP($K8,TEAMS!$A$3:$D$56,2,0) -> Stars | M8: =VLOOKUP($P8,TEAMS!$A$3:$D$56,2,0) -> Red Knights | N8: =VLOOKUP($Q8,TEAMS!$A$3:$D$56,2,0) -> NU Yellow | O8: =VLOOKUP($I8,TEAMS!$A$3:$D$56,3,0) -> UEA | P8: 6 | Q8: 12
B9: =I9 -> 1 | C9: =K9 -> 3 | D9: =P9 -> 16 | E9: =Q9 -> 23 | F9: =VLOOKUP(I9,TEAMS!A3:D10,4,0) -> Wednesday | G9: =VLOOKUP(F9,$F$40:$G$43,2,FALSE) -> 46106 | H9: 1 | I9: 1 | J9: =VLOOKUP($I9,TEAMS!$A$3:$D$56,2,0) -> NU Blue | K9: 3 | L9: =VLOOKUP($K9,TEAMS!$A$3:$D$56,2,0) -> TB Mustangs | M9: =VLOOKUP($P9,TEAMS!$A$3:$D$56,2,0) -> Sirens | N9: =VLOOKUP($Q9,TEAMS!$A$3:$D$56,2,0) -> Hotshots | O9: =VLOOKUP($I9,TEAMS!$A$3:$D$56,3,0) -> UEA | P9: 16 | Q9: 23
B10: =I10 -> 2 | C10: =K10 -> 5 | D10: =P10 -> 13 | E10: =Q10 -> 19 | F10: =VLOOKUP(I10,TEAMS!A4:D10,4,0) -> Wednesday | G10: =VLOOKUP(F10,$F$40:$G$43,2,FALSE) -> 46106 | H10: 1 | I10: 2 | J10: =VLOOKUP($I10,TEAMS!$A$3:$D$56,2,0) -> NU White | K10: 5 | L10: =VLOOKUP($K10,TEAMS!$A$3:$D$56,2,0) -> TB Racers | M10: =VLOOKUP($P10,TEAMS!$A$3:$D$56,2,0) -> Sonics | N10: =VLOOKUP($Q10,TEAMS!$A$3:$D$56,2,0) -> Premier | O10: =VLOOKUP($I10,TEAMS!$A$3:$D$56,3,0) -> UEA | P10: 13 | Q10: 19
H11: 1
B12: =I12 -> 15 | C12: =K12 -> 11 | D12: =P12 -> 10 | E12: =Q12 -> 3 | F12: =VLOOKUP(I12,TEAMS!A12:D56,4,0) -> Monday | G12: =VLOOKUP(F12,$F$40:$G$43,2,FALSE) -> 46104 | H12: 2 | I12: 15 | J12: =VLOOKUP($I12,TEAMS!$A$3:$D$56,2,0) -> Cliff Park | K12: 11 | L12: =VLOOKUP($K12,TEAMS!$A$3:$D$56,2,0) -> TB Colts | M12: =VLOOKUP($P12,TEAMS!$A$3:$D$56,2,0) -> Black Knights | N12: =VLOOKUP($Q12,TEAMS!$A$3:$D$56,2,0) -> TB Mustangs | O12: =VLOOKUP($I12,TEAMS!$A$3:$D$56,3,0) -> Open | P12: 10 | Q12: 3
B13: =I13 -> 12 | C13: =K13 -> 16 | D13: =P13 -> 4 | E13: =Q13 -> 5 | F13: =VLOOKUP(I13,TEAMS!A13:D56,4,0) -> Tuesday | G13: =VLOOKUP(F13,$F$40:$G$43,2,FALSE) -> 46105 | H13: 2 | I13: 12 | J13: =VLOOKUP($I13,TEAMS!$A$3:$D$56,2,0) -> NU Yellow | K13: 16 | L13: =VLOOKUP($K13,TEAMS!$A$3:$D$56,2,0) -> Sirens | M13: =VLOOKUP($P13,TEAMS!$A$3:$D$56,2,0) -> Stars | N13: =VLOOKUP($Q13,TEAMS!$A$3:$D$56,2,0) -> TB Racers | O13: =VLOOKUP($I13,TEAMS!$A$3:$D$56,3,0) -> UEA | P13: 4 | Q13: 5
B14: =I14 -> 9 | C14: =K14 -> 13 | D14: =P14 -> 2 | E14: =Q14 -> 1 | F14: Tuesday | G14: 46105 | H14: 2 | I14: 9 | J14: =VLOOKUP($I14,TEAMS!$A$3:$D$56,2,0) -> Phoenix | K14: 13 | L14: =VLOOKUP($K14,TEAMS!$A$3:$D$56,2,0) -> Sonics | M14: =VLOOKUP($P14,TEAMS!$A$3:$D$56,2,0) -> NU White | N14: =VLOOKUP($Q14,TEAMS!$A$3:$D$56,2,0) -> NU Blue | O14: =VLOOKUP($I14,TEAMS!$A$3:$D$56,3,0) -> UEA | P14: 2 | Q14: 1
B15: =I15 -> 14 | C15: =K15 -> 10 | D15: =P15 -> 25 | E15: =Q15 -> 11 | F15: Tuesday | G15: =VLOOKUP(F15,$F$40:$G$43,2,FALSE) -> 46105 | H15: 2 | I15: 14 | J15: =VLOOKUP($I15,TEAMS!$A$3:$D$56,2,0) -> NU Royal | K15: 10 | L15: =VLOOKUP($K15,TEAMS!$A$3:$D$56,2,0) -> Black Knights | M15: =VLOOKUP($P15,TEAMS!$A$3:$D$56,2,0) -> NU Ruby | N15: =VLOOKUP($Q15,TEAMS!$A$3:$D$56,2,0) -> TB Colts | O15: Hellesdon High | P15: 25 | Q15: 11
H16: 2
B17: =I17 -> 18 | C17: =K17 -> 17 | D17: =P17 -> 7 | E17: =Q17 -> 30 | F17: =VLOOKUP(I17,TEAMS!A16:D61,4,0) -> Tuesday | G17: =VLOOKUP(F17,$F$40:$G$43,2,FALSE) -> 46105 | H17: 3 | I17: 18 | J17: =VLOOKUP($I17,TEAMS!$A$3:$D$56,2,0) -> Venus | K17: 17 | L17: =VLOOKUP($K17,TEAMS!$A$3:$D$56,2,0) -> Blades | M17: =VLOOKUP($P17,TEAMS!$A$3:$D$56,2,0) -> Cromer Cobras | N17: =VLOOKUP($Q17,TEAMS!$A$3:$D$56,2,0) -> Watton Wolves | O17: =VLOOKUP($I17,TEAMS!$A$3:$D$56,3,0) -> Open | P17: 7 | Q17: 30
B18: =I18 -> 19 | C18: =K18 -> 22 | D18: =P18 -> 26 | E18: =Q18 -> 34 | F18: =VLOOKUP(I18,TEAMS!A17:D62,4,0) -> Tuesday | G18: =VLOOKUP(F18,$F$40:$G$43,2,FALSE) -> 46105 | H18: 3 | I18: 19 | J18: =VLOOKUP($I18,TEAMS!$A$3:$D$56,2,0) -> Premier | K18: 22 | L18: =VLOOKUP($K18,TEAMS!$A$3:$D$56,2,0) -> Wrens | M18: =VLOOKUP($P18,TEAMS!$A$3:$D$56,2,0) -> TB Shetlands | N18: =VLOOKUP($Q18,TEAMS!$A$3:$D$56,2,0) -> NU Amber | O18: Hellesdon High | P18: 26 | Q18: 34
B19: =I19 -> 23 | C19: =K19 -> 20 | D19: =P19 -> 21 | E19: =Q19 -> 33 | F19: =VLOOKUP(I19,TEAMS!A18:D63,4,0) -> Tuesday | G19: =VLOOKUP(F19,$F$40:$G$43,2,FALSE) -> 46105 | H19: 3 | I19: 23 | J19: =VLOOKUP($I19,TEAMS!$A$3:$D$56,2,0) -> Hotshots | K19: 20 | L19: =VLOOKUP($K19,TEAMS!$A$3:$D$56,2,0) -> White Knights | M19: =VLOOKUP($P19,TEAMS!$A$3:$D$56,2,0) -> Belton | N19: =VLOOKUP($Q19,TEAMS!$A$3:$D$56,2,0) -> Hornets | O19: =VLOOKUP($I19,TEAMS!$A$3:$D$56,3,0) -> Open | P19: 21 | Q19: 33
B20: =I20 -> 21 | C20: =K20 -> 24 | D20: =P20 -> 20 | E20: =Q20 -> 18 | F20: =VLOOKUP(I20,TEAMS!A19:D64,4,0) -> Monday | G20: =VLOOKUP(F20,$F$40:$G$43,2,FALSE) -> 46104 | H20: 3 | I20: 21 | J20: =VLOOKUP($I20,TEAMS!$A$3:$D$56,2,0) -> Belton | K20: 24 | L20: =VLOOKUP($K20,TEAMS!$A$3:$D$56,2,0) -> Icenians | M20: =VLOOKUP($P20,TEAMS!$A$3:$D$56,2,0) -> White Knights | N20: =VLOOKUP($Q20,TEAMS!$A$3:$D$56,2,0) -> Venus | O20: =VLOOKUP($I20,TEAMS!$A$3:$D$56,3,0) -> Open | P20: 20 | Q20: 18
H21: 3
B22: =I22 -> 31 | C22: =K22 -> 32 | D22: =P22 -> 43 | E22: =Q22 -> 17 | F22: Wednesday | G22: =VLOOKUP(F22,$F$40:$G$43,2,FALSE) -> 46106 | H22: 4 | I22: 31 | J22: =VLOOKUP($I22,TEAMS!$A$3:$D$56,2,0) -> Trailblazers | K22: 32 | L22: =VLOOKUP($K22,TEAMS!$A$3:$D$56,2,0) -> Red Hot Chillies | M22: =VLOOKUP($P22,TEAMS!$A$3:$D$56,2,0) -> Trowse | N22: =VLOOKUP($Q22,TEAMS!$A$3:$D$56,2,0) -> Blades | O22: =VLOOKUP($I22,TEAMS!$A$3:$D$56,3,0) -> Hellesdon High | P22: 43 | Q22: 17
B23: =I23 -> 25 | C23: =K23 -> 26 | D23: =P23 -> 28 | E23: =Q23 -> 15 | F23: =VLOOKUP(I23,TEAMS!A21:D66,4,0) -> Wednesday | G23: =VLOOKUP(F23,$F$40:$G$43,2,FALSE) -> 46106 | H23: 4 | I23: 25 | J23: =VLOOKUP($I23,TEAMS!$A$3:$D$56,2,0) -> NU Ruby | K23: 26 | L23: =VLOOKUP($K23,TEAMS!$A$3:$D$56,2,0) -> TB Shetlands | M23: =VLOOKUP($P23,TEAMS!$A$3:$D$56,2,0) -> Hethersett Rockets | N23: =VLOOKUP($Q23,TEAMS!$A$3:$D$56,2,0) -> Cliff Park | O23: =VLOOKUP($I23,TEAMS!$A$3:$D$56,3,0) -> UEA | P23: 28 | Q23: 15
B24: =I24 -> 27 | C24: =K24 -> 28 | D24: =P24 -> 24 | E24: =Q24 -> 29 | F24: =VLOOKUP(I24,TEAMS!A22:D67,4,0) -> Tuesday | G24: =VLOOKUP(F24,$F$40:$G$43,2,FALSE) -> 46105 | H24: 4 | I24: 27 | J24: =VLOOKUP($I24,TEAMS!$A$3:$D$56,2,0) -> Falcons | K24: 28 | L24: =VLOOKUP($K24,TEAMS!$A$3:$D$56,2,0) -> Hethersett Rockets | M24: =VLOOKUP($P24,TEAMS!$A$3:$D$56,2,0) -> Icenians | N24: =VLOOKUP($Q24,TEAMS!$A$3:$D$56,2,0) -> NCF Emerald | O24: =VLOOKUP($I24,TEAMS!$A$3:$D$56,3,0) -> City | P24: 24 | Q24: 29
B25: =I25 -> 29 | C25: =K25 -> 30 | D25: =P25 -> 37 | E25: =Q25 -> 42 | F25: Wednesday | G25: =VLOOKUP(F25,$F$40:$G$43,2,FALSE) -> 46106 | H25: 4 | I25: 29 | J25: =VLOOKUP($I25,TEAMS!$A$3:$D$56,2,0) -> NCF Emerald | K25: 30 | L25: =VLOOKUP($K25,TEAMS!$A$3:$D$56,2,0) -> Watton Wolves | M25: =VLOOKUP($P25,TEAMS!$A$3:$D$56,2,0) -> First Home Improvements | N25: =VLOOKUP($Q25,TEAMS!$A$3:$D$56,2,0) -> TB Ponies | O25: =VLOOKUP($I25,TEAMS!$A$3:$D$56,3,0) -> Hellesdon High | P25: 37 | Q25: 42
H26: 4
B27: =I27 -> 39 | C27: =K27 -> 38 | D27: =P27 -> 35 | E27: =Q27 -> 41 | F27: =VLOOKUP(I27,TEAMS!A26:D81,4,0) -> Wednesday | G27: =VLOOKUP(F27,$F$40:$G$43,2,FALSE) -> 46106 | H27: 5 | I27: 39 | J27: =VLOOKUP($I27,TEAMS!$A$3:$D$56,2,0) -> Tigers | K27: 38 | L27: =VLOOKUP($K27,TEAMS!$A$3:$D$56,2,0) -> NU Red | M27: =VLOOKUP($P27,TEAMS!$A$3:$D$56,2,0) -> Gems | N27: =VLOOKUP($Q27,TEAMS!$A$3:$D$56,2,0) -> Dragons | O27: Hellesdon High | P27: 35 | Q27: 41
B28: =I28 -> 36 | C28: =K28 -> 40 | D28: =P28 -> 0 | E28: =Q28 -> 0 | G28: =VLOOKUP(F28,$F$40:$G$43,2,FALSE) -> #N/A | H28: 5 | I28: 36 | J28: =VLOOKUP($I28,TEAMS!$A$3:$D$56,2,0) -> TB Fillies | K28: 40 | L28: =VLOOKUP($K28,TEAMS!$A$3:$D$56,2,0) -> BYE WEEK | M28: =VLOOKUP($P28,TEAMS!$A$3:$D$56,2,0) -> #N/A | N28: =VLOOKUP($Q28,TEAMS!$A$3:$D$56,2,0) -> #N/A
B29: =I29 -> 33 | C29: =K29 -> 35 | D29: =P29 -> 27 | E29: =Q29 -> 31 | F29: =VLOOKUP(I29,TEAMS!A23:D78,4,0) -> Monday | G29: =VLOOKUP(F29,$F$40:$G$43,2,FALSE) -> 46104 | H29: 5 | I29: 33 | J29: =VLOOKUP($I29,TEAMS!$A$3:$D$56,2,0) -> Hornets | K29: 35 | L29: =VLOOKUP($K29,TEAMS!$A$3:$D$56,2,0) -> Gems | M29: =VLOOKUP($P29,TEAMS!$A$3:$D$56,2,0) -> Falcons | N29: =VLOOKUP($Q29,TEAMS!$A$3:$D$56,2,0) -> Trailblazers | O29: =VLOOKUP($I29,TEAMS!$A$3:$D$56,3,0) -> Open | P29: 27 | Q29: 31
B30: =I30 -> 37 | C30: =K30 -> 34 | D30: =P30 -> 32 | E30: =Q30 -> 36 | F30: =VLOOKUP(I30,TEAMS!A25:D80,4,0) -> Monday | G30: =VLOOKUP(F30,$F$40:$G$43,2,FALSE) -> 46104 | H30: 5 | I30: 37 | J30: =VLOOKUP($I30,TEAMS!$A$3:$D$56,2,0) -> First Home Improvements | K30: 34 | L30: =VLOOKUP($K30,TEAMS!$A$3:$D$56,2,0) -> NU Amber | M30: =VLOOKUP($P30,TEAMS!$A$3:$D$56,2,0) -> Red Hot Chillies | N30: =VLOOKUP($Q30,TEAMS!$A$3:$D$56,2,0) -> TB Fillies | O30: =VLOOKUP($I30,TEAMS!$A$3:$D$56,3,0) -> Open | P30: 32 | Q30: 36
B31: =I32 -> 46 | C31: =K32 -> 47 | D31: =P31 -> 0 | E31: =Q31 -> 0
B32: =I33 -> 44 | C32: =K33 -> 48 | D32: =P32 -> 0 | E32: =Q32 -> 0 | G32: =VLOOKUP(F32,$F$40:$G$43,2,FALSE) -> #N/A | H32: 6 | I32: 46 | J32: =VLOOKUP($I32,TEAMS!$A$3:$D$56,2,0) -> Doves | K32: 47 | L32: =VLOOKUP($K32,TEAMS!$A$3:$D$56,2,0) -> BYE WEEK | M32: =VLOOKUP($P32,TEAMS!$A$3:$D$56,2,0) -> #N/A | N32: =VLOOKUP($Q32,TEAMS!$A$3:$D$56,2,0) -> #N/A
B33: =I34 -> 41 | C33: =K34 -> 43 | D33: =P33 -> 0 | E33: =Q33 -> 0 | G33: =VLOOKUP(F33,$F$40:$G$43,2,FALSE) -> #N/A | H33: 6 | I33: 44 | J33: =VLOOKUP($I33,TEAMS!$A$3:$D$56,2,0) -> Cromer Vipers | K33: 48 | L33: =VLOOKUP($K33,TEAMS!$A$3:$D$56,2,0) -> BYE WEEK | M33: =VLOOKUP($P33,TEAMS!$A$3:$D$56,2,0) -> #N/A | N33: =VLOOKUP($Q33,TEAMS!$A$3:$D$56,2,0) -> #N/A
B34: =#REF! -> #REF! | C34: =#REF! -> #REF! | D34: =P34 -> 38 | E34: =Q34 -> 44 | F34: =VLOOKUP(I34,TEAMS!A28:D83,4,0) -> Monday | G34: =VLOOKUP(F34,$F$40:$G$43,2,FALSE) -> 46104 | H34: 6 | I34: 41 | J34: =VLOOKUP($I34,TEAMS!$A$3:$D$56,2,0) -> Dragons | K34: 43 | L34: =VLOOKUP($K34,TEAMS!$A$3:$D$56,2,0) -> Trowse | M34: =VLOOKUP($P34,TEAMS!$A$3:$D$56,2,0) -> NU Red | N34: =VLOOKUP($Q34,TEAMS!$A$3:$D$56,2,0) -> Cromer Vipers | O34: =VLOOKUP($I34,TEAMS!$A$3:$D$56,3,0) -> Hellesdon High | P34: 38 | Q34: 44
B35: =I35 -> 45 | C35: =K35 -> 42 | D35: =P35 -> 22 | E35: =Q35 -> 9 | F35: Monday | G35: =VLOOKUP(F35,$F$40:$G$43,2,FALSE) -> 46104 | H35: 6 | I35: 45 | J35: =VLOOKUP($I35,TEAMS!$A$3:$D$56,2,0) -> NCF Onyx | K35: 42 | L35: =VLOOKUP($K35,TEAMS!$A$3:$D$56,2,0) -> TB Ponies | M35: =VLOOKUP($P35,TEAMS!$A$3:$D$56,2,0) -> Wrens | N35: =VLOOKUP($Q35,TEAMS!$A$3:$D$56,2,0) -> Phoenix | O35: Hellesdon High | P35: 22 | Q35: 9
G37: where indicated the date or venue has changed
G39: Date | H39: UEA | I39: Hellesdon CC | J39: HEWETT | K39: OPEN | L39: CITY | M39: OLD CATTON | N39: Hellesdon High | O39: SPROWSTON | P39: THORPE
F40: MONDAY | G40: =G3 -> 46104 | H40: =COUNTIFS($O$7:$O$35,H$39,$F$7:$F$35,$F40) -> 0 | I40: =COUNTIFS($O$7:$O$35,I$39,$F$7:$F$35,$F40) -> 0 | J40: =COUNTIFS($O$7:$O$35,J$39,$F$7:$F$35,$F40) -> 0 | K40: 3 | L40: =COUNTIFS($O$7:$O$35,L$39,$F$7:$F$35,$F40) -> 0 | M40: =COUNTIFS($O$7:$O$35,M$39,$F$7:$F$35,$F40) -> 0 | N40: =COUNTIFS($O$7:$O$35,N$39,$F$7:$F$35,$F40) -> 3 | O40: =COUNTIFS($O$7:$O$35,O$39,$F$7:$F$35,$F40) -> 0 | P40: =COUNTIFS($O$7:$O$35,P$39,$F$7:$F$35,$F40) -> 0 | Q40: =SUM(H40:P40) -> 6
F41: TUESDAY | G41: =G40+1 -> 46105 | H41: 2 | I41: =COUNTIFS($O$7:$O$35,I$39,$F$7:$F$35,$F41) -> 0 | J41: =COUNTIFS($O$7:$O$35,J$39,$F$7:$F$35,$F41) -> 0 | K41: 3 | L41: =COUNTIFS($O$7:$O$35,L$39,$F$7:$F$35,$F41) -> 1 | M41: =COUNTIFS($O$7:$O$35,M$39,$F$7:$F$35,$F41) -> 0 | N41: =COUNTIFS($O$7:$O$35,N$39,$F$7:$F$35,$F41) -> 2 | O41: =COUNTIFS($O$7:$O$35,O$39,$F$7:$F$35,$F41) -> 0 | P41: =COUNTIFS($O$7:$O$35,P$39,$F$7:$F$35,$F41) -> 0 | Q41: =SUM(H41:P41) -> 8
F42: WEDNESDAY | G42: =G41+1 -> 46106 | H42: =COUNTIFS($O$7:$O$35,H$39,$F$7:$F$35,$F42) -> 4 | I42: =COUNTIFS($O$7:$O$35,I$39,$F$7:$F$35,$F42) -> 0 | J42: =COUNTIFS($O$7:$O$35,J$39,$F$7:$F$35,$F42) -> 0 | K42: =COUNTIFS($O$7:$O$35,K$39,$F$7:$F$35,$F42) -> 0 | L42: =COUNTIFS($O$7:$O$35,L$39,$F$7:$F$35,$F42) -> 0 | M42: =COUNTIFS($O$7:$O$35,M$39,$F$7:$F$35,$F42) -> 0 | N42: =COUNTIFS($O$7:$O$35,N$39,$F$7:$F$35,$F42) -> 3 | O42: =COUNTIFS($O$7:$O$35,O$39,$F$7:$F$35,$F42) -> 0 | P42: =COUNTIFS($O$7:$O$35,P$39,$F$7:$F$35,$F42) -> 0 | Q42: =SUM(H42:P42) -> 7
F43: THURSDAY | G43: =G42+1 -> 46107 | H43: =COUNTIFS($O$7:$O$35,H$39,$F$7:$F$35,$F43) -> 0 | I43: =COUNTIFS($O$7:$O$35,I$39,$F$7:$F$35,$F43) -> 0 | J43: =COUNTIFS($O$7:$O$35,J$39,$F$7:$F$35,$F43) -> 0 | K43: =COUNTIFS($O$7:$O$35,K$39,$F$7:$F$35,$F43) -> 0 | L43: =COUNTIFS($O$7:$O$35,L$39,$F$7:$F$35,$F43) -> 0 | M43: =COUNTIFS($O$7:$O$35,M$39,$F$7:$F$35,$F43) -> 0 | N43: =COUNTIFS($O$7:$O$35,N$39,$F$7:$F$35,$F43) -> 0 | O43: =COUNTIFS($O$7:$O$35,O$39,$F$7:$F$35,$F43) -> 0 | P43: =COUNTIFS($O$7:$O$35,P$39,$F$7:$F$35,$F43) -> 0 | Q43: =SUM(H43:P43) -> 0
Q44: =SUM(Q40:Q43) -> 21

Sheet WK 2 FIXTURES
F3: Week Comm | G3: 46111 | H3: Wk 2 | U3: Playing | X3: Umpiring
B4: Playing | D4: Umpiring | U4: Home | V4: Away | X4: Home | Y4: Away
B5: Home | C5: Away | D5: Home | E5: Away | F5: Day | G5: Date | H5: Div | I5: Team Num | J5: Home Team | L5: Away Team | M5: Umpire 1 | N5: Umpire 2 | O5: Venue | P5: UMP1 | Q5: UMP2
B7: =I7 -> 4 | C7: =K7 -> 7 | D7: =P7 -> 1 | E7: =Q7 -> 2 | F7: =VLOOKUP(I7,TEAMS!A3:D56,4,0) -> Tuesday | G7: =VLOOKUP(F7,$F$40:$G$43,2,FALSE) -> 46112 | H7: 1 | I7: 4 | J7: =VLOOKUP($I7,TEAMS!$A$3:$D$56,2,0) -> Stars | K7: 7 | L7: =VLOOKUP($K7,TEAMS!$A$3:$D$56,2,0) -> Cromer Cobras | M7: =VLOOKUP($P7,TEAMS!$A$3:$D$56,2,0) -> NU Blue | N7: =VLOOKUP($Q7,TEAMS!$A$3:$D$56,2,0) -> NU White | O7: =VLOOKUP($I7,TEAMS!$A$3:$D$56,3,0) -> UEA | P7: 1 | Q7: 2
B8: =I8 -> 8 | C8: =K8 -> 2 | D8: =P8 -> 6 | E8: =Q8 -> 3 | F8: =VLOOKUP(I8,TEAMS!A4:D57,4,0) -> Wednesday | G8: =VLOOKUP(F8,$F$40:$G$43,2,FALSE) -> 46113 | H8: 1 | I8: 8 | J8: =VLOOKUP($I8,TEAMS!$A$3:$D$56,2,0) -> Jets | K8: 2 | L8: =VLOOKUP($K8,TEAMS!$A$3:$D$56,2,0) -> NU White | M8: =VLOOKUP($P8,TEAMS!$A$3:$D$56,2,0) -> Red Knights | N8: =VLOOKUP($Q8,TEAMS!$A$3:$D$56,2,0) -> TB Mustangs | O8: =VLOOKUP($I8,TEAMS!$A$3:$D$56,3,0) -> UEA | P8: 6 | Q8: 3
B9: =I9 -> 1 | C9: =K9 -> 5 | D9: =P9 -> 4 | E9: =Q9 -> 12 | F9: =VLOOKUP(I9,TEAMS!A3:D56,4,0) -> Wednesday | G9: =VLOOKUP(F9,$F$40:$G$43,2,FALSE) -> 46113 | H9: 1 | I9: 1 | J9: =VLOOKUP($I9,TEAMS!$A$3:$D$56,2,0) -> NU Blue | K9: 5 | L9: =VLOOKUP($K9,TEAMS!$A$3:$D$56,2,0) -> TB Racers | M9: =VLOOKUP($P9,TEAMS!$A$3:$D$56,2,0) -> Stars | N9: =VLOOKUP($Q9,TEAMS!$A$3:$D$56,2,0) -> NU Yellow | O9: =VLOOKUP($I9,TEAMS!$A$3:$D$56,3,0) -> UEA | P9: 4 | Q9: 12
B10: =I10 -> 6 | C10: =K10 -> 3 | D10: =P10 -> 5 | E10: =Q10 -> 18 | F10: =VLOOKUP(I10,TEAMS!A5:D56,4,0) -> Tuesday | G10: =VLOOKUP(F10,$F$40:$G$43,2,FALSE) -> 46112 | H10: 1 | I10: 6 | J10: =VLOOKUP($I10,TEAMS!$A$3:$D$56,2,0) -> Red Knights | K10: 3 | L10: =VLOOKUP($K10,TEAMS!$A$3:$D$56,2,0) -> TB Mustangs | M10: =VLOOKUP($P10,TEAMS!$A$3:$D$56,2,0) -> TB Racers | N10: =VLOOKUP($Q10,TEAMS!$A$3:$D$56,2,0) -> Venus | O10: UEA | P10: 5 | Q10: 18
B12: =I12 -> 14 | C12: =K12 -> 11 | D12: =P12 -> 8 | E12: =Q12 -> 10 | F12: Tuesday | G12: =VLOOKUP(F12,$F$40:$G$43,2,FALSE) -> 46112 | H12: 2 | I12: 14 | J12: =VLOOKUP($I12,TEAMS!$A$3:$D$56,2,0) -> NU Royal | K12: 11 | L12: =VLOOKUP($K12,TEAMS!$A$3:$D$56,2,0) -> TB Colts | M12: =VLOOKUP($P12,TEAMS!$A$3:$D$56,2,0) -> Jets | N12: =VLOOKUP($Q12,TEAMS!$A$3:$D$56,2,0) -> Black Knights | O12: Hellesdon High | P12: 8 | Q12: 10
B13: =I13 -> 12 | C13: =K13 -> 9 | D13: =P13 -> 25 | E13: =Q13 -> 26 | F13: =VLOOKUP(I13,TEAMS!A9:D62,4,0) -> Tuesday | G13: =VLOOKUP(F13,$F$40:$G$43,2,FALSE) -> 46112 | H13: 2 | I13: 12 | J13: =VLOOKUP($I13,TEAMS!$A$3:$D$56,2,0) -> NU Yellow | K13: 9 | L13: =VLOOKUP($K13,TEAMS!$A$3:$D$56,2,0) -> Phoenix | M13: =VLOOKUP($P13,TEAMS!$A$3:$D$56,2,0) -> NU Ruby | N13: =VLOOKUP($Q13,TEAMS!$A$3:$D$56,2,0) -> TB Shetlands | O13: =VLOOKUP($I13,TEAMS!$A$3:$D$56,3,0) -> UEA | P13: 25 | Q13: 26
B14: =I14 -> 13 | C14: =K14 -> 16 | D14: =P14 -> 46 | E14: =Q14 -> 34 | F14: =VLOOKUP(I14,TEAMS!A10:D63,4,0) -> Tuesday | G14: =VLOOKUP(F14,$F$40:$G$43,2,FALSE) -> 46112 | H14: 2 | I14: 13 | J14: =VLOOKUP($I14,TEAMS!$A$3:$D$56,2,0) -> Sonics | K14: 16 | L14: =VLOOKUP($K14,TEAMS!$A$3:$D$56,2,0) -> Sirens | M14: =VLOOKUP($P14,TEAMS!$A$3:$D$56,2,0) -> Doves | N14: =VLOOKUP($Q14,TEAMS!$A$3:$D$56,2,0) -> NU Amber | O14: Hellesdon High | P14: 46 | Q14: 34
B15: =I15 -> 15 | C15: =K15 -> 10 | D15: =P15 -> 11 | E15: =Q15 -> 20 | F15: =VLOOKUP(I15,TEAMS!A11:D64,4,0) -> Monday | G15: =VLOOKUP(F15,$F$40:$G$43,2,FALSE) -> 46111 | H15: 2 | I15: 15 | J15: =VLOOKUP($I15,TEAMS!$A$3:$D$56,2,0) -> Cliff Park | K15: 10 | L15: =VLOOKUP($K15,TEAMS!$A$3:$D$56,2,0) -> Black Knights | M15: =VLOOKUP($P15,TEAMS!$A$3:$D$56,2,0) -> TB Colts | N15: =VLOOKUP($Q15,TEAMS!$A$3:$D$56,2,0) -> White Knights | O15: =VLOOKUP($I15,TEAMS!$A$3:$D$56,3,0) -> Open | P15: 11 | Q15: 20
B17: =I17 -> 24 | C17: =K17 -> 20 | D17: =P17 -> 7 | E17: =Q17 -> 13 | F17: =VLOOKUP(I17,TEAMS!A15:D68,4,0) -> Wednesday | G17: =VLOOKUP(F17,$F$40:$G$43,2,FALSE) -> 46113 | H17: 3 | I17: 24 | J17: =VLOOKUP($I17,TEAMS!$A$3:$D$56,2,0) -> Icenians | K17: 20 | L17: =VLOOKUP($K17,TEAMS!$A$3:$D$56,2,0) -> White Knights | M17: =VLOOKUP($P17,TEAMS!$A$3:$D$56,2,0) -> Cromer Cobras | N17: =VLOOKUP($Q17,TEAMS!$A$3:$D$56,2,0) -> Sonics | O17: =VLOOKUP($I17,TEAMS!$A$3:$D$56,3,0) -> Open | P17: 7 | Q17: 13
B18: =I18 -> 17 | C18: =K18 -> 22 | D18: =P18 -> 21 | E18: =Q18 -> 33 | F18: =VLOOKUP(I18,TEAMS!A16:D69,4,0) -> Tuesday | G18: =VLOOKUP(F18,$F$40:$G$43,2,FALSE) -> 46112 | H18: 3 | I18: 17 | J18: =VLOOKUP($I18,TEAMS!$A$3:$D$56,2,0) -> Blades | K18: 22 | L18: =VLOOKUP($K18,TEAMS!$A$3:$D$56,2,0) -> Wrens | M18: =VLOOKUP($P18,TEAMS!$A$3:$D$56,2,0) -> Belton | N18: =VLOOKUP($Q18,TEAMS!$A$3:$D$56,2,0) -> Hornets | O18: =VLOOKUP($I18,TEAMS!$A$3:$D$56,3,0) -> Open | P18: 21 | Q18: 33
B19: =I19 -> 21 | C19: =K19 -> 18 | D19: =P19 -> 14 | E19: =Q19 -> 16 | F19: =VLOOKUP(I19,TEAMS!A13:D66,4,0) -> Monday | G19: =VLOOKUP(F19,$F$40:$G$43,2,FALSE) -> 46111 | H19: 3 | I19: 21 | J19: =VLOOKUP($I19,TEAMS!$A$3:$D$56,2,0) -> Belton | K19: 18 | L19: =VLOOKUP($K19,TEAMS!$A$3:$D$56,2,0) -> Venus | M19: =VLOOKUP($P19,TEAMS!$A$3:$D$56,2,0) -> NU Royal | N19: =VLOOKUP($Q19,TEAMS!$A$3:$D$56,2,0) -> Sirens | O19: =VLOOKUP($I19,TEAMS!$A$3:$D$56,3,0) -> Open | P19: 14 | Q19: 16
B20: =I20 -> 23 | C20: =K20 -> 19 | D20: =P20 -> 36 | E20: =Q20 -> 38 | F20: =VLOOKUP(I20,TEAMS!A14:D67,4,0) -> Tuesday | G20: =VLOOKUP(F20,$F$40:$G$43,2,FALSE) -> 46112 | H20: 3 | I20: 23 | J20: =VLOOKUP($I20,TEAMS!$A$3:$D$56,2,0) -> Hotshots | K20: 19 | L20: =VLOOKUP($K20,TEAMS!$A$3:$D$56,2,0) -> Premier | M20: =VLOOKUP($P20,TEAMS!$A$3:$D$56,2,0) -> TB Fillies | N20: =VLOOKUP($Q20,TEAMS!$A$3:$D$56,2,0) -> NU Red | O20: =VLOOKUP($I20,TEAMS!$A$3:$D$56,3,0) -> Open | P20: 36 | Q20: 38
B22: =I22 -> 28 | C22: =K22 -> 26 | D22: =P22 -> 9 | E22: =Q22 -> 17 | F22: Wednesday | G22: =VLOOKUP(F22,$F$40:$G$43,2,FALSE) -> 46113 | H22: 4 | I22: 28 | J22: =VLOOKUP($I22,TEAMS!$A$3:$D$56,2,0) -> Hethersett Rockets | K22: 26 | L22: =VLOOKUP($K22,TEAMS!$A$3:$D$56,2,0) -> TB Shetlands | M22: =VLOOKUP($P22,TEAMS!$A$3:$D$56,2,0) -> Phoenix | N22: =VLOOKUP($Q22,TEAMS!$A$3:$D$56,2,0) -> Blades | O22: =VLOOKUP($I22,TEAMS!$A$3:$D$56,3,0) -> Hellesdon High | P22: 9 | Q22: 17
B23: =I23 -> 30 | C23: =K23 -> 32 | D23: =P23 -> 15 | E23: =Q23 -> 24 | F23: =VLOOKUP(I23,TEAMS!A21:D76,4,0) -> Tuesday | G23: =VLOOKUP(F23,$F$40:$G$43,2,FALSE) -> 46112 | H23: 4 | I23: 30 | J23: =VLOOKUP($I23,TEAMS!$A$3:$D$56,2,0) -> Watton Wolves | K23: 32 | L23: =VLOOKUP($K23,TEAMS!$A$3:$D$56,2,0) -> Red Hot Chillies | M23: =VLOOKUP($P23,TEAMS!$A$3:$D$56,2,0) -> Cliff Park | N23: =VLOOKUP($Q23,TEAMS!$A$3:$D$56,2,0) -> Icenians | O23: =VLOOKUP($I23,TEAMS!$A$3:$D$56,3,0) -> UEA | P23: 15 | Q23: 24
B24: =I24 -> 25 | C24: =K24 -> 27 | D24: =P24 -> 19 | E24: =Q24 -> 22 | F24: =VLOOKUP(I24,TEAMS!A18:D73,4,0) -> Wednesday | G24: =VLOOKUP(F24,$F$40:$G$43,2,FALSE) -> 46113 | H24: 4 | I24: 25 | J24: =VLOOKUP($I24,TEAMS!$A$3:$D$56,2,0) -> NU Ruby | K24: 27 | L24: =VLOOKUP($K24,TEAMS!$A$3:$D$56,2,0) -> Falcons | M24: =VLOOKUP($P24,TEAMS!$A$3:$D$56,2,0) -> Premier | N24: =VLOOKUP($Q24,TEAMS!$A$3:$D$56,2,0) -> Wrens | O24: =VLOOKUP($I24,TEAMS!$A$3:$D$56,3,0) -> UEA | P24: 19 | Q24: 22
B25: =I25 -> 29 | C25: =K25 -> 31 | D25: =P25 -> 23 | E25: =Q25 -> 0 | F25: Wednesday | G25: =VLOOKUP(F25,$F$40:$G$43,2,FALSE) -> 46113 | H25: 4 | I25: 29 | J25: =VLOOKUP($I25,TEAMS!$A$3:$D$56,2,0) -> NCF Emerald | K25: 31 | L25: =VLOOKUP($K25,TEAMS!$A$3:$D$56,2,0) -> Trailblazers | M25: =VLOOKUP($P25,TEAMS!$A$3:$D$56,2,0) -> Hotshots | N25: =VLOOKUP($Q25,TEAMS!$A$3:$D$56,2,0) -> #N/A | O25: =VLOOKUP($I25,TEAMS!$A$3:$D$56,3,0) -> Hellesdon High | P25: 23
B27: =I27 -> 36 | C27: =K27 -> 39 | D27: =P27 -> 28 | E27: =Q27 -> 29 | F27: Monday | G27: =VLOOKUP(F27,$F$40:$G$43,2,FALSE) -> 46111 | H27: 5 | I27: 36 | J27: =VLOOKUP($I27,TEAMS!$A$3:$D$56,2,0) -> TB Fillies | K27: 39 | L27: =VLOOKUP($K27,TEAMS!$A$3:$D$56,2,0) -> Tigers | M27: =VLOOKUP($P27,TEAMS!$A$3:$D$56,2,0) -> Hethersett Rockets | N27: =VLOOKUP($Q27,TEAMS!$A$3:$D$56,2,0) -> NCF Emerald | O27: Open | P27: 28 | Q27: 29
B28: =I28 -> 40 | C28: =K28 -> 34 | D28: =P28 -> 0 | E28: =Q28 -> 0 | F28: =VLOOKUP(I28,TEAMS!A23:D78,4,0) -> 0 | G28: =VLOOKUP(F28,$F$40:$G$43,2,FALSE) -> #N/A | H28: 5 | I28: 40 | J28: =VLOOKUP($I28,TEAMS!$A$3:$D$56,2,0) -> BYE WEEK | K28: 34 | L28: =VLOOKUP($K28,TEAMS!$A$3:$D$56,2,0) -> NU Amber | M28: =VLOOKUP($P28,TEAMS!$A$3:$D$56,2,0) -> #N/A | N28: =VLOOKUP($Q28,TEAMS!$A$3:$D$56,2,0) -> #N/A
B29: =I29 -> 33 | C29: =K29 -> 37 | D29: =P29 -> 27 | E29: =Q29 -> 30 | F29: =VLOOKUP(I29,TEAMS!A24:D79,4,0) -> Monday | G29: =VLOOKUP(F29,$F$40:$G$43,2,FALSE) -> 46111 | H29: 5 | I29: 33 | J29: =VLOOKUP($I29,TEAMS!$A$3:$D$56,2,0) -> Hornets | K29: 37 | L29: =VLOOKUP($K29,TEAMS!$A$3:$D$56,2,0) -> First Home Improvements | M29: =VLOOKUP($P29,TEAMS!$A$3:$D$56,2,0) -> Falcons | N29: =VLOOKUP($Q29,TEAMS!$A$3:$D$56,2,0) -> Watton Wolves | O29: =VLOOKUP($I29,TEAMS!$A$3:$D$56,3,0) -> Open | P29: 27 | Q29: 30
B30: =I30 -> 35 | C30: =K30 -> 38 | D30: =P30 -> 32 | E30: =Q30 -> 37 | F30: Wednesday | G30: =VLOOKUP(F30,$F$40:$G$43,2,FALSE) -> 46113 | H30: 5 | I30: 35 | J30: =VLOOKUP($I30,TEAMS!$A$3:$D$56,2,0) -> Gems | K30: 38 | L30: =VLOOKUP($K30,TEAMS!$A$3:$D$56,2,0) -> NU Red | M30: =VLOOKUP($P30,TEAMS!$A$3:$D$56,2,0) -> Red Hot Chillies | N30: =VLOOKUP($Q30,TEAMS!$A$3:$D$56,2,0) -> First Home Improvements | O30: UEA | P30: 32 | Q30: 37
B31: =I32 -> 44 | C31: =K32 -> 47 | D31: =P32 -> 0 | E31: =Q32 -> 0
B32: =I33 -> 48 | C32: =K33 -> 42 | D32: =P33 -> 0 | E32: =Q33 -> 0 | G32: =VLOOKUP(F32,$F$40:$G$43,2,FALSE) -> #N/A | H32: 6 | I32: 44 | J32: =VLOOKUP($I32,TEAMS!$A$3:$D$56,2,0) -> Cromer Vipers | K32: 47 | L32: =VLOOKUP($K32,TEAMS!$A$3:$D$56,2,0) -> BYE WEEK | M32: =VLOOKUP($P32,TEAMS!$A$3:$D$56,2,0) -> #N/A | N32: =VLOOKUP($Q32,TEAMS!$A$3:$D$56,2,0) -> #N/A
B33: =I34 -> 41 | C33: =K34 -> 45 | D33: =P34 -> 43 | E33: =Q34 -> 35 | F33: =VLOOKUP(I33,TEAMS!A28:D83,4,0) -> 0 | G33: =VLOOKUP(F33,$F$40:$G$43,2,FALSE) -> #N/A | H33: 6 | I33: 48 | J33: =VLOOKUP($I33,TEAMS!$A$3:$D$56,2,0) -> BYE WEEK | K33: 42 | L33: =VLOOKUP($K33,TEAMS!$A$3:$D$56,2,0) -> TB Ponies | M33: =VLOOKUP($P33,TEAMS!$A$3:$D$56,2,0) -> #N/A | N33: =VLOOKUP($Q33,TEAMS!$A$3:$D$56,2,0) -> #N/A
F34: =VLOOKUP(I34,TEAMS!A29:D84,4,0) -> Monday | G34: =VLOOKUP(F34,$F$40:$G$43,2,FALSE) -> 46111 | H34: 6 | I34: 41 | J34: =VLOOKUP($I34,TEAMS!$A$3:$D$56,2,0) -> Dragons | K34: 45 | L34: =VLOOKUP($K34,TEAMS!$A$3:$D$56,2,0) -> NCF Onyx | M34: =VLOOKUP($P34,TEAMS!$A$3:$D$56,2,0) -> Trowse | N34: =VLOOKUP($Q34,TEAMS!$A$3:$D$56,2,0) -> Gems | O34: =VLOOKUP($I34,TEAMS!$A$3:$D$56,3,0) -> Hellesdon High | P34: 43 | Q34: 35
F35: =VLOOKUP(I35,TEAMS!A30:D85,4,0) -> Thursday | G35: =VLOOKUP(F35,$F$40:$G$43,2,FALSE) -> 46114 | H35: 6 | I35: 43 | J35: =VLOOKUP($I35,TEAMS!$A$3:$D$56,2,0) -> Trowse | K35: 46 | L35: =VLOOKUP($K35,TEAMS!$A$3:$D$56,2,0) -> Doves | M35: =VLOOKUP($P35,TEAMS!$A$3:$D$56,2,0) -> Dragons | N35: =VLOOKUP($Q35,TEAMS!$A$3:$D$56,2,0) -> Cromer Vipers | O35: =VLOOKUP($I35,TEAMS!$A$3:$D$56,3,0) -> Hellesdon High | P35: 41 | Q35: 44
G37: where indicated the date or venue has changed
G39: Date | H39: UEA | I39: HELLESDON CC | J39: HEWETT | K39: OPEN | L39: CITY | M39: OLD CATTON | N39: Hellesdon High | O39: SPROWSTON | P39: THORPE
F40: MONDAY | G40: =G3 -> 46111 | H40: =COUNTIFS($O$7:$O$35,H$39,$F$7:$F$35,$F40) -> 0 | I40: =COUNTIFS($O$7:$O$35,I$39,$F$7:$F$35,$F40) -> 0 | J40: =COUNTIFS($O$7:$O$35,J$39,$F$7:$F$35,$F40) -> 0 | K40: =COUNTIFS($O$7:$O$35,K$39,$F$7:$F$35,$F40) -> 4 | L40: =COUNTIFS($O$7:$O$35,L$39,$F$7:$F$35,$F40) -> 0 | M40: =COUNTIFS($O$7:$O$35,M$39,$F$7:$F$35,$F40) -> 0 | N40: =COUNTIFS($O$7:$O$35,N$39,$F$7:$F$35,$F40) -> 1 | O40: =COUNTIFS($O$7:$O$35,O$39,$F$7:$F$35,$F40) -> 0 | P40: =COUNTIFS($O$7:$O$35,P$39,$F$7:$F$35,$F40) -> 0 | Q40: =SUM(H40:P40) -> 5
F41: TUESDAY | G41: =G40+1 -> 46112 | H41: =COUNTIFS($O$7:$O$35,H$39,$F$7:$F$35,$F41) -> 4 | I41: =COUNTIFS($O$7:$O$35,I$39,$F$7:$F$35,$F41) -> 0 | J41: =COUNTIFS($O$7:$O$35,J$39,$F$7:$F$35,$F41) -> 0 | K41: =COUNTIFS($O$7:$O$35,K$39,$F$7:$F$35,$F41) -> 2 | L41: =COUNTIFS($O$7:$O$35,L$39,$F$7:$F$35,$F41) -> 0 | M41: =COUNTIFS($O$7:$O$35,M$39,$F$7:$F$35,$F41) -> 0 | N41: =COUNTIFS($O$7:$O$35,N$39,$F$7:$F$35,$F41) -> 2 | O41: =COUNTIFS($O$7:$O$35,O$39,$F$7:$F$35,$F41) -> 0 | P41: =COUNTIFS($O$7:$O$35,P$39,$F$7:$F$35,$F41) -> 0 | Q41: =SUM(H41:P41) -> 8
F42: WEDNESDAY | G42: =G41+1 -> 46113 | H42: =COUNTIFS($O$7:$O$35,H$39,$F$7:$F$35,$F42) -> 4 | I42: =COUNTIFS($O$7:$O$35,I$39,$F$7:$F$35,$F42) -> 0 | J42: =COUNTIFS($O$7:$O$35,J$39,$F$7:$F$35,$F42) -> 0 | K42: =COUNTIFS($O$7:$O$35,K$39,$F$7:$F$35,$F42) -> 1 | L42: =COUNTIFS($O$7:$O$35,L$39,$F$7:$F$35,$F42) -> 0 | M42: =COUNTIFS($O$7:$O$35,M$39,$F$7:$F$35,$F42) -> 0 | N42: =COUNTIFS($O$7:$O$35,N$39,$F$7:$F$35,$F42) -> 2 | O42: =COUNTIFS($O$7:$O$35,O$39,$F$7:$F$35,$F42) -> 0 | P42: =COUNTIFS($O$7:$O$35,P$39,$F$7:$F$35,$F42) -> 0 | Q42: =SUM(H42:P42) -> 7
F43: THURSDAY | G43: =G42+1 -> 46114 | H43: =COUNTIFS($O$7:$O$35,H$39,$F$7:$F$35,$F43) -> 0 | I43: =COUNTIFS($O$7:$O$35,I$39,$F$7:$F$35,$F43) -> 0 | J43: =COUNTIFS($O$7:$O$35,J$39,$F$7:$F$35,$F43) -> 0 | K43: =COUNTIFS($O$7:$O$35,K$39,$F$7:$F$35,$F43) -> 0 | L43: =COUNTIFS($O$7:$O$35,L$39,$F$7:$F$35,$F43) -> 0 | M43: =COUNTIFS($O$7:$O$35,M$39,$F$7:$F$35,$F43) -> 0 | N43: =COUNTIFS($O$7:$O$35,N$39,$F$7:$F$35,$F43) -> 1 | O43: =COUNTIFS($O$7:$O$35,O$39,$F$7:$F$35,$F43) -> 0 | P43: =COUNTIFS($O$7:$O$35,P$39,$F$7:$F$35,$F43) -> 0 | Q43: =SUM(H43:P43) -> 1
Q44: =SUM(Q40:Q43) -> 21

Sheet WK 3 FIXTURES
F3: Week Comm | G3: 46125 | H3: Wk 3
B4: Playing | D4: Umpiring
B5: Home | C5: Away | D5: Home | E5: Away | F5: Day | G5: Date | H5: Div | I5: Team Num | J5: Home Team | L5: Away Team | M5: Umpire 1 | N5: Umpire 2 | O5: Venue | P5: UMP1 | Q5: UMP2
B7: =I7 -> 8 | C7: =K7 -> 7 | D7: =P7 -> 4 | E7: =Q7 -> 6 | F7: =VLOOKUP(I7,TEAMS!A3:D56,4,0) -> Wednesday | G7: =VLOOKUP(F7,$F$40:$G$43,2,FALSE) -> 46127 | H7: 1 | I7: 8 | J7: =VLOOKUP($I7,TEAMS!$A$3:$D$56,2,0) -> Jets | K7: 7 | L7: =VLOOKUP($K7,TEAMS!$A$3:$D$56,2,0) -> Cromer Cobras | M7: =VLOOKUP($P7,TEAMS!$A$3:$D$56,2,0) -> Stars | N7: =VLOOKUP($Q7,TEAMS!$A$3:$D$56,2,0) -> Red Knights | O7: =VLOOKUP($I7,TEAMS!$A$3:$D$56,3,0) -> UEA | P7: 4 | Q7: 6
B8: =I8 -> 4 | C8: =K8 -> 6 | D8: =P8 -> 1 | E8: =Q8 -> 5 | F8: =VLOOKUP(I8,TEAMS!A3:D56,4,0) -> Tuesday | G8: =VLOOKUP(F8,$F$40:$G$43,2,FALSE) -> 46126 | H8: 1 | I8: 4 | J8: =VLOOKUP($I8,TEAMS!$A$3:$D$56,2,0) -> Stars | K8: 6 | L8: =VLOOKUP($K8,TEAMS!$A$3:$D$56,2,0) -> Red Knights | M8: =VLOOKUP($P8,TEAMS!$A$3:$D$56,2,0) -> NU Blue | N8: =VLOOKUP($Q8,TEAMS!$A$3:$D$56,2,0) -> TB Racers | O8: =VLOOKUP($I8,TEAMS!$A$3:$D$56,3,0) -> UEA | P8: 1 | Q8: 5
B9: =I9 -> 1 | C9: =K9 -> 2 | D9: =P9 -> 11 | E9: =Q9 -> 12 | F9: =VLOOKUP(I9,TEAMS!A3:D56,4,0) -> Wednesday | G9: =VLOOKUP(F9,$F$40:$G$43,2,FALSE) -> 46127 | H9: 1 | I9: 1 | J9: =VLOOKUP($I9,TEAMS!$A$3:$D$56,2,0) -> NU Blue | K9: 2 | L9: =VLOOKUP($K9,TEAMS!$A$3:$D$56,2,0) -> NU White | M9: =VLOOKUP($P9,TEAMS!$A$3:$D$56,2,0) -> TB Colts | N9: =VLOOKUP($Q9,TEAMS!$A$3:$D$56,2,0) -> NU Yellow | O9: =VLOOKUP($I9,TEAMS!$A$3:$D$56,3,0) -> UEA | P9: 11 | Q9: 12
B10: =I10 -> 3 | C10: =K10 -> 5 | D10: =P10 -> 13 | E10: =Q10 -> 16 | F10: =VLOOKUP(I10,TEAMS!A5:D56,4,0) -> Wednesday | G10: =VLOOKUP(F10,$F$40:$G$43,2,FALSE) -> 46127 | H10: 1 | I10: 3 | J10: =VLOOKUP($I10,TEAMS!$A$3:$D$56,2,0) -> TB Mustangs | K10: 5 | L10: =VLOOKUP($K10,TEAMS!$A$3:$D$56,2,0) -> TB Racers | M10: =VLOOKUP($P10,TEAMS!$A$3:$D$56,2,0) -> Sonics | N10: =VLOOKUP($Q10,TEAMS!$A$3:$D$56,2,0) -> Sirens | O10: =VLOOKUP($I10,TEAMS!$A$3:$D$56,3,0) -> Sprowston | P10: 13 | Q10: 16
B12: =I12 -> 15 | C12: =K12 -> 12 | D12: =P12 -> 2 | E12: =Q12 -> 3 | F12: =VLOOKUP(I12,TEAMS!A8:D61,4,0) -> Monday | G12: =VLOOKUP(F12,$F$40:$G$43,2,FALSE) -> 46125 | H12: 2 | I12: 15 | J12: =VLOOKUP($I12,TEAMS!$A$3:$D$56,2,0) -> Cliff Park | K12: 12 | L12: =VLOOKUP($K12,TEAMS!$A$3:$D$56,2,0) -> NU Yellow | M12: =VLOOKUP($P12,TEAMS!$A$3:$D$56,2,0) -> NU White | N12: =VLOOKUP($Q12,TEAMS!$A$3:$D$56,2,0) -> TB Mustangs | O12: =VLOOKUP($I12,TEAMS!$A$3:$D$56,3,0) -> Open | P12: 2 | Q12: 3
B13: =I13 -> 9 | C13: =K13 -> 14 | D13: =P13 -> 8 | E13: =Q13 -> 23 | F13: =VLOOKUP(I13,TEAMS!A10:D63,4,0) -> Tuesday | G13: =VLOOKUP(F13,$F$40:$G$43,2,FALSE) -> 46126 | H13: 2 | I13: 9 | J13: =VLOOKUP($I13,TEAMS!$A$3:$D$56,2,0) -> Phoenix | K13: 14 | L13: =VLOOKUP($K13,TEAMS!$A$3:$D$56,2,0) -> NU Royal | M13: =VLOOKUP($P13,TEAMS!$A$3:$D$56,2,0) -> Jets | N13: =VLOOKUP($Q13,TEAMS!$A$3:$D$56,2,0) -> Hotshots | O13: =VLOOKUP($I13,TEAMS!$A$3:$D$56,3,0) -> UEA | P13: 8 | Q13: 23
B14: =I14 -> 13 | C14: =K14 -> 10 | D14: =P14 -> 25 | E14: =Q14 -> 34 | F14: =VLOOKUP(I14,TEAMS!A9:D62,4,0) -> Tuesday | G14: =VLOOKUP(F14,$F$40:$G$43,2,FALSE) -> 46126 | H14: 2 | I14: 13 | J14: =VLOOKUP($I14,TEAMS!$A$3:$D$56,2,0) -> Sonics | K14: 10 | L14: =VLOOKUP($K14,TEAMS!$A$3:$D$56,2,0) -> Black Knights | M14: =VLOOKUP($P14,TEAMS!$A$3:$D$56,2,0) -> NU Ruby | N14: =VLOOKUP($Q14,TEAMS!$A$3:$D$56,2,0) -> NU Amber | O14: =VLOOKUP($I14,TEAMS!$A$3:$D$56,3,0) -> Open | P14: 25 | Q14: 34
B15: =I15 -> 16 | C15: =K15 -> 11 | D15: =P15 -> 10 | E15: =Q15 -> 14 | F15: =VLOOKUP(I15,TEAMS!A11:D64,4,0) -> Monday | G15: =VLOOKUP(F15,$F$40:$G$43,2,FALSE) -> 46125 | H15: 2 | I15: 16 | J15: =VLOOKUP($I15,TEAMS!$A$3:$D$56,2,0) -> Sirens | K15: 11 | L15: =VLOOKUP($K15,TEAMS!$A$3:$D$56,2,0) -> TB Colts | M15: =VLOOKUP($P15,TEAMS!$A$3:$D$56,2,0) -> Black Knights | N15: =VLOOKUP($Q15,TEAMS!$A$3:$D$56,2,0) -> NU Royal | O15: =VLOOKUP($I15,TEAMS!$A$3:$D$56,3,0) -> Open | P15: 10 | Q15: 14
B17: =I17 -> 24 | C17: =K17 -> 23 | D17: =P17 -> 18 | E17: =Q17 -> 19 | F17: =VLOOKUP(I17,TEAMS!A14:D67,4,0) -> Wednesday | G17: =VLOOKUP(F17,$F$40:$G$43,2,FALSE) -> 46127 | H17: 3 | I17: 24 | J17: =VLOOKUP($I17,TEAMS!$A$3:$D$56,2,0) -> Icenians | K17: 23 | L17: =VLOOKUP($K17,TEAMS!$A$3:$D$56,2,0) -> Hotshots | M17: =VLOOKUP($P17,TEAMS!$A$3:$D$56,2,0) -> Venus | N17: =VLOOKUP($Q17,TEAMS!$A$3:$D$56,2,0) -> Premier | O17: =VLOOKUP($I17,TEAMS!$A$3:$D$56,3,0) -> Open | P17: 18 | Q17: 19
B18: =I18 -> 19 | C18: =K18 -> 18 | D18: =P18 -> 7 | E18: =Q18 -> 21 | F18: Tuesday | G18: =VLOOKUP(F18,$F$40:$G$43,2,FALSE) -> 46126 | H18: 3 | I18: 19 | J18: =VLOOKUP($I18,TEAMS!$A$3:$D$56,2,0) -> Premier | K18: 18 | L18: =VLOOKUP($K18,TEAMS!$A$3:$D$56,2,0) -> Venus | M18: =VLOOKUP($P18,TEAMS!$A$3:$D$56,2,0) -> Cromer Cobras | N18: =VLOOKUP($Q18,TEAMS!$A$3:$D$56,2,0) -> Belton | O18: Hellesdon High | P18: 7 | Q18: 21
B19: =I19 -> 22 | C19: =K19 -> 20 | D19: =P19 -> 33 | E19: =Q19 -> 38 | F19: Tuesday | G19: =VLOOKUP(F19,$F$40:$G$43,2,FALSE) -> 46126 | H19: 3 | I19: 22 | J19: =VLOOKUP($I19,TEAMS!$A$3:$D$56,2,0) -> Wrens | K19: 20 | L19: =VLOOKUP($K19,TEAMS!$A$3:$D$56,2,0) -> White Knights | M19: =VLOOKUP($P19,TEAMS!$A$3:$D$56,2,0) -> Hornets | N19: =VLOOKUP($Q19,TEAMS!$A$3:$D$56,2,0) -> NU Red | O19: =VLOOKUP($I19,TEAMS!$A$3:$D$56,3,0) -> Open | P19: 33 | Q19: 38
B20: =I20 -> 17 | C20: =K20 -> 21 | D20: =P20 -> 20 | E20: =Q20 -> 26 | F20: Wednesday | G20: =VLOOKUP(F20,$F$40:$G$43,2,FALSE) -> 46127 | H20: 3 | I20: 17 | J20: =VLOOKUP($I20,TEAMS!$A$3:$D$56,2,0) -> Blades | K20: 21 | L20: =VLOOKUP($K20,TEAMS!$A$3:$D$56,2,0) -> Belton | M20: =VLOOKUP($P20,TEAMS!$A$3:$D$56,2,0) -> White Knights | N20: =VLOOKUP($Q20,TEAMS!$A$3:$D$56,2,0) -> TB Shetlands | O20: Hellesdon High | P20: 20 | Q20: 26
B22: =I22 -> 27 | C22: =K22 -> 26 | D22: =P22 -> 17 | E22: =Q22 -> 24 | F22: =VLOOKUP(I22,TEAMS!A19:D74,4,0) -> Tuesday | G22: =VLOOKUP(F22,$F$40:$G$43,2,FALSE) -> 46126 | H22: 4 | I22: 27 | J22: =VLOOKUP($I22,TEAMS!$A$3:$D$56,2,0) -> Falcons | K22: 26 | L22: =VLOOKUP($K22,TEAMS!$A$3:$D$56,2,0) -> TB Shetlands | M22: =VLOOKUP($P22,TEAMS!$A$3:$D$56,2,0) -> Blades | N22: =VLOOKUP($Q22,TEAMS!$A$3:$D$56,2,0) -> Icenians | O22: =VLOOKUP($I22,TEAMS!$A$3:$D$56,3,0) -> City | P22: 17 | Q22: 24
B23: =I23 -> 32 | C23: =K23 -> 29 | D23: =P23 -> 9 | E23: =Q23 -> 15 | F23: Wednesday | G23: =VLOOKUP(F23,$F$40:$G$43,2,FALSE) -> 46127 | H23: 4 | I23: 32 | J23: =VLOOKUP($I23,TEAMS!$A$3:$D$56,2,0) -> Red Hot Chillies | K23: 29 | L23: =VLOOKUP($K23,TEAMS!$A$3:$D$56,2,0) -> NCF Emerald | M23: =VLOOKUP($P23,TEAMS!$A$3:$D$56,2,0) -> Phoenix | N23: =VLOOKUP($Q23,TEAMS!$A$3:$D$56,2,0) -> Cliff Park | O23: =VLOOKUP($I23,TEAMS!$A$3:$D$56,3,0) -> Sprowston | P23: 9 | Q23: 15
B24: =I24 -> 30 | C24: =K24 -> 31 | D24: =P24 -> 28 | E24: =Q24 -> 29 | F24: =VLOOKUP(I24,TEAMS!A21:D76,4,0) -> Tuesday | G24: =VLOOKUP(F24,$F$40:$G$43,2,FALSE) -> 46126 | H24: 4 | I24: 30 | J24: =VLOOKUP($I24,TEAMS!$A$3:$D$56,2,0) -> Watton Wolves | K24: 31 | L24: =VLOOKUP($K24,TEAMS!$A$3:$D$56,2,0) -> Trailblazers | M24: =VLOOKUP($P24,TEAMS!$A$3:$D$56,2,0) -> Hethersett Rockets | N24: =VLOOKUP($Q24,TEAMS!$A$3:$D$56,2,0) -> NCF Emerald | O24: =VLOOKUP($I24,TEAMS!$A$3:$D$56,3,0) -> UEA | P24: 28 | Q24: 29
B25: =I25 -> 28 | C25: =K25 -> 25 | D25: =P25 -> 22 | E25: =Q25 -> 30 | F25: Wednesday | G25: =VLOOKUP(F25,$F$40:$G$43,2,FALSE) -> 46127 | H25: 4 | I25: 28 | J25: =VLOOKUP($I25,TEAMS!$A$3:$D$56,2,0) -> Hethersett Rockets | K25: 25 | L25: =VLOOKUP($K25,TEAMS!$A$3:$D$56,2,0) -> NU Ruby | M25: =VLOOKUP($P25,TEAMS!$A$3:$D$56,2,0) -> Wrens | N25: =VLOOKUP($Q25,TEAMS!$A$3:$D$56,2,0) -> Watton Wolves | O25: =VLOOKUP($I25,TEAMS!$A$3:$D$56,3,0) -> Hellesdon High | P25: 22 | Q25: 30
B27: =I27 -> 40 | C27: =K27 -> 39 | D27: =P27 -> 0 | E27: =Q27 -> 0 | F27: =VLOOKUP(I27,TEAMS!A25:D80,4,0) -> 0 | G27: =VLOOKUP(F27,$F$40:$G$43,2,FALSE) -> #N/A | H27: 5 | I27: 40 | J27: =VLOOKUP($I27,TEAMS!$A$3:$D$56,2,0) -> BYE WEEK | K27: 39 | L27: =VLOOKUP($K27,TEAMS!$A$3:$D$56,2,0) -> Tigers | M27: =VLOOKUP($P27,TEAMS!$A$3:$D$56,2,0) -> #N/A | N27: =VLOOKUP($Q27,TEAMS!$A$3:$D$56,2,0) -> #N/A | O27: =VLOOKUP($I27,TEAMS!$A$3:$D$56,3,0) -> 0
B28: =I28 -> 36 | C28: =K28 -> 38 | D28: =P28 -> 35 | E28: =Q28 -> 37 | F28: =VLOOKUP(I28,TEAMS!A23:D78,4,0) -> Thursday | G28: =VLOOKUP(F28,$F$40:$G$43,2,FALSE) -> 46128 | H28: 5 | I28: 36 | J28: =VLOOKUP($I28,TEAMS!$A$3:$D$56,2,0) -> TB Fillies | K28: 38 | L28: =VLOOKUP($K28,TEAMS!$A$3:$D$56,2,0) -> NU Red | M28: =VLOOKUP($P28,TEAMS!$A$3:$D$56,2,0) -> Gems | N28: =VLOOKUP($Q28,TEAMS!$A$3:$D$56,2,0) -> First Home Improvements | O28: =VLOOKUP($I28,TEAMS!$A$3:$D$56,3,0) -> Sprowston | P28: 35 | Q28: 37
B29: =I29 -> 33 | C29: =K29 -> 34 | D29: =P29 -> 36 | E29: =Q29 -> 31 | F29: =VLOOKUP(I29,TEAMS!A24:D79,4,0) -> Monday | G29: =VLOOKUP(F29,$F$40:$G$43,2,FALSE) -> 46125 | H29: 5 | I29: 33 | J29: =VLOOKUP($I29,TEAMS!$A$3:$D$56,2,0) -> Hornets | K29: 34 | L29: =VLOOKUP($K29,TEAMS!$A$3:$D$56,2,0) -> NU Amber | M29: =VLOOKUP($P29,TEAMS!$A$3:$D$56,2,0) -> TB Fillies | N29: =VLOOKUP($Q29,TEAMS!$A$3:$D$56,2,0) -> Trailblazers | O29: =VLOOKUP($I29,TEAMS!$A$3:$D$56,3,0) -> Open | P29: 36 | Q29: 31
B30: =I30 -> 35 | C30: =K30 -> 37 | D30: =P30 -> 32 | E30: =Q30 -> 20 | F30: =VLOOKUP(I30,TEAMS!A26:D81,4,0) -> Monday | G30: =VLOOKUP(F30,$F$40:$G$43,2,FALSE) -> 46125 | H30: 5 | I30: 35 | J30: =VLOOKUP($I30,TEAMS!$A$3:$D$56,2,0) -> Gems | K30: 37 | L30: =VLOOKUP($K30,TEAMS!$A$3:$D$56,2,0) -> First Home Improvements | M30: =VLOOKUP($P30,TEAMS!$A$3:$D$56,2,0) -> Red Hot Chillies | N30: =VLOOKUP($Q30,TEAMS!$A$3:$D$56,2,0) -> White Knights | O30: =VLOOKUP($I30,TEAMS!$A$3:$D$56,3,0) -> Hewett | P30: 32 | Q30: 20
B31: =I32 -> 48 | C31: =K32 -> 47 | D31: =P32 -> 0 | E31: =Q32 -> 0
B32: =I33 -> 44 | C32: =K33 -> 46 | D32: =P33 -> 39 | E32: =Q33 -> 43 | F32: =VLOOKUP(I32,TEAMS!A27:D82,4,0) -> 0 | G32: =VLOOKUP(F32,$F$40:$G$43,2,FALSE) -> #N/A | H32: 6 | I32: 48 | J32: =VLOOKUP($I32,TEAMS!$A$3:$D$56,2,0) -> BYE WEEK | K32: 47 | L32: =VLOOKUP($K32,TEAMS!$A$3:$D$56,2,0) -> BYE WEEK | M32: =VLOOKUP($P32,TEAMS!$A$3:$D$56,2,0) -> #N/A | N32: =VLOOKUP($Q32,TEAMS!$A$3:$D$56,2,0) -> #N/A | O32: =VLOOKUP($I32,TEAMS!$A$3:$D$56,3,0) -> 0
B33: =I34 -> 41 | C33: =K34 -> 42 | D33: =P34 -> 27 | E33: =Q34 -> 45 | F33: =VLOOKUP(I33,TEAMS!A28:D83,4,0) -> Monday | G33: =VLOOKUP(F33,$F$40:$G$43,2,FALSE) -> 46125 | H33: 6 | I33: 44 | J33: =VLOOKUP($I33,TEAMS!$A$3:$D$56,2,0) -> Cromer Vipers | K33: 46 | L33: =VLOOKUP($K33,TEAMS!$A$3:$D$56,2,0) -> Doves | M33: =VLOOKUP($P33,TEAMS!$A$3:$D$56,2,0) -> Tigers | N33: =VLOOKUP($Q33,TEAMS!$A$3:$D$56,2,0) -> Trowse | O33: =VLOOKUP($I33,TEAMS!$A$3:$D$56,3,0) -> Hellesdon High | P33: 39 | Q33: 43
F34: =VLOOKUP(I34,TEAMS!A29:D84,4,0) -> Monday | G34: =VLOOKUP(F34,$F$40:$G$43,2,FALSE) -> 46125 | H34: 6 | I34: 41 | J34: =VLOOKUP($I34,TEAMS!$A$3:$D$56,2,0) -> Dragons | K34: 42 | L34: =VLOOKUP($K34,TEAMS!$A$3:$D$56,2,0) -> TB Ponies | M34: =VLOOKUP($P34,TEAMS!$A$3:$D$56,2,0) -> Falcons | N34: =VLOOKUP($Q34,TEAMS!$A$3:$D$56,2,0) -> NCF Onyx | O34: =VLOOKUP($I34,TEAMS!$A$3:$D$56,3,0) -> Hellesdon High | P34: 27 | Q34: 45
F35: Wednesday | G35: =VLOOKUP(F35,$F$40:$G$43,2,FALSE) -> 46127 | H35: 6 | I35: 45 | J35: =VLOOKUP($I35,TEAMS!$A$3:$D$56,2,0) -> NCF Onyx | K35: 43 | L35: =VLOOKUP($K35,TEAMS!$A$3:$D$56,2,0) -> Trowse | M35: =VLOOKUP($P35,TEAMS!$A$3:$D$56,2,0) -> Dragons | N35: =VLOOKUP($Q35,TEAMS!$A$3:$D$56,2,0) -> Cromer Vipers | O35: =VLOOKUP($I35,TEAMS!$A$3:$D$56,3,0) -> Hellesdon High | P35: 41 | Q35: 44
G37: where indicated the date or venue has changed
G39: Date | H39: UEA | I39: HELLESDON CC | J39: HEWETT | K39: OPEN | L39: CITY | M39: OLD CATTON | N39: Hellesdon High | O39: SPROWSTON | P39: THORPE
F40: MONDAY | G40: =G3 -> 46125 | H40: =COUNTIFS($O$7:$O$35,H$39,$F$7:$F$35,$F40) -> 0 | I40: =COUNTIFS($O$7:$O$35,I$39,$F$7:$F$35,$F40) -> 0 | J40: =COUNTIFS($O$7:$O$35,J$39,$F$7:$F$35,$F40) -> 1 | K40: =COUNTIFS($O$7:$O$35,K$39,$F$7:$F$35,$F40) -> 3 | L40: =COUNTIFS($O$7:$O$35,L$39,$F$7:$F$35,$F40) -> 0 | M40: =COUNTIFS($O$7:$O$35,M$39,$F$7:$F$35,$F40) -> 0 | N40: =COUNTIFS($O$7:$O$35,N$39,$F$7:$F$35,$F40) -> 2 | O40: =COUNTIFS($O$7:$O$35,O$39,$F$7:$F$35,$F40) -> 0 | P40: =COUNTIFS($O$7:$O$35,P$39,$F$7:$F$35,$F40) -> 0 | Q40: =SUM(H40:P40) -> 6
F41: TUESDAY | G41: =G40+1 -> 46126 | H41: =COUNTIFS($O$7:$O$35,H$39,$F$7:$F$35,$F41) -> 3 | I41: =COUNTIFS($O$7:$O$35,I$39,$F$7:$F$35,$F41) -> 0 | J41: =COUNTIFS($O$7:$O$35,J$39,$F$7:$F$35,$F41) -> 0 | K41: 3 | L41: =COUNTIFS($O$7:$O$35,L$39,$F$7:$F$35,$F41) -> 1 | M41: =COUNTIFS($O$7:$O$35,M$39,$F$7:$F$35,$F41) -> 0 | N41: =COUNTIFS($O$7:$O$35,N$39,$F$7:$F$35,$F41) -> 1 | O41: =COUNTIFS($O$7:$O$35,O$39,$F$7:$F$35,$F41) -> 0 | P41: =COUNTIFS($O$7:$O$35,P$39,$F$7:$F$35,$F41) -> 0 | Q41: =SUM(H41:P41) -> 8
F42: WEDNESDAY | G42: =G41+1 -> 46127 | H42: =COUNTIFS($O$7:$O$35,H$39,$F$7:$F$35,$F42) -> 2 | I42: =COUNTIFS($O$7:$O$35,I$39,$F$7:$F$35,$F42) -> 0 | J42: =COUNTIFS($O$7:$O$35,J$39,$F$7:$F$35,$F42) -> 0 | L42: =COUNTIFS($O$7:$O$35,L$39,$F$7:$F$35,$F42) -> 0 | M42: =COUNTIFS($O$7:$O$35,M$39,$F$7:$F$35,$F42) -> 0 | N42: =COUNTIFS($O$7:$O$35,N$39,$F$7:$F$35,$F42) -> 3 | O42: =COUNTIFS($O$7:$O$35,O$39,$F$7:$F$35,$F42) -> 2 | P42: =COUNTIFS($O$7:$O$35,P$39,$F$7:$F$35,$F42) -> 0 | Q42: =SUM(H42:P42) -> 7
F43: THURSDAY | G43: =G42+1 -> 46128 | H43: =COUNTIFS($O$7:$O$35,H$39,$F$7:$F$35,$F43) -> 0 | I43: =COUNTIFS($O$7:$O$35,I$39,$F$7:$F$35,$F43) -> 0 | J43: =COUNTIFS($O$7:$O$35,J$39,$F$7:$F$35,$F43) -> 0 | K43: =COUNTIFS($O$7:$O$35,K$39,$F$7:$F$35,$F43) -> 0 | L43: =COUNTIFS($O$7:$O$35,L$39,$F$7:$F$35,$F43) -> 0 | M43: =COUNTIFS($O$7:$O$35,M$39,$F$7:$F$35,$F43) -> 0 | N43: =COUNTIFS($O$7:$O$35,N$39,$F$7:$F$35,$F43) -> 0 | O43: =COUNTIFS($O$7:$O$35,O$39,$F$7:$F$35,$F43) -> 1 | P43: =COUNTIFS($O$7:$O$35,P$39,$F$7:$F$35,$F43) -> 0 | Q43: =SUM(H43:P43) -> 1
Q44: =SUM(Q40:Q43) -> 22

Sheet WK 4 FIXTURES
F3: Week Comm | G3: 46132 | H3: Wk 4 | U3: Playing | X3: Umpiring
B4: Playing | D4: Umpiring | U4: Home | V4: Away | X4: Home | Y4: Away
B5: Home | C5: Away | D5: Home | E5: Away | F5: Day | G5: Date | H5: Div | I5: Team Num | J5: Home Team | L5: Away Team | M5: Umpire 1 | N5: Umpire 2 | O5: Venue | P5: UMP1 | Q5: UMP2
B7: =I7 -> 4 | C7: =K7 -> 5 | D7: =P7 -> 1 | E7: =Q7 -> 2 | F7: =VLOOKUP(I7,TEAMS!A4:D55,4,0) -> Tuesday | G7: =VLOOKUP(F7,$F$40:$G$43,2,FALSE) -> 46133 | H7: 1 | I7: 4 | J7: =VLOOKUP($I7,TEAMS!$A$3:$D$56,2,0) -> Stars | K7: 5 | L7: =VLOOKUP($K7,TEAMS!$A$3:$D$56,2,0) -> TB Racers | M7: =VLOOKUP($P7,TEAMS!$A$3:$D$56,2,0) -> NU Blue | N7: =VLOOKUP($Q7,TEAMS!$A$3:$D$56,2,0) -> NU White | O7: =VLOOKUP($I7,TEAMS!$A$3:$D$56,3,0) -> UEA | P7: 1 | Q7: 2
B8: =I8 -> 3 | C8: =K8 -> 8 | D8: =P8 -> 4 | E8: =Q8 -> 5 | F8: =VLOOKUP(I8,TEAMS!A5:D56,4,0) -> Wednesday | G8: =VLOOKUP(F8,$F$40:$G$43,2,FALSE) -> 46134 | H8: 1 | I8: 3 | J8: =VLOOKUP($I8,TEAMS!$A$3:$D$56,2,0) -> TB Mustangs | K8: 8 | L8: =VLOOKUP($K8,TEAMS!$A$3:$D$56,2,0) -> Jets | M8: =VLOOKUP($P8,TEAMS!$A$3:$D$56,2,0) -> Stars | N8: =VLOOKUP($Q8,TEAMS!$A$3:$D$56,2,0) -> TB Racers | O8: =VLOOKUP($I8,TEAMS!$A$3:$D$56,3,0) -> Sprowston | P8: 4 | Q8: 5
B9: =I9 -> 1 | C9: =K9 -> 6 | D9: =P9 -> 13 | E9: =Q9 -> 16 | F9: =VLOOKUP(I9,TEAMS!A3:D56,4,0) -> Wednesday | G9: =VLOOKUP(F9,$F$40:$G$43,2,FALSE) -> 46134 | H9: 1 | I9: 1 | J9: =VLOOKUP($I9,TEAMS!$A$3:$D$56,2,0) -> NU Blue | K9: 6 | L9: =VLOOKUP($K9,TEAMS!$A$3:$D$56,2,0) -> Red Knights | M9: =VLOOKUP($P9,TEAMS!$A$3:$D$56,2,0) -> Sonics | N9: =VLOOKUP($Q9,TEAMS!$A$3:$D$56,2,0) -> Sirens | O9: =VLOOKUP($I9,TEAMS!$A$3:$D$56,3,0) -> UEA | P9: 13 | Q9: 16
B10: =I10 -> 2 | C10: =K10 -> 7 | D10: =P10 -> 11 | E10: =Q10 -> 19 | F10: =VLOOKUP(I10,TEAMS!A3:D56,4,0) -> Wednesday | G10: =VLOOKUP(F10,$F$40:$G$43,2,FALSE) -> 46134 | H10: 1 | I10: 2 | J10: =VLOOKUP($I10,TEAMS!$A$3:$D$56,2,0) -> NU White | K10: 7 | L10: =VLOOKUP($K10,TEAMS!$A$3:$D$56,2,0) -> Cromer Cobras | M10: =VLOOKUP($P10,TEAMS!$A$3:$D$56,2,0) -> TB Colts | N10: =VLOOKUP($Q10,TEAMS!$A$3:$D$56,2,0) -> Premier | O10: =VLOOKUP($I10,TEAMS!$A$3:$D$56,3,0) -> UEA | P10: 11 | Q10: 19
B12: =I12 -> 11 | C12: =K12 -> 9 | D12: =P12 -> 3 | E12: =Q12 -> 14 | F12: =VLOOKUP(I12,TEAMS!A8:D61,4,0) -> Tuesday | G12: =VLOOKUP(F12,$F$40:$G$43,2,FALSE) -> 46133 | H12: 2 | I12: 11 | J12: =VLOOKUP($I12,TEAMS!$A$3:$D$56,2,0) -> TB Colts | K12: 9 | L12: =VLOOKUP($K12,TEAMS!$A$3:$D$56,2,0) -> Phoenix | M12: =VLOOKUP($P12,TEAMS!$A$3:$D$56,2,0) -> TB Mustangs | N12: =VLOOKUP($Q12,TEAMS!$A$3:$D$56,2,0) -> NU Royal | O12: =VLOOKUP($I12,TEAMS!$A$3:$D$56,3,0) -> Sprowston | P12: 3 | Q12: 14
B13: =I13 -> 15 | C13: =K13 -> 13 | D13: =P13 -> 10 | E13: =Q13 -> 18 | F13: =VLOOKUP(I13,TEAMS!A9:D62,4,0) -> Monday | G13: =VLOOKUP(F13,$F$40:$G$43,2,FALSE) -> 46132 | H13: 2 | I13: 15 | J13: =VLOOKUP($I13,TEAMS!$A$3:$D$56,2,0) -> Cliff Park | K13: 13 | L13: =VLOOKUP($K13,TEAMS!$A$3:$D$56,2,0) -> Sonics | M13: =VLOOKUP($P13,TEAMS!$A$3:$D$56,2,0) -> Black Knights | N13: =VLOOKUP($Q13,TEAMS!$A$3:$D$56,2,0) -> Venus | O13: =VLOOKUP($I13,TEAMS!$A$3:$D$56,3,0) -> Open | P13: 10 | Q13: 18
B14: =I14 -> 16 | C14: =K14 -> 14 | D14: =P14 -> 12 | E14: =Q14 -> 23 | F14: =VLOOKUP(I14,TEAMS!A10:D63,4,0) -> Monday | G14: =VLOOKUP(F14,$F$40:$G$43,2,FALSE) -> 46132 | H14: 2 | I14: 16 | J14: =VLOOKUP($I14,TEAMS!$A$3:$D$56,2,0) -> Sirens | K14: 14 | L14: =VLOOKUP($K14,TEAMS!$A$3:$D$56,2,0) -> NU Royal | M14: =VLOOKUP($P14,TEAMS!$A$3:$D$56,2,0) -> NU Yellow | N14: =VLOOKUP($Q14,TEAMS!$A$3:$D$56,2,0) -> Hotshots | O14: =VLOOKUP($I14,TEAMS!$A$3:$D$56,3,0) -> Open | P14: 12 | Q14: 23
B15: =I15 -> 12 | C15: =K15 -> 10 | D15: =P15 -> 6 | E15: =Q15 -> 8 | F15: =VLOOKUP(I15,TEAMS!A11:D64,4,0) -> Tuesday | G15: =VLOOKUP(F15,$F$40:$G$43,2,FALSE) -> 46133 | H15: 2 | I15: 12 | J15: =VLOOKUP($I15,TEAMS!$A$3:$D$56,2,0) -> NU Yellow | K15: 10 | L15: =VLOOKUP($K15,TEAMS!$A$3:$D$56,2,0) -> Black Knights | M15: =VLOOKUP($P15,TEAMS!$A$3:$D$56,2,0) -> Red Knights | N15: =VLOOKUP($Q15,TEAMS!$A$3:$D$56,2,0) -> Jets | O15: =VLOOKUP($I15,TEAMS!$A$3:$D$56,3,0) -> UEA | P15: 6 | Q15: 8
B17: =I17 -> 17 | C17: =K17 -> 19 | D17: =P17 -> 20 | E17: =Q17 -> 7 | F17: =VLOOKUP(I17,TEAMS!A13:D66,4,0) -> Tuesday | G17: =VLOOKUP(F17,$F$40:$G$43,2,FALSE) -> 46133 | H17: 3 | I17: 17 | J17: =VLOOKUP($I17,TEAMS!$A$3:$D$56,2,0) -> Blades | K17: 19 | L17: =VLOOKUP($K17,TEAMS!$A$3:$D$56,2,0) -> Premier | M17: =VLOOKUP($P17,TEAMS!$A$3:$D$56,2,0) -> White Knights | N17: =VLOOKUP($Q17,TEAMS!$A$3:$D$56,2,0) -> Cromer Cobras | O17: =VLOOKUP($I17,TEAMS!$A$3:$D$56,3,0) -> Open | P17: 20 | Q17: 7
B18: =I18 -> 20 | C18: =K18 -> 18 | D18: =P18 -> 30 | E18: =Q18 -> 33 | F18: =VLOOKUP(I18,TEAMS!A14:D67,4,0) -> Wednesday | G18: =VLOOKUP(F18,$F$40:$G$43,2,FALSE) -> 46134 | H18: 3 | I18: 20 | J18: =VLOOKUP($I18,TEAMS!$A$3:$D$56,2,0) -> White Knights | K18: 18 | L18: =VLOOKUP($K18,TEAMS!$A$3:$D$56,2,0) -> Venus | M18: =VLOOKUP($P18,TEAMS!$A$3:$D$56,2,0) -> Watton Wolves | N18: =VLOOKUP($Q18,TEAMS!$A$3:$D$56,2,0) -> Hornets | O18: =VLOOKUP($I18,TEAMS!$A$3:$D$56,3,0) -> Hewett | P18: 30 | Q18: 33
B19: =I19 -> 24 | C19: =K19 -> 22 | D19: =P19 -> 21 | E19: =Q19 -> 46 | F19: =VLOOKUP(I19,TEAMS!A15:D68,4,0) -> Wednesday | G19: =VLOOKUP(F19,$F$40:$G$43,2,FALSE) -> 46134 | H19: 3 | I19: 24 | J19: =VLOOKUP($I19,TEAMS!$A$3:$D$56,2,0) -> Icenians | K19: 22 | L19: =VLOOKUP($K19,TEAMS!$A$3:$D$56,2,0) -> Wrens | M19: =VLOOKUP($P19,TEAMS!$A$3:$D$56,2,0) -> Belton | N19: =VLOOKUP($Q19,TEAMS!$A$3:$D$56,2,0) -> Doves | O19: =VLOOKUP($I19,TEAMS!$A$3:$D$56,3,0) -> Open | P19: 21 | Q19: 46
B20: =I20 -> 23 | C20: =K20 -> 21 | D20: =P20 -> 25 | E20: =Q20 -> 26 | F20: =VLOOKUP(I20,TEAMS!A16:D69,4,0) -> Tuesday | G20: =VLOOKUP(F20,$F$40:$G$43,2,FALSE) -> 46133 | H20: 3 | I20: 23 | J20: =VLOOKUP($I20,TEAMS!$A$3:$D$56,2,0) -> Hotshots | K20: 21 | L20: =VLOOKUP($K20,TEAMS!$A$3:$D$56,2,0) -> Belton | M20: =VLOOKUP($P20,TEAMS!$A$3:$D$56,2,0) -> NU Ruby | N20: =VLOOKUP($Q20,TEAMS!$A$3:$D$56,2,0) -> TB Shetlands | O20: =VLOOKUP($I20,TEAMS!$A$3:$D$56,3,0) -> Open | P20: 25 | Q20: 26
B22: =I22 -> 30 | C22: =K22 -> 28 | D22: =P22 -> 15 | E22: =Q22 -> 22 | F22: =VLOOKUP(I22,TEAMS!A18:D71,4,0) -> Tuesday | G22: =VLOOKUP(F22,$F$40:$G$43,2,FALSE) -> 46133 | H22: 4 | I22: 30 | J22: =VLOOKUP($I22,TEAMS!$A$3:$D$56,2,0) -> Watton Wolves | K22: 28 | L22: =VLOOKUP($K22,TEAMS!$A$3:$D$56,2,0) -> Hethersett Rockets | M22: =VLOOKUP($P22,TEAMS!$A$3:$D$56,2,0) -> Cliff Park | N22: =VLOOKUP($Q22,TEAMS!$A$3:$D$56,2,0) -> Wrens | O22: =VLOOKUP($I22,TEAMS!$A$3:$D$56,3,0) -> UEA | P22: 15 | Q22: 22
B23: =I23 -> 32 | C23: =K23 -> 27 | D23: =P23 -> 17 | E23: =Q23 -> 24 | F23: Monday | G23: =VLOOKUP(F23,$F$40:$G$43,2,FALSE) -> 46132 | H23: 4 | I23: 32 | J23: =VLOOKUP($I23,TEAMS!$A$3:$D$56,2,0) -> Red Hot Chillies | K23: 27 | L23: =VLOOKUP($K23,TEAMS!$A$3:$D$56,2,0) -> Falcons | M23: =VLOOKUP($P23,TEAMS!$A$3:$D$56,2,0) -> Blades | N23: =VLOOKUP($Q23,TEAMS!$A$3:$D$56,2,0) -> Icenians | O23: =VLOOKUP($I23,TEAMS!$A$3:$D$56,3,0) -> Sprowston | P23: 17 | Q23: 24
B24: =I24 -> 26 | C24: =K24 -> 31 | D24: =P24 -> 28 | E24: =Q24 -> 32 | F24: =VLOOKUP(I24,TEAMS!A20:D73,4,0) -> Wednesday | G24: =VLOOKUP(F24,$F$40:$G$43,2,FALSE) -> 46134 | H24: 4 | I24: 26 | J24: =VLOOKUP($I24,TEAMS!$A$3:$D$56,2,0) -> TB Shetlands | K24: 31 | L24: =VLOOKUP($K24,TEAMS!$A$3:$D$56,2,0) -> Trailblazers | M24: =VLOOKUP($P24,TEAMS!$A$3:$D$56,2,0) -> Hethersett Rockets | N24: =VLOOKUP($Q24,TEAMS!$A$3:$D$56,2,0) -> Red Hot Chillies | O24: =VLOOKUP($I24,TEAMS!$A$3:$D$56,3,0) -> Sprowston | P24: 28 | Q24: 32
B25: =I25 -> 25 | C25: =K25 -> 29 | D25: =P25 -> 37 | E25: =Q25 -> 34 | F25: =VLOOKUP(I25,TEAMS!A21:D74,4,0) -> Wednesday | G25: =VLOOKUP(F25,$F$40:$G$43,2,FALSE) -> 46134 | H25: 4 | I25: 25 | J25: =VLOOKUP($I25,TEAMS!$A$3:$D$56,2,0) -> NU Ruby | K25: 29 | L25: =VLOOKUP($K25,TEAMS!$A$3:$D$56,2,0) -> NCF Emerald | M25: =VLOOKUP($P25,TEAMS!$A$3:$D$56,2,0) -> First Home Improvements | N25: =VLOOKUP($Q25,TEAMS!$A$3:$D$56,2,0) -> NU Amber | O25: =VLOOKUP($I25,TEAMS!$A$3:$D$56,3,0) -> UEA | P25: 37 | Q25: 34
B27: =I27 -> 36 | C27: =K27 -> 37 | D27: =P27 -> 29 | E27: =Q27 -> 31 | F27: =VLOOKUP(I27,TEAMS!A23:D78,4,0) -> Thursday | G27: =VLOOKUP(F27,$F$40:$G$43,2,FALSE) -> 46135 | H27: 5 | I27: 36 | J27: =VLOOKUP($I27,TEAMS!$A$3:$D$56,2,0) -> TB Fillies | K27: 37 | L27: =VLOOKUP($K27,TEAMS!$A$3:$D$56,2,0) -> First Home Improvements | M27: =VLOOKUP($P27,TEAMS!$A$3:$D$56,2,0) -> NCF Emerald | N27: =VLOOKUP($Q27,TEAMS!$A$3:$D$56,2,0) -> Trailblazers | O27: =VLOOKUP($I27,TEAMS!$A$3:$D$56,3,0) -> Sprowston | P27: 29 | Q27: 31
B28: =I28 -> 35 | C28: =K28 -> 40 | D28: =P28 -> 0 | E28: =Q28 -> 0 | G28: =VLOOKUP(F28,$F$40:$G$43,2,FALSE) -> #N/A | H28: 5 | I28: 35 | J28: =VLOOKUP($I28,TEAMS!$A$3:$D$56,2,0) -> Gems | K28: 40 | L28: =VLOOKUP($K28,TEAMS!$A$3:$D$56,2,0) -> BYE WEEK | M28: =VLOOKUP($P28,TEAMS!$A$3:$D$56,2,0) -> #N/A | N28: =VLOOKUP($Q28,TEAMS!$A$3:$D$56,2,0) -> #N/A | O28: =VLOOKUP($I28,TEAMS!$A$3:$D$56,3,0) -> Hewett
B29: =I29 -> 33 | C29: =K29 -> 38 | D29: =P29 -> 36 | E29: =Q29 -> 38 | F29: =VLOOKUP(I29,TEAMS!A25:D80,4,0) -> Monday | G29: =VLOOKUP(F29,$F$40:$G$43,2,FALSE) -> 46132 | H29: 5 | I29: 33 | J29: =VLOOKUP($I29,TEAMS!$A$3:$D$56,2,0) -> Hornets | K29: 38 | L29: =VLOOKUP($K29,TEAMS!$A$3:$D$56,2,0) -> NU Red | M29: =VLOOKUP($P29,TEAMS!$A$3:$D$56,2,0) -> TB Fillies | N29: =VLOOKUP($Q29,TEAMS!$A$3:$D$56,2,0) -> NU Red | O29: =VLOOKUP($I29,TEAMS!$A$3:$D$56,3,0) -> Open | P29: 36 | Q29: 38
B30: =I30 -> 34 | C30: =K30 -> 39 | D30: =P30 -> 27 | E30: =Q30 -> 44 | F30: Tuesday | G30: =VLOOKUP(F30,$F$40:$G$43,2,FALSE) -> 46133 | H30: 5 | I30: 34 | J30: =VLOOKUP($I30,TEAMS!$A$3:$D$56,2,0) -> NU Amber | K30: 39 | L30: =VLOOKUP($K30,TEAMS!$A$3:$D$56,2,0) -> Tigers | M30: =VLOOKUP($P30,TEAMS!$A$3:$D$56,2,0) -> Falcons | N30: =VLOOKUP($Q30,TEAMS!$A$3:$D$56,2,0) -> Cromer Vipers | O30: =VLOOKUP($I30,TEAMS!$A$3:$D$56,3,0) -> UEA | P30: 27 | Q30: 44
B31: =I32 -> 44 | C31: =K32 -> 45 | D31: =P32 -> 39 | E31: =Q32 -> 41
B32: =I33 -> 43 | C32: =K33 -> 48 | D32: =P33 -> 0 | E32: =Q33 -> 0 | F32: =VLOOKUP(I32,TEAMS!A27:D82,4,0) -> Monday | G32: =VLOOKUP(F32,$F$40:$G$43,2,FALSE) -> 46132 | H32: 6 | I32: 44 | J32: =VLOOKUP($I32,TEAMS!$A$3:$D$56,2,0) -> Cromer Vipers | K32: 45 | L32: =VLOOKUP($K32,TEAMS!$A$3:$D$56,2,0) -> NCF Onyx | M32: =VLOOKUP($P32,TEAMS!$A$3:$D$56,2,0) -> Tigers | N32: =VLOOKUP($Q32,TEAMS!$A$3:$D$56,2,0) -> Dragons | O32: =VLOOKUP($I32,TEAMS!$A$3:$D$56,3,0) -> Hellesdon High | P32: 39 | Q32: 41
B33: =I34 -> 46 | C33: =K34 -> 41 | D33: =P34 -> 43 | E33: =Q34 -> 45 | G33: =VLOOKUP(F33,$F$40:$G$43,2,FALSE) -> #N/A | H33: 6 | I33: 43 | J33: =VLOOKUP($I33,TEAMS!$A$3:$D$56,2,0) -> Trowse | K33: 48 | L33: =VLOOKUP($K33,TEAMS!$A$3:$D$56,2,0) -> BYE WEEK | M33: =VLOOKUP($P33,TEAMS!$A$3:$D$56,2,0) -> #N/A | N33: =VLOOKUP($Q33,TEAMS!$A$3:$D$56,2,0) -> #N/A
F34: Tuesday | G34: =VLOOKUP(F34,$F$40:$G$43,2,FALSE) -> 46133 | H34: 6 | I34: 46 | J34: =VLOOKUP($I34,TEAMS!$A$3:$D$56,2,0) -> Doves | K34: 41 | L34: =VLOOKUP($K34,TEAMS!$A$3:$D$56,2,0) -> Dragons | M34: =VLOOKUP($P34,TEAMS!$A$3:$D$56,2,0) -> Trowse | N34: =VLOOKUP($Q34,TEAMS!$A$3:$D$56,2,0) -> NCF Onyx | O34: Sprowston | P34: 43 | Q34: 45
G35: =VLOOKUP(F35,$F$40:$G$43,2,FALSE) -> #N/A | H35: 6 | I35: 42 | J35: =VLOOKUP($I35,TEAMS!$A$3:$D$56,2,0) -> TB Ponies | K35: 47 | L35: =VLOOKUP($K35,TEAMS!$A$3:$D$56,2,0) -> BYE WEEK | M35: =VLOOKUP($P35,TEAMS!$A$3:$D$56,2,0) -> #N/A | N35: =VLOOKUP($Q35,TEAMS!$A$3:$D$56,2,0) -> #N/A
G37: where indicated the date or venue has changed
G39: Date | H39: UEA | I39: HELLESDON CC | J39: HEWETT | K39: OPEN | L39: CITY | M39: OLD CATTON | N39: Hellesdon High | O39: SPROWSTON | P39: THORPE
F40: MONDAY | G40: =G3 -> 46132 | H40: =COUNTIFS($O$7:$O$35,H$39,$F$7:$F$35,$F40) -> 0 | I40: =COUNTIFS($O$7:$O$35,I$39,$F$7:$F$35,$F40) -> 0 | J40: =COUNTIFS($O$7:$O$35,J$39,$F$7:$F$35,$F40) -> 0 | K40: =COUNTIFS($O$7:$O$35,K$39,$F$7:$F$35,$F40) -> 3 | L40: =COUNTIFS($O$7:$O$35,L$39,$F$7:$F$35,$F40) -> 0 | M40: =COUNTIFS($O$7:$O$35,M$39,$F$7:$F$35,$F40) -> 0 | N40: =COUNTIFS($O$7:$O$35,N$39,$F$7:$F$35,$F40) -> 1 | O40: =COUNTIFS($O$7:$O$35,O$39,$F$7:$F$35,$F40) -> 1 | P40: =COUNTIFS($O$7:$O$35,P$39,$F$7:$F$35,$F40) -> 0 | Q40: =SUM(H40:P40) -> 5
F41: TUESDAY | G41: =G40+1 -> 46133 | H41: =COUNTIFS($O$7:$O$35,H$39,$F$7:$F$35,$F41) -> 4 | I41: =COUNTIFS($O$7:$O$35,I$39,$F$7:$F$35,$F41) -> 0 | J41: =COUNTIFS($O$7:$O$35,J$39,$F$7:$F$35,$F41) -> 0 | K41: =COUNTIFS($O$7:$O$35,K$39,$F$7:$F$35,$F41) -> 2 | L41: =COUNTIFS($O$7:$O$35,L$39,$F$7:$F$35,$F41) -> 0 | M41: =COUNTIFS($O$7:$O$35,M$39,$F$7:$F$35,$F41) -> 0 | N41: =COUNTIFS($O$7:$O$35,N$39,$F$7:$F$35,$F41) -> 0 | O41: =COUNTIFS($O$7:$O$35,O$39,$F$7:$F$35,$F41) -> 2 | P41: =COUNTIFS($O$7:$O$35,P$39,$F$7:$F$35,$F41) -> 0 | Q41: =SUM(H41:P41) -> 8
F42: WEDNESDAY | G42: =G41+1 -> 46134 | H42: =COUNTIFS($O$7:$O$35,H$39,$F$7:$F$35,$F42) -> 3 | I42: =COUNTIFS($O$7:$O$35,I$39,$F$7:$F$35,$F42) -> 0 | J42: =COUNTIFS($O$7:$O$35,J$39,$F$7:$F$35,$F42) -> 1 | K42: =COUNTIFS($O$7:$O$35,K$39,$F$7:$F$35,$F42) -> 1 | L42: =COUNTIFS($O$7:$O$35,L$39,$F$7:$F$35,$F42) -> 0 | M42: =COUNTIFS($O$7:$O$35,M$39,$F$7:$F$35,$F42) -> 0 | N42: =COUNTIFS($O$7:$O$35,N$39,$F$7:$F$35,$F42) -> 0 | O42: =COUNTIFS($O$7:$O$35,O$39,$F$7:$F$35,$F42) -> 2 | P42: =COUNTIFS($O$7:$O$35,P$39,$F$7:$F$35,$F42) -> 0 | Q42: =SUM(H42:P42) -> 7
F43: THURSDAY | G43: =G42+1 -> 46135 | H43: =COUNTIFS($O$7:$O$35,H$39,$F$7:$F$35,$F43) -> 0 | I43: =COUNTIFS($O$7:$O$35,I$39,$F$7:$F$35,$F43) -> 0 | J43: =COUNTIFS($O$7:$O$35,J$39,$F$7:$F$35,$F43) -> 0 | K43: =COUNTIFS($O$7:$O$35,K$39,$F$7:$F$35,$F43) -> 0 | L43: =COUNTIFS($O$7:$O$35,L$39,$F$7:$F$35,$F43) -> 0 | M43: =COUNTIFS($O$7:$O$35,M$39,$F$7:$F$35,$F43) -> 0 | N43: =COUNTIFS($O$7:$O$35,N$39,$F$7:$F$35,$F43) -> 0 | O43: =COUNTIFS($O$7:$O$35,O$39,$F$7:$F$35,$F43) -> 1 | P43: =COUNTIFS($O$7:$O$35,P$39,$F$7:$F$35,$F43) -> 0 | Q43: =SUM(H43:P43) -> 1
Q44: =SUM(Q40:Q43) -> 21

Sheet WK 5 FIXTURES
F3: Week Comm | G3: 46139 | H3: Wk 5 | U3: Playing | X3: Umpiring
B4: Playing | D4: Umpiring
B5: Home | C5: Away | D5: Home | E5: Away | F5: Day | G5: Date | H5: Div | I5: Team Num | J5: Home Team | L5: Away Team | M5: Umpire 1 | N5: Umpire 2 | O5: Venue | P5: UMP1 | Q5: UMP2
B7: =I7 -> 3 | C7: =K7 -> 7 | D7: =P7 -> 5 | E7: =Q7 -> 6 | F7: =VLOOKUP(I7,TEAMS!A5:D56,4,0) -> Wednesday | G7: =VLOOKUP(F7,$F$40:$G$43,2,FALSE) -> 46141 | H7: 1 | I7: 3 | J7: =VLOOKUP($I7,TEAMS!$A$3:$D$56,2,0) -> TB Mustangs | K7: 7 | L7: =VLOOKUP($K7,TEAMS!$A$3:$D$56,2,0) -> Cromer Cobras | M7: =VLOOKUP($P7,TEAMS!$A$3:$D$56,2,0) -> TB Racers | N7: =VLOOKUP($Q7,TEAMS!$A$3:$D$56,2,0) -> Red Knights | O7: =VLOOKUP($I7,TEAMS!$A$3:$D$56,3,0) -> Sprowston | P7: 5 | Q7: 6
B8: =I8 -> 8 | C8: =K8 -> 1 | D8: =P8 -> 11 | E8: =Q8 -> 16 | F8: =VLOOKUP(I8,TEAMS!A3:D56,4,0) -> Wednesday | G8: =VLOOKUP(F8,$F$40:$G$43,2,FALSE) -> 46141 | H8: 1 | I8: 8 | J8: =VLOOKUP($I8,TEAMS!$A$3:$D$56,2,0) -> Jets | K8: 1 | L8: =VLOOKUP($K8,TEAMS!$A$3:$D$56,2,0) -> NU Blue | M8: =VLOOKUP($P8,TEAMS!$A$3:$D$56,2,0) -> TB Colts | N8: =VLOOKUP($Q8,TEAMS!$A$3:$D$56,2,0) -> Sirens | O8: =VLOOKUP($I8,TEAMS!$A$3:$D$56,3,0) -> UEA | P8: 11 | Q8: 16
B9: =I9 -> 2 | C9: =K9 -> 4 | D9: =P9 -> 23 | E9: =Q9 -> 14 | F9: =VLOOKUP(I9,TEAMS!A3:D56,4,0) -> Wednesday | G9: =VLOOKUP(F9,$F$40:$G$43,2,FALSE) -> 46141 | H9: 1 | I9: 2 | J9: =VLOOKUP($I9,TEAMS!$A$3:$D$56,2,0) -> NU White | K9: 4 | L9: =VLOOKUP($K9,TEAMS!$A$3:$D$56,2,0) -> Stars | M9: =VLOOKUP($P9,TEAMS!$A$3:$D$56,2,0) -> Hotshots | N9: =VLOOKUP($Q9,TEAMS!$A$3:$D$56,2,0) -> NU Royal | O9: =VLOOKUP($I9,TEAMS!$A$3:$D$56,3,0) -> UEA | P9: 23 | Q9: 14
B10: =I10 -> 6 | C10: =K10 -> 5 | D10: =P10 -> 1 | E10: =Q10 -> 19 | F10: =VLOOKUP(I10,TEAMS!A3:D56,4,0) -> Tuesday | G10: =VLOOKUP(F10,$F$40:$G$43,2,FALSE) -> 46140 | H10: 1 | I10: 6 | J10: =VLOOKUP($I10,TEAMS!$A$3:$D$56,2,0) -> Red Knights | K10: 5 | L10: =VLOOKUP($K10,TEAMS!$A$3:$D$56,2,0) -> TB Racers | M10: =VLOOKUP($P10,TEAMS!$A$3:$D$56,2,0) -> NU Blue | N10: =VLOOKUP($Q10,TEAMS!$A$3:$D$56,2,0) -> Premier | O10: =VLOOKUP($I10,TEAMS!$A$3:$D$56,3,0) -> Hewett | P10: 1 | Q10: 19
B12: =I12 -> 15 | C12: =K12 -> 9 | D12: =P12 -> 12 | E12: =Q12 -> 13 | F12: =VLOOKUP(I12,TEAMS!A9:D62,4,0) -> Monday | G12: =VLOOKUP(F12,$F$40:$G$43,2,FALSE) -> 46139 | H12: 2 | I12: 15 | J12: =VLOOKUP($I12,TEAMS!$A$3:$D$56,2,0) -> Cliff Park | K12: 9 | L12: =VLOOKUP($K12,TEAMS!$A$3:$D$56,2,0) -> Phoenix | M12: =VLOOKUP($P12,TEAMS!$A$3:$D$56,2,0) -> NU Yellow | N12: =VLOOKUP($Q12,TEAMS!$A$3:$D$56,2,0) -> Sonics | O12: =VLOOKUP($I12,TEAMS!$A$3:$D$56,3,0) -> Open | P12: 12 | Q12: 13
B13: =I13 -> 12 | C13: =K13 -> 11 | D13: =P13 -> 2 | E13: =Q13 -> 3 | F13: =VLOOKUP(I13,TEAMS!A10:D63,4,0) -> Tuesday | G13: =VLOOKUP(F13,$F$40:$G$43,2,FALSE) -> 46140 | H13: 2 | I13: 12 | J13: =VLOOKUP($I13,TEAMS!$A$3:$D$56,2,0) -> NU Yellow | K13: 11 | L13: =VLOOKUP($K13,TEAMS!$A$3:$D$56,2,0) -> TB Colts | M13: =VLOOKUP($P13,TEAMS!$A$3:$D$56,2,0) -> NU White | N13: =VLOOKUP($Q13,TEAMS!$A$3:$D$56,2,0) -> TB Mustangs | O13: =VLOOKUP($I13,TEAMS!$A$3:$D$56,3,0) -> UEA | P13: 2 | Q13: 3
B14: =I14 -> 13 | C14: =K14 -> 14 | D14: =P14 -> 4 | E14: =Q14 -> 8 | F14: =VLOOKUP(I14,TEAMS!A11:D64,4,0) -> Tuesday | G14: =VLOOKUP(F14,$F$40:$G$43,2,FALSE) -> 46140 | H14: 2 | I14: 13 | J14: =VLOOKUP($I14,TEAMS!$A$3:$D$56,2,0) -> Sonics | K14: 14 | L14: =VLOOKUP($K14,TEAMS!$A$3:$D$56,2,0) -> NU Royal | M14: =VLOOKUP($P14,TEAMS!$A$3:$D$56,2,0) -> Stars | N14: =VLOOKUP($Q14,TEAMS!$A$3:$D$56,2,0) -> Jets | O14: =VLOOKUP($I14,TEAMS!$A$3:$D$56,3,0) -> Open | P14: 4 | Q14: 8
B15: =I15 -> 16 | C15: =K15 -> 10 | D15: =P15 -> 18 | E15: =Q15 -> 20 | F15: =VLOOKUP(I15,TEAMS!A8:D61,4,0) -> Monday | G15: =VLOOKUP(F15,$F$40:$G$43,2,FALSE) -> 46139 | H15: 2 | I15: 16 | J15: =VLOOKUP($I15,TEAMS!$A$3:$D$56,2,0) -> Sirens | K15: 10 | L15: =VLOOKUP($K15,TEAMS!$A$3:$D$56,2,0) -> Black Knights | M15: =VLOOKUP($P15,TEAMS!$A$3:$D$56,2,0) -> Venus | N15: =VLOOKUP($Q15,TEAMS!$A$3:$D$56,2,0) -> White Knights | O15: =VLOOKUP($I15,TEAMS!$A$3:$D$56,3,0) -> Open | P15: 18 | Q15: 20
B17: =I17 -> 24 | C17: =K17 -> 19 | D17: =P17 -> 34 | E17: =Q17 -> 36 | F17: =VLOOKUP(I17,TEAMS!A14:D67,4,0) -> Wednesday | G17: =VLOOKUP(F17,$F$40:$G$43,2,FALSE) -> 46141 | H17: 3 | I17: 24 | J17: =VLOOKUP($I17,TEAMS!$A$3:$D$56,2,0) -> Icenians | K17: 19 | L17: =VLOOKUP($K17,TEAMS!$A$3:$D$56,2,0) -> Premier | M17: =VLOOKUP($P17,TEAMS!$A$3:$D$56,2,0) -> NU Amber | N17: =VLOOKUP($Q17,TEAMS!$A$3:$D$56,2,0) -> TB Fillies | O17: =VLOOKUP($I17,TEAMS!$A$3:$D$56,3,0) -> Open | P17: 34 | Q17: 36
B18: =I18 -> 17 | C18: =K18 -> 23 | D18: =P18 -> 7 | E18: =Q18 -> 21 | F18: =VLOOKUP(I18,TEAMS!A13:D66,4,0) -> Tuesday | G18: =VLOOKUP(F18,$F$40:$G$43,2,FALSE) -> 46140 | H18: 3 | I18: 17 | J18: =VLOOKUP($I18,TEAMS!$A$3:$D$56,2,0) -> Blades | K18: 23 | L18: =VLOOKUP($K18,TEAMS!$A$3:$D$56,2,0) -> Hotshots | M18: =VLOOKUP($P18,TEAMS!$A$3:$D$56,2,0) -> Cromer Cobras | N18: =VLOOKUP($Q18,TEAMS!$A$3:$D$56,2,0) -> Belton | O18: =VLOOKUP($I18,TEAMS!$A$3:$D$56,3,0) -> Open | P18: 7 | Q18: 21
B19: =I19 -> 20 | C19: =K19 -> 21 | D19: =P19 -> 10 | E19: =Q19 -> 47 | F19: =VLOOKUP(I19,TEAMS!A15:D68,4,0) -> Wednesday | G19: =VLOOKUP(F19,$F$40:$G$43,2,FALSE) -> 46141 | H19: 3 | I19: 20 | J19: =VLOOKUP($I19,TEAMS!$A$3:$D$56,2,0) -> White Knights | K19: 21 | L19: =VLOOKUP($K19,TEAMS!$A$3:$D$56,2,0) -> Belton | M19: =VLOOKUP($P19,TEAMS!$A$3:$D$56,2,0) -> Black Knights | N19: =VLOOKUP($Q19,TEAMS!$A$3:$D$56,2,0) -> BYE WEEK | O19: =VLOOKUP($I19,TEAMS!$A$3:$D$56,3,0) -> Hewett | P19: 10 | Q19: 47
B20: =I20 -> 22 | C20: =K20 -> 18 | D20: =P20 -> 30 | E20: =Q20 -> 26 | F20: =VLOOKUP(I20,TEAMS!A16:D69,4,0) -> Tuesday | G20: =VLOOKUP(F20,$F$40:$G$43,2,FALSE) -> 46140 | H20: 3 | I20: 22 | J20: =VLOOKUP($I20,TEAMS!$A$3:$D$56,2,0) -> Wrens | K20: 18 | L20: =VLOOKUP($K20,TEAMS!$A$3:$D$56,2,0) -> Venus | M20: =VLOOKUP($P20,TEAMS!$A$3:$D$56,2,0) -> Watton Wolves | N20: =VLOOKUP($Q20,TEAMS!$A$3:$D$56,2,0) -> TB Shetlands | O20: =VLOOKUP($I20,TEAMS!$A$3:$D$56,3,0) -> Open | P20: 30 | Q20: 26
B22: =I22 -> 28 | C22: =K22 -> 29 | D22: =P22 -> 15 | E22: =Q22 -> 17 | F22: Wednesday | G22: =VLOOKUP(F22,$F$40:$G$43,2,FALSE) -> 46141 | H22: 4 | I22: 28 | J22: =VLOOKUP($I22,TEAMS!$A$3:$D$56,2,0) -> Hethersett Rockets | K22: 29 | L22: =VLOOKUP($K22,TEAMS!$A$3:$D$56,2,0) -> NCF Emerald | M22: =VLOOKUP($P22,TEAMS!$A$3:$D$56,2,0) -> Cliff Park | N22: =VLOOKUP($Q22,TEAMS!$A$3:$D$56,2,0) -> Blades | O22: =VLOOKUP($I22,TEAMS!$A$3:$D$56,3,0) -> Hellesdon High | P22: 15 | Q22: 17
B23: =I23 -> 26 | C23: =K23 -> 32 | D23: =P23 -> 22 | E23: =Q23 -> 27 | F23: =VLOOKUP(I23,TEAMS!A20:D75,4,0) -> Wednesday | G23: =VLOOKUP(F23,$F$40:$G$43,2,FALSE) -> 46141 | H23: 4 | I23: 26 | J23: =VLOOKUP($I23,TEAMS!$A$3:$D$56,2,0) -> TB Shetlands | K23: 32 | L23: =VLOOKUP($K23,TEAMS!$A$3:$D$56,2,0) -> Red Hot Chillies | M23: =VLOOKUP($P23,TEAMS!$A$3:$D$56,2,0) -> Wrens | N23: =VLOOKUP($Q23,TEAMS!$A$3:$D$56,2,0) -> Falcons | O23: =VLOOKUP($I23,TEAMS!$A$3:$D$56,3,0) -> Sprowston | P23: 22 | Q23: 27
B24: =I24 -> 27 | C24: =K24 -> 31 | D24: =P24 -> 24 | E24: =Q24 -> 25 | F24: =VLOOKUP(I24,TEAMS!A21:D76,4,0) -> Tuesday | G24: =VLOOKUP(F24,$F$40:$G$43,2,FALSE) -> 46140 | H24: 4 | I24: 27 | J24: =VLOOKUP($I24,TEAMS!$A$3:$D$56,2,0) -> Falcons | K24: 31 | L24: =VLOOKUP($K24,TEAMS!$A$3:$D$56,2,0) -> Trailblazers | M24: =VLOOKUP($P24,TEAMS!$A$3:$D$56,2,0) -> Icenians | N24: =VLOOKUP($Q24,TEAMS!$A$3:$D$56,2,0) -> NU Ruby | O24: =VLOOKUP($I24,TEAMS!$A$3:$D$56,3,0) -> City | P24: 24 | Q24: 25
B25: =I25 -> 25 | C25: =K25 -> 30 | D25: =P25 -> 9 | E25: =Q25 -> 31 | F25: =VLOOKUP(I25,TEAMS!A18:D73,4,0) -> Wednesday | G25: =VLOOKUP(F25,$F$40:$G$43,2,FALSE) -> 46141 | H25: 4 | I25: 25 | J25: =VLOOKUP($I25,TEAMS!$A$3:$D$56,2,0) -> NU Ruby | K25: 30 | L25: =VLOOKUP($K25,TEAMS!$A$3:$D$56,2,0) -> Watton Wolves | M25: =VLOOKUP($P25,TEAMS!$A$3:$D$56,2,0) -> Phoenix | N25: =VLOOKUP($Q25,TEAMS!$A$3:$D$56,2,0) -> Trailblazers | O25: =VLOOKUP($I25,TEAMS!$A$3:$D$56,3,0) -> UEA | P25: 9 | Q25: 31
B27: =I27 -> 35 | C27: =K27 -> 39 | D27: =P27 -> 28 | E27: =Q27 -> 46 | F27: Monday | G27: =VLOOKUP(F27,$F$40:$G$43,2,FALSE) -> 46139 | H27: 5 | I27: 35 | J27: =VLOOKUP($I27,TEAMS!$A$3:$D$56,2,0) -> Gems | K27: 39 | L27: =VLOOKUP($K27,TEAMS!$A$3:$D$56,2,0) -> Tigers | M27: =VLOOKUP($P27,TEAMS!$A$3:$D$56,2,0) -> Hethersett Rockets | N27: =VLOOKUP($Q27,TEAMS!$A$3:$D$56,2,0) -> Doves | O27: =VLOOKUP($I27,TEAMS!$A$3:$D$56,3,0) -> Hewett | P27: 28 | Q27: 46
B28: =I28 -> 40 | C28: =K28 -> 33 | D28: =P28 -> 0 | E28: =Q28 -> 0 | F28: =VLOOKUP(I28,TEAMS!A24:D79,4,0) -> 0 | G28: =VLOOKUP(F28,$F$40:$G$43,2,FALSE) -> #N/A | H28: 5 | I28: 40 | J28: =VLOOKUP($I28,TEAMS!$A$3:$D$56,2,0) -> BYE WEEK | K28: 33 | L28: =VLOOKUP($K28,TEAMS!$A$3:$D$56,2,0) -> Hornets | M28: =VLOOKUP($P28,TEAMS!$A$3:$D$56,2,0) -> #N/A | N28: =VLOOKUP($Q28,TEAMS!$A$3:$D$56,2,0) -> #N/A | O28: =VLOOKUP($I28,TEAMS!$A$3:$D$56,3,0) -> 0
B29: =I29 -> 36 | C29: =K29 -> 34 | D29: =P29 -> 37 | E29: =Q29 -> 38 | F29: =VLOOKUP(I29,TEAMS!A25:D80,4,0) -> Thursday | G29: =VLOOKUP(F29,$F$40:$G$43,2,FALSE) -> 46142 | H29: 5 | I29: 36 | J29: =VLOOKUP($I29,TEAMS!$A$3:$D$56,2,0) -> TB Fillies | K29: 34 | L29: =VLOOKUP($K29,TEAMS!$A$3:$D$56,2,0) -> NU Amber | M29: =VLOOKUP($P29,TEAMS!$A$3:$D$56,2,0) -> First Home Improvements | N29: =VLOOKUP($Q29,TEAMS!$A$3:$D$56,2,0) -> NU Red | O29: =VLOOKUP($I29,TEAMS!$A$3:$D$56,3,0) -> Sprowston | P29: 37 | Q29: 38
B30: =I30 -> 37 | C30: =K30 -> 38 | D30: =P30 -> 29 | E30: =Q30 -> 32 | F30: =VLOOKUP(I30,TEAMS!A26:D81,4,0) -> Monday | G30: =VLOOKUP(F30,$F$40:$G$43,2,FALSE) -> 46139 | H30: 5 | I30: 37 | J30: =VLOOKUP($I30,TEAMS!$A$3:$D$56,2,0) -> First Home Improvements | K30: 38 | L30: =VLOOKUP($K30,TEAMS!$A$3:$D$56,2,0) -> NU Red | M30: =VLOOKUP($P30,TEAMS!$A$3:$D$56,2,0) -> NCF Emerald | N30: =VLOOKUP($Q30,TEAMS!$A$3:$D$56,2,0) -> Red Hot Chillies | O30: =VLOOKUP($I30,TEAMS!$A$3:$D$56,3,0) -> Open | P30: 29 | Q30: 32
B32: =I32 -> 43 | C32: =K32 -> 47 | D32: =P32 -> 0 | E32: =Q32 -> 0 | G32: =VLOOKUP(F32,$F$40:$G$43,2,FALSE) -> #N/A | H32: 6 | I32: 43 | J32: =VLOOKUP($I32,TEAMS!$A$3:$D$56,2,0) -> Trowse | K32: 47 | L32: =VLOOKUP($K32,TEAMS!$A$3:$D$56,2,0) -> BYE WEEK | M32: =VLOOKUP($P32,TEAMS!$A$3:$D$56,2,0) -> #N/A | N32: =VLOOKUP($Q32,TEAMS!$A$3:$D$56,2,0) -> #N/A
B33: =I33 -> 48 | C33: =K33 -> 41 | D33: =P33 -> 0 | E33: =Q33 -> 0 | F33: =VLOOKUP(I33,TEAMS!A28:D83,4,0) -> 0 | G33: =VLOOKUP(F33,$F$40:$G$43,2,FALSE) -> #N/A | H33: 6 | I33: 48 | J33: =VLOOKUP($I33,TEAMS!$A$3:$D$56,2,0) -> BYE WEEK | K33: 41 | L33: =VLOOKUP($K33,TEAMS!$A$3:$D$56,2,0) -> Dragons | M33: =VLOOKUP($P33,TEAMS!$A$3:$D$56,2,0) -> #N/A | N33: =VLOOKUP($Q33,TEAMS!$A$3:$D$56,2,0) -> #N/A | O33: =VLOOKUP($I33,TEAMS!$A$3:$D$56,3,0) -> 0
B34: =I34 -> 44 | C34: =K34 -> 42 | D34: =P34 -> 45 | E34: =Q34 -> 43 | F34: =VLOOKUP(I34,TEAMS!A29:D84,4,0) -> Monday | G34: =VLOOKUP(F34,$F$40:$G$43,2,FALSE) -> 46139 | H34: 6 | I34: 44 | J34: =VLOOKUP($I34,TEAMS!$A$3:$D$56,2,0) -> Cromer Vipers | K34: 42 | L34: =VLOOKUP($K34,TEAMS!$A$3:$D$56,2,0) -> TB Ponies | M34: =VLOOKUP($P34,TEAMS!$A$3:$D$56,2,0) -> NCF Onyx | N34: =VLOOKUP($Q34,TEAMS!$A$3:$D$56,2,0) -> Trowse | O34: =VLOOKUP($I34,TEAMS!$A$3:$D$56,3,0) -> Hellesdon High | P34: 45 | Q34: 43
B35: =I35 -> 46 | C35: =K35 -> 45 | D35: =P35 -> 44 | E35: =Q35 -> 42 | F35: Tuesday | G35: =VLOOKUP(F35,$F$40:$G$43,2,FALSE) -> 46140 | H35: 6 | I35: 46 | J35: =VLOOKUP($I35,TEAMS!$A$3:$D$56,2,0) -> Doves | K35: 45 | L35: =VLOOKUP($K35,TEAMS!$A$3:$D$56,2,0) -> NCF Onyx | M35: =VLOOKUP($P35,TEAMS!$A$3:$D$56,2,0) -> Cromer Vipers | N35: =VLOOKUP($Q35,TEAMS!$A$3:$D$56,2,0) -> TB Ponies | O35: Sprowston | P35: 44 | Q35: 42
G37: where indicated the date or venue has changed
G39: Date | H39: UEA | I39: HELLESDON CC | J39: HEWETT | K39: OPEN | L39: CITY | M39: OLD CATTON | N39: Hellesdon High | O39: SPROWSTON | P39: THORPE
A40: Bank Holiday | F40: MONDAY | G40: =G3 -> 46139 | H40: =COUNTIFS($O$7:$O$35,H$39,$F$7:$F$35,$F40) -> 0 | I40: =COUNTIFS($O$7:$O$35,I$39,$F$7:$F$35,$F40) -> 0 | J40: =COUNTIFS($O$7:$O$35,J$39,$F$7:$F$35,$F40) -> 1 | K40: =COUNTIFS($O$7:$O$35,K$39,$F$7:$F$35,$F40) -> 3 | L40: =COUNTIFS($O$7:$O$35,L$39,$F$7:$F$35,$F40) -> 0 | M40: =COUNTIFS($O$7:$O$35,M$39,$F$7:$F$35,$F40) -> 0 | N40: =COUNTIFS($O$7:$O$35,N$39,$F$7:$F$35,$F40) -> 1 | O40: =COUNTIFS($O$7:$O$35,O$39,$F$7:$F$35,$F40) -> 0 | P40: =COUNTIFS($O$7:$O$35,P$39,$F$7:$F$35,$F40) -> 0 | Q40: =SUM(H40:P40) -> 5
F41: TUESDAY | G41: =G40+1 -> 46140 | H41: =COUNTIFS($O$7:$O$35,H$39,$F$7:$F$35,$F41) -> 1 | I41: =COUNTIFS($O$7:$O$35,I$39,$F$7:$F$35,$F41) -> 0 | J41: =COUNTIFS($O$7:$O$35,J$39,$F$7:$F$35,$F41) -> 1 | K41: 3 | L41: =COUNTIFS($O$7:$O$35,L$39,$F$7:$F$35,$F41) -> 1 | M41: =COUNTIFS($O$7:$O$35,M$39,$F$7:$F$35,$F41) -> 0 | N41: =COUNTIFS($O$7:$O$35,N$39,$F$7:$F$35,$F41) -> 0 | O41: =COUNTIFS($O$7:$O$35,O$39,$F$7:$F$35,$F41) -> 1 | P41: =COUNTIFS($O$7:$O$35,P$39,$F$7:$F$35,$F41) -> 0 | Q41: =SUM(H41:P41) -> 7
F42: WEDNESDAY | G42: =G41+1 -> 46141 | H42: =COUNTIFS($O$7:$O$35,H$39,$F$7:$F$35,$F42) -> 3 | I42: =COUNTIFS($O$7:$O$35,I$39,$F$7:$F$35,$F42) -> 0 | J42: =COUNTIFS($O$7:$O$35,J$39,$F$7:$F$35,$F42) -> 1 | K42: =COUNTIFS($O$7:$O$35,K$39,$F$7:$F$35,$F42) -> 1 | L42: =COUNTIFS($O$7:$O$35,L$39,$F$7:$F$35,$F42) -> 0 | M42: =COUNTIFS($O$7:$O$35,M$39,$F$7:$F$35,$F42) -> 0 | N42: =COUNTIFS($O$7:$O$35,N$39,$F$7:$F$35,$F42) -> 1 | O42: =COUNTIFS($O$7:$O$35,O$39,$F$7:$F$35,$F42) -> 2 | P42: =COUNTIFS($O$7:$O$35,P$39,$F$7:$F$35,$F42) -> 0 | Q42: =SUM(H42:P42) -> 8
F43: THURSDAY | G43: =G42+1 -> 46142 | H43: =COUNTIFS($O$7:$O$35,H$39,$F$7:$F$35,$F43) -> 0 | I43: =COUNTIFS($O$7:$O$35,I$39,$F$7:$F$35,$F43) -> 0 | J43: =COUNTIFS($O$7:$O$35,J$39,$F$7:$F$35,$F43) -> 0 | K43: =COUNTIFS($O$7:$O$35,K$39,$F$7:$F$35,$F43) -> 0 | L43: =COUNTIFS($O$7:$O$35,L$39,$F$7:$F$35,$F43) -> 0 | M43: =COUNTIFS($O$7:$O$35,M$39,$F$7:$F$35,$F43) -> 0 | N43: =COUNTIFS($O$7:$O$35,N$39,$F$7:$F$35,$F43) -> 0 | O43: =COUNTIFS($O$7:$O$35,O$39,$F$7:$F$35,$F43) -> 1 | P43: =COUNTIFS($O$7:$O$35,P$39,$F$7:$F$35,$F43) -> 0 | Q43: =SUM(H43:P43) -> 1
Q44: =SUM(Q40:Q43) -> 21

Sheet WK 6 FIXTURES
F3: Week Comm | G3: 46146 | H3: Wk 6 | U3: Playing | X3: Umpiring
B4: Playing | D4: Umpiring
B5: Home | C5: Away | D5: Home | E5: Away | F5: Day | G5: Date | H5: Div | I5: Team Num | J5: Home Team | L5: Away Team | M5: Umpire 1 | N5: Umpire 2 | O5: Venue | P5: UMP1 | Q5: UMP2
B7: =I7 -> 8 | C7: =K7 -> 5 | D7: =P7 -> 11 | E7: =Q7 -> 13 | F7: =VLOOKUP(I7,TEAMS!A3:D56,4,0) -> Wednesday | G7: =VLOOKUP(F7,$F$40:$G$43,2,FALSE) -> 46148 | H7: 1 | I7: 8 | J7: =VLOOKUP($I7,TEAMS!$A$3:$D$56,2,0) -> Jets | K7: 5 | L7: =VLOOKUP($K7,TEAMS!$A$3:$D$56,2,0) -> TB Racers | M7: =VLOOKUP($P7,TEAMS!$A$3:$D$56,2,0) -> TB Colts | N7: =VLOOKUP($Q7,TEAMS!$A$3:$D$56,2,0) -> Sonics | O7: =VLOOKUP($I7,TEAMS!$A$3:$D$56,3,0) -> UEA | P7: 11 | Q7: 13
B8: =I8 -> 4 | C8: =K8 -> 3 | D8: =P8 -> 1 | E8: =Q8 -> 6 | F8: =VLOOKUP(I8,TEAMS!A5:D56,4,0) -> Tuesday | G8: =VLOOKUP(F8,$F$40:$G$43,2,FALSE) -> 46147 | H8: 1 | I8: 4 | J8: =VLOOKUP($I8,TEAMS!$A$3:$D$56,2,0) -> Stars | K8: 3 | L8: =VLOOKUP($K8,TEAMS!$A$3:$D$56,2,0) -> TB Mustangs | M8: =VLOOKUP($P8,TEAMS!$A$3:$D$56,2,0) -> NU Blue | N8: =VLOOKUP($Q8,TEAMS!$A$3:$D$56,2,0) -> Red Knights | O8: =VLOOKUP($I8,TEAMS!$A$3:$D$56,3,0) -> UEA | P8: 1 | Q8: 6
B9: =I9 -> 1 | C9: =K9 -> 7 | D9: =P9 -> 12 | E9: =Q9 -> 14 | F9: =VLOOKUP(I9,TEAMS!A3:D56,4,0) -> Wednesday | G9: =VLOOKUP(F9,$F$40:$G$43,2,FALSE) -> 46148 | H9: 1 | I9: 1 | J9: =VLOOKUP($I9,TEAMS!$A$3:$D$56,2,0) -> NU Blue | K9: 7 | L9: =VLOOKUP($K9,TEAMS!$A$3:$D$56,2,0) -> Cromer Cobras | M9: =VLOOKUP($P9,TEAMS!$A$3:$D$56,2,0) -> NU Yellow | N9: =VLOOKUP($Q9,TEAMS!$A$3:$D$56,2,0) -> NU Royal | O9: =VLOOKUP($I9,TEAMS!$A$3:$D$56,3,0) -> UEA | P9: 12 | Q9: 14
B10: =I10 -> 2 | C10: =K10 -> 6 | D10: =P10 -> 4 | E10: =Q10 -> 3 | F10: =VLOOKUP(I10,TEAMS!A3:D56,4,0) -> Wednesday | G10: =VLOOKUP(F10,$F$40:$G$43,2,FALSE) -> 46148 | H10: 1 | I10: 2 | J10: =VLOOKUP($I10,TEAMS!$A$3:$D$56,2,0) -> NU White | K10: 6 | L10: =VLOOKUP($K10,TEAMS!$A$3:$D$56,2,0) -> Red Knights | M10: =VLOOKUP($P10,TEAMS!$A$3:$D$56,2,0) -> Stars | N10: =VLOOKUP($Q10,TEAMS!$A$3:$D$56,2,0) -> TB Mustangs | O10: =VLOOKUP($I10,TEAMS!$A$3:$D$56,3,0) -> UEA | P10: 4 | Q10: 3
B12: =I12 -> 10 | C12: =K12 -> 9 | D12: =P12 -> 16 | E12: =Q12 -> 18 | F12: Wednesday | G12: =VLOOKUP(F12,$F$40:$G$43,2,FALSE) -> 46148 | H12: 2 | I12: 10 | J12: =VLOOKUP($I12,TEAMS!$A$3:$D$56,2,0) -> Black Knights | K12: 9 | L12: =VLOOKUP($K12,TEAMS!$A$3:$D$56,2,0) -> Phoenix | M12: =VLOOKUP($P12,TEAMS!$A$3:$D$56,2,0) -> Sirens | N12: =VLOOKUP($Q12,TEAMS!$A$3:$D$56,2,0) -> Venus | O12: =VLOOKUP($I12,TEAMS!$A$3:$D$56,3,0) -> Hewett | P12: 16 | Q12: 18
B13: =I13 -> 11 | C13: =K13 -> 13 | D13: =P13 -> 2 | E13: =Q13 -> 5 | F13: =VLOOKUP(I13,TEAMS!A9:D62,4,0) -> Tuesday | G13: =VLOOKUP(F13,$F$40:$G$43,2,FALSE) -> 46147 | H13: 2 | I13: 11 | J13: =VLOOKUP($I13,TEAMS!$A$3:$D$56,2,0) -> TB Colts | K13: 13 | L13: =VLOOKUP($K13,TEAMS!$A$3:$D$56,2,0) -> Sonics | M13: =VLOOKUP($P13,TEAMS!$A$3:$D$56,2,0) -> NU White | N13: =VLOOKUP($Q13,TEAMS!$A$3:$D$56,2,0) -> TB Racers | O13: =VLOOKUP($I13,TEAMS!$A$3:$D$56,3,0) -> Sprowston | P13: 2 | Q13: 5
B14: =I14 -> 12 | C14: =K14 -> 14 | D14: =P14 -> 8 | E14: =Q14 -> 26 | F14: =VLOOKUP(I14,TEAMS!A10:D63,4,0) -> Tuesday | G14: =VLOOKUP(F14,$F$40:$G$43,2,FALSE) -> 46147 | H14: 2 | I14: 12 | J14: =VLOOKUP($I14,TEAMS!$A$3:$D$56,2,0) -> NU Yellow | K14: 14 | L14: =VLOOKUP($K14,TEAMS!$A$3:$D$56,2,0) -> NU Royal | M14: =VLOOKUP($P14,TEAMS!$A$3:$D$56,2,0) -> Jets | N14: =VLOOKUP($Q14,TEAMS!$A$3:$D$56,2,0) -> TB Shetlands | O14: =VLOOKUP($I14,TEAMS!$A$3:$D$56,3,0) -> UEA | P14: 8 | Q14: 26
B15: =I15 -> 15 | C15: =K15 -> 16 | D15: =P15 -> 19 | E15: =Q15 -> 20 | F15: Wednesday | G15: =VLOOKUP(F15,$F$40:$G$43,2,FALSE) -> 46148 | H15: 2 | I15: 15 | J15: =VLOOKUP($I15,TEAMS!$A$3:$D$56,2,0) -> Cliff Park | K15: 16 | L15: =VLOOKUP($K15,TEAMS!$A$3:$D$56,2,0) -> Sirens | M15: =VLOOKUP($P15,TEAMS!$A$3:$D$56,2,0) -> Premier | N15: =VLOOKUP($Q15,TEAMS!$A$3:$D$56,2,0) -> White Knights | O15: Open | P15: 19 | Q15: 20
B17: =I17 -> 17 | C17: =K17 -> 24 | D17: =P17 -> 7 | E17: =Q17 -> 15 | F17: =VLOOKUP(I17,TEAMS!A13:D66,4,0) -> Tuesday | G17: =VLOOKUP(F17,$F$40:$G$43,2,FALSE) -> 46147 | H17: 3 | I17: 17 | J17: =VLOOKUP($I17,TEAMS!$A$3:$D$56,2,0) -> Blades | K17: 24 | L17: =VLOOKUP($K17,TEAMS!$A$3:$D$56,2,0) -> Icenians | M17: =VLOOKUP($P17,TEAMS!$A$3:$D$56,2,0) -> Cromer Cobras | N17: =VLOOKUP($Q17,TEAMS!$A$3:$D$56,2,0) -> Cliff Park | O17: =VLOOKUP($I17,TEAMS!$A$3:$D$56,3,0) -> Open | P17: 7 | Q17: 15
B18: =I18 -> 23 | C18: =K18 -> 18 | D18: =P18 -> 10 | E18: =Q18 -> 33 | F18: =VLOOKUP(I18,TEAMS!A14:D67,4,0) -> Tuesday | G18: =VLOOKUP(F18,$F$40:$G$43,2,FALSE) -> 46147 | H18: 3 | I18: 23 | J18: =VLOOKUP($I18,TEAMS!$A$3:$D$56,2,0) -> Hotshots | K18: 18 | L18: =VLOOKUP($K18,TEAMS!$A$3:$D$56,2,0) -> Venus | M18: =VLOOKUP($P18,TEAMS!$A$3:$D$56,2,0) -> Black Knights | N18: =VLOOKUP($Q18,TEAMS!$A$3:$D$56,2,0) -> Hornets | O18: =VLOOKUP($I18,TEAMS!$A$3:$D$56,3,0) -> Open | P18: 10 | Q18: 33
B19: =I19 -> 21 | C19: =K19 -> 22 | D19: =P19 -> 23 | E19: =Q19 -> 30 | F19: Wednesday | G19: =VLOOKUP(F19,$F$40:$G$43,2,FALSE) -> 46148 | H19: 3 | I19: 21 | J19: =VLOOKUP($I19,TEAMS!$A$3:$D$56,2,0) -> Belton | K19: 22 | L19: =VLOOKUP($K19,TEAMS!$A$3:$D$56,2,0) -> Wrens | M19: =VLOOKUP($P19,TEAMS!$A$3:$D$56,2,0) -> Hotshots | N19: =VLOOKUP($Q19,TEAMS!$A$3:$D$56,2,0) -> Watton Wolves | O19: City | P19: 23 | Q19: 30
B20: =I20 -> 19 | C20: =K20 -> 20 | D20: =P20 -> 21 | E20: =Q20 -> 25 | F20: =VLOOKUP(I20,TEAMS!A17:D70,4,0) -> Tuesday | G20: =VLOOKUP(F20,$F$40:$G$43,2,FALSE) -> 46147 | H20: 3 | I20: 19 | J20: =VLOOKUP($I20,TEAMS!$A$3:$D$56,2,0) -> Premier | K20: 20 | L20: =VLOOKUP($K20,TEAMS!$A$3:$D$56,2,0) -> White Knights | M20: =VLOOKUP($P20,TEAMS!$A$3:$D$56,2,0) -> Belton | N20: =VLOOKUP($Q20,TEAMS!$A$3:$D$56,2,0) -> NU Ruby | O20: Hellesdon High | P20: 21 | Q20: 25
B22: =I22 -> 28 | C22: =K22 -> 32 | D22: =P22 -> 17 | E22: =Q22 -> 29 | F22: Wednesday | G22: =VLOOKUP(F22,$F$40:$G$43,2,FALSE) -> 46148 | H22: 4 | I22: 28 | J22: =VLOOKUP($I22,TEAMS!$A$3:$D$56,2,0) -> Hethersett Rockets | K22: 32 | L22: =VLOOKUP($K22,TEAMS!$A$3:$D$56,2,0) -> Red Hot Chillies | M22: =VLOOKUP($P22,TEAMS!$A$3:$D$56,2,0) -> Blades | N22: =VLOOKUP($Q22,TEAMS!$A$3:$D$56,2,0) -> NCF Emerald | O22: =VLOOKUP($I22,TEAMS!$A$3:$D$56,3,0) -> Hellesdon High | P22: 17 | Q22: 29
B23: =I23 -> 30 | C23: =K23 -> 27 | D23: =P23 -> 9 | E23: =Q23 -> 22 | F23: Tuesday | H23: 4 | I23: 30 | J23: =VLOOKUP($I23,TEAMS!$A$3:$D$56,2,0) -> Watton Wolves | K23: 27 | L23: =VLOOKUP($K23,TEAMS!$A$3:$D$56,2,0) -> Falcons | M23: =VLOOKUP($P23,TEAMS!$A$3:$D$56,2,0) -> Phoenix | N23: =VLOOKUP($Q23,TEAMS!$A$3:$D$56,2,0) -> Wrens | O23: UEA | P23: 9 | Q23: 22
B24: =I24 -> 25 | C24: =K24 -> 31 | D24: =P24 -> 24 | E24: =Q24 -> 34 | F24: =VLOOKUP(I24,TEAMS!A18:D73,4,0) -> Wednesday | G24: =VLOOKUP(F24,$F$40:$G$43,2,FALSE) -> 46148 | H24: 4 | I24: 25 | J24: =VLOOKUP($I24,TEAMS!$A$3:$D$56,2,0) -> NU Ruby | K24: 31 | L24: =VLOOKUP($K24,TEAMS!$A$3:$D$56,2,0) -> Trailblazers | M24: =VLOOKUP($P24,TEAMS!$A$3:$D$56,2,0) -> Icenians | N24: =VLOOKUP($Q24,TEAMS!$A$3:$D$56,2,0) -> NU Amber | O24: =VLOOKUP($I24,TEAMS!$A$3:$D$56,3,0) -> UEA | P24: 24 | Q24: 34
B25: =I25 -> 29 | C25: =K25 -> 26 | D25: =P25 -> 28 | E25: =Q25 -> 32 | F25: Thursday | G25: =VLOOKUP(F25,$F$40:$G$43,2,FALSE) -> 46149 | H25: 4 | I25: 29 | J25: =VLOOKUP($I25,TEAMS!$A$3:$D$56,2,0) -> NCF Emerald | K25: 26 | L25: =VLOOKUP($K25,TEAMS!$A$3:$D$56,2,0) -> TB Shetlands | M25: =VLOOKUP($P25,TEAMS!$A$3:$D$56,2,0) -> Hethersett Rockets | N25: =VLOOKUP($Q25,TEAMS!$A$3:$D$56,2,0) -> Red Hot Chillies | O25: =VLOOKUP($I25,TEAMS!$A$3:$D$56,3,0) -> Hellesdon High | P25: 28 | Q25: 32
B27: =I27 -> 40 | C27: =K27 -> 37 | D27: =P27 -> 0 | E27: =Q27 -> 0 | F27: =VLOOKUP(I27,TEAMS!A23:D78,4,0) -> 0 | G27: =VLOOKUP(F27,$F$40:$G$43,2,FALSE) -> #N/A | H27: 5 | I27: 40 | J27: =VLOOKUP($I27,TEAMS!$A$3:$D$56,2,0) -> BYE WEEK | K27: 37 | L27: =VLOOKUP($K27,TEAMS!$A$3:$D$56,2,0) -> First Home Improvements | M27: =VLOOKUP($P27,TEAMS!$A$3:$D$56,2,0) -> #N/A | N27: =VLOOKUP($Q27,TEAMS!$A$3:$D$56,2,0) -> #N/A | O27: =VLOOKUP($I27,TEAMS!$A$3:$D$56,3,0) -> 0
B28: =I28 -> 36 | C28: =K28 -> 35 | D28: =P28 -> 31 | E28: =Q28 -> 38 | F28: =VLOOKUP(I28,TEAMS!A24:D79,4,0) -> Thursday | G28: =VLOOKUP(F28,$F$40:$G$43,2,FALSE) -> 46149 | H28: 5 | I28: 36 | J28: =VLOOKUP($I28,TEAMS!$A$3:$D$56,2,0) -> TB Fillies | K28: 35 | L28: =VLOOKUP($K28,TEAMS!$A$3:$D$56,2,0) -> Gems | M28: =VLOOKUP($P28,TEAMS!$A$3:$D$56,2,0) -> Trailblazers | N28: =VLOOKUP($Q28,TEAMS!$A$3:$D$56,2,0) -> NU Red | O28: =VLOOKUP($I28,TEAMS!$A$3:$D$56,3,0) -> Sprowston | P28: 31 | Q28: 38
B29: =I29 -> 39 | C29: =K29 -> 33 | D29: =P29 -> 37 | E29: =Q29 -> 41 | F29: Wednesday | G29: =VLOOKUP(F29,$F$40:$G$43,2,FALSE) -> 46148 | H29: 5 | I29: 39 | J29: =VLOOKUP($I29,TEAMS!$A$3:$D$56,2,0) -> Tigers | K29: 33 | L29: =VLOOKUP($K29,TEAMS!$A$3:$D$56,2,0) -> Hornets | M29: =VLOOKUP($P29,TEAMS!$A$3:$D$56,2,0) -> First Home Improvements | N29: =VLOOKUP($Q29,TEAMS!$A$3:$D$56,2,0) -> Dragons | O29: Hellesdon High | P29: 37 | Q29: 41
B30: =I30 -> 34 | C30: =K30 -> 38 | D30: =P30 -> 36 | E30: =Q30 -> 35 | F30: Tuesday | G30: =VLOOKUP(F30,$F$40:$G$43,2,FALSE) -> 46147 | H30: 5 | I30: 34 | J30: =VLOOKUP($I30,TEAMS!$A$3:$D$56,2,0) -> NU Amber | K30: 38 | L30: =VLOOKUP($K30,TEAMS!$A$3:$D$56,2,0) -> NU Red | M30: =VLOOKUP($P30,TEAMS!$A$3:$D$56,2,0) -> TB Fillies | N30: =VLOOKUP($Q30,TEAMS!$A$3:$D$56,2,0) -> Gems | O30: UEA | P30: 36 | Q30: 35
B31: =I32 -> 48 | C31: =K32 -> 45 | D31: =P32 -> 0 | E31: =Q32 -> 0
B32: =I33 -> 43 | C32: =K33 -> 44 | D32: =P33 -> 27 | E32: =Q33 -> 39 | F32: =VLOOKUP(I32,TEAMS!A27:D82,4,0) -> 0 | G32: =VLOOKUP(F32,$F$40:$G$43,2,FALSE) -> #N/A | H32: 6 | I32: 48 | J32: =VLOOKUP($I32,TEAMS!$A$3:$D$56,2,0) -> BYE WEEK | K32: 45 | L32: =VLOOKUP($K32,TEAMS!$A$3:$D$56,2,0) -> NCF Onyx | M32: =VLOOKUP($P32,TEAMS!$A$3:$D$56,2,0) -> #N/A | N32: =VLOOKUP($Q32,TEAMS!$A$3:$D$56,2,0) -> #N/A | O32: =VLOOKUP($I32,TEAMS!$A$3:$D$56,3,0) -> 0
B33: =I34 -> 41 | C33: =K34 -> 47 | D33: =P34 -> 0 | E33: =Q34 -> 0 | F33: =VLOOKUP(I33,TEAMS!A28:D83,4,0) -> Thursday | G33: =VLOOKUP(F33,$F$40:$G$43,2,FALSE) -> 46149 | H33: 6 | I33: 43 | J33: =VLOOKUP($I33,TEAMS!$A$3:$D$56,2,0) -> Trowse | K33: 44 | L33: =VLOOKUP($K33,TEAMS!$A$3:$D$56,2,0) -> Cromer Vipers | M33: =VLOOKUP($P33,TEAMS!$A$3:$D$56,2,0) -> Falcons | N33: =VLOOKUP($Q33,TEAMS!$A$3:$D$56,2,0) -> Tigers | O33: =VLOOKUP($I33,TEAMS!$A$3:$D$56,3,0) -> Hellesdon High | P33: 27 | Q33: 39
G34: =VLOOKUP(F34,$F$40:$G$43,2,FALSE) -> #N/A | H34: 6 | I34: 41 | J34: =VLOOKUP($I34,TEAMS!$A$3:$D$56,2,0) -> Dragons | K34: 47 | L34: =VLOOKUP($K34,TEAMS!$A$3:$D$56,2,0) -> BYE WEEK | M34: =VLOOKUP($P34,TEAMS!$A$3:$D$56,2,0) -> #N/A | N34: =VLOOKUP($Q34,TEAMS!$A$3:$D$56,2,0) -> #N/A
F35: Tuesday | G35: =VLOOKUP(F35,$F$40:$G$43,2,FALSE) -> 46147 | H35: 6 | I35: 46 | J35: =VLOOKUP($I35,TEAMS!$A$3:$D$56,2,0) -> Doves | K35: 42 | L35: =VLOOKUP($K35,TEAMS!$A$3:$D$56,2,0) -> TB Ponies | M35: =VLOOKUP($P35,TEAMS!$A$3:$D$56,2,0) -> Trowse | N35: =VLOOKUP($Q35,TEAMS!$A$3:$D$56,2,0) -> Cromer Vipers | O35: Sprowston | P35: 43 | Q35: 44
G37: where indicated the date or venue has changed
G39: Date | H39: UEA | I39: HELLESDON CC | J39: HEWETT | K39: OPEN | L39: CITY | M39: OLD CATTON | N39: Hellesdon High | O39: SPROWSTON | P39: THORPE
F40: MONDAY | G40: =G3 -> 46146 | H40: =COUNTIFS($O$7:$O$35,H$39,$F$7:$F$35,$F40) -> 0 | I40: =COUNTIFS($O$7:$O$35,I$39,$F$7:$F$35,$F40) -> 0 | J40: =COUNTIFS($O$7:$O$35,J$39,$F$7:$F$35,$F40) -> 0 | K40: =COUNTIFS($O$7:$O$35,K$39,$F$7:$F$35,$F40) -> 0 | L40: =COUNTIFS($O$7:$O$35,L$39,$F$7:$F$35,$F40) -> 0 | M40: =COUNTIFS($O$7:$O$35,M$39,$F$7:$F$35,$F40) -> 0 | N40: =COUNTIFS($O$7:$O$35,N$39,$F$7:$F$35,$F40) -> 0 | O40: =COUNTIFS($O$7:$O$35,O$39,$F$7:$F$35,$F40) -> 0 | P40: =COUNTIFS($O$7:$O$35,P$39,$F$7:$F$35,$F40) -> 0 | Q40: =SUM(H40:P40) -> 0
F41: TUESDAY | G41: =G40+1 -> 46147 | H41: =COUNTIFS($O$7:$O$35,H$39,$F$7:$F$35,$F41) -> 4 | I41: =COUNTIFS($O$7:$O$35,I$39,$F$7:$F$35,$F41) -> 0 | J41: =COUNTIFS($O$7:$O$35,J$39,$F$7:$F$35,$F41) -> 0 | K41: =COUNTIFS($O$7:$O$35,K$39,$F$7:$F$35,$F41) -> 2 | L41: =COUNTIFS($O$7:$O$35,L$39,$F$7:$F$35,$F41) -> 0 | M41: =COUNTIFS($O$7:$O$35,M$39,$F$7:$F$35,$F41) -> 0 | N41: =COUNTIFS($O$7:$O$35,N$39,$F$7:$F$35,$F41) -> 1 | O41: =COUNTIFS($O$7:$O$35,O$39,$F$7:$F$35,$F41) -> 2 | P41: =COUNTIFS($O$7:$O$35,P$39,$F$7:$F$35,$F41) -> 0 | Q41: =SUM(H41:P41) -> 9
F42: WEDNESDAY | G42: =G41+1 -> 46148 | H42: =COUNTIFS($O$7:$O$35,H$39,$F$7:$F$35,$F42) -> 4 | I42: =COUNTIFS($O$7:$O$35,I$39,$F$7:$F$35,$F42) -> 0 | J42: =COUNTIFS($O$7:$O$35,J$39,$F$7:$F$35,$F42) -> 1 | K42: =COUNTIFS($O$7:$O$35,K$39,$F$7:$F$35,$F42) -> 1 | L42: =COUNTIFS($O$7:$O$35,L$39,$F$7:$F$35,$F42) -> 1 | M42: =COUNTIFS($O$7:$O$35,M$39,$F$7:$F$35,$F42) -> 0 | N42: =COUNTIFS($O$7:$O$35,N$39,$F$7:$F$35,$F42) -> 2 | O42: =COUNTIFS($O$7:$O$35,O$39,$F$7:$F$35,$F42) -> 0 | P42: =COUNTIFS($O$7:$O$35,P$39,$F$7:$F$35,$F42) -> 0 | Q42: =SUM(H42:P42) -> 9
F43: THURSDAY | G43: =G42+1 -> 46149 | H43: =COUNTIFS($O$7:$O$35,H$39,$F$7:$F$35,$F43) -> 0 | I43: =COUNTIFS($O$7:$O$35,I$39,$F$7:$F$35,$F43) -> 0 | J43: =COUNTIFS($O$7:$O$35,J$39,$F$7:$F$35,$F43) -> 0 | K43: =COUNTIFS($O$7:$O$35,K$39,$F$7:$F$35,$F43) -> 0 | L43: =COUNTIFS($O$7:$O$35,L$39,$F$7:$F$35,$F43) -> 0 | M43: =COUNTIFS($O$7:$O$35,M$39,$F$7:$F$35,$F43) -> 0 | N43: =COUNTIFS($O$7:$O$35,N$39,$F$7:$F$35,$F43) -> 2 | O43: =COUNTIFS($O$7:$O$35,O$39,$F$7:$F$35,$F43) -> 1 | P43: =COUNTIFS($O$7:$O$35,P$39,$F$7:$F$35,$F43) -> 0 | Q43: =SUM(H43:P43) -> 3
Q44: =SUM(Q40:Q43) -> 21

Sheet WK 7 FIXTURES
F3: Week Comm | G3: 46153 | H3: Wk 7 | U3: Playing | X3: Umpiring
B4: Playing | D4: Umpiring
B5: Home | C5: Away | D5: Home | E5: Away | F5: Day | G5: Date | H5: Div | I5: Team Num | J5: Home Team | L5: Away Team | M5: Umpire 1 | N5: Umpire 2 | O5: Venue | P5: UMP1 | Q5: UMP2
B7: =I7 -> 5 | C7: =K7 -> 7 | D7: =P7 -> 12 | E7: =Q7 -> 13 | F7: Monday | G7: =VLOOKUP(F7,$F$40:$G$43,2,FALSE) -> 46153 | H7: 1 | I7: 5 | J7: =VLOOKUP($I7,TEAMS!$A$3:$D$56,2,0) -> TB Racers | K7: 7 | L7: =VLOOKUP($K7,TEAMS!$A$3:$D$56,2,0) -> Cromer Cobras | M7: =VLOOKUP($P7,TEAMS!$A$3:$D$56,2,0) -> NU Yellow | N7: =VLOOKUP($Q7,TEAMS!$A$3:$D$56,2,0) -> Sonics | O7: Sprowston | P7: 12 | Q7: 13
B8: =I8 -> 6 | C8: =K8 -> 8 | D8: =P8 -> 1 | E8: =Q8 -> 2 | F8: =VLOOKUP(I8,TEAMS!A5:D56,4,0) -> Tuesday | G8: =VLOOKUP(F8,$F$40:$G$43,2,FALSE) -> 46154 | H8: 1 | I8: 6 | J8: =VLOOKUP($I8,TEAMS!$A$3:$D$56,2,0) -> Red Knights | K8: 8 | L8: =VLOOKUP($K8,TEAMS!$A$3:$D$56,2,0) -> Jets | M8: =VLOOKUP($P8,TEAMS!$A$3:$D$56,2,0) -> NU Blue | N8: =VLOOKUP($Q8,TEAMS!$A$3:$D$56,2,0) -> NU White | O8: =VLOOKUP($I8,TEAMS!$A$3:$D$56,3,0) -> Hewett | P8: 1 | Q8: 2
B9: =I9 -> 4 | C9: =K9 -> 1 | D9: =P9 -> 5 | E9: =Q9 -> 25 | F9: =VLOOKUP(I9,TEAMS!A3:D56,4,0) -> Tuesday | G9: =VLOOKUP(F9,$F$40:$G$43,2,FALSE) -> 46154 | H9: 1 | I9: 4 | J9: =VLOOKUP($I9,TEAMS!$A$3:$D$56,2,0) -> Stars | K9: 1 | L9: =VLOOKUP($K9,TEAMS!$A$3:$D$56,2,0) -> NU Blue | M9: =VLOOKUP($P9,TEAMS!$A$3:$D$56,2,0) -> TB Racers | N9: =VLOOKUP($Q9,TEAMS!$A$3:$D$56,2,0) -> NU Ruby | O9: =VLOOKUP($I9,TEAMS!$A$3:$D$56,3,0) -> UEA | P9: 5 | Q9: 25
B10: =I10 -> 2 | C10: =K10 -> 3 | D10: =P10 -> 4 | E10: =Q10 -> 6 | F10: =VLOOKUP(I10,TEAMS!A3:D56,4,0) -> Wednesday | G10: =VLOOKUP(F10,$F$40:$G$43,2,FALSE) -> 46155 | H10: 1 | I10: 2 | J10: =VLOOKUP($I10,TEAMS!$A$3:$D$56,2,0) -> NU White | K10: 3 | L10: =VLOOKUP($K10,TEAMS!$A$3:$D$56,2,0) -> TB Mustangs | M10: =VLOOKUP($P10,TEAMS!$A$3:$D$56,2,0) -> Stars | N10: =VLOOKUP($Q10,TEAMS!$A$3:$D$56,2,0) -> Red Knights | O10: =VLOOKUP($I10,TEAMS!$A$3:$D$56,3,0) -> UEA | P10: 4 | Q10: 6
B12: =I12 -> 16 | C12: =K12 -> 9 | D12: =P12 -> 8 | E12: =Q12 -> 10 | F12: =VLOOKUP(I12,TEAMS!A8:D61,4,0) -> Monday | G12: =VLOOKUP(F12,$F$40:$G$43,2,FALSE) -> 46153 | H12: 2 | I12: 16 | J12: =VLOOKUP($I12,TEAMS!$A$3:$D$56,2,0) -> Sirens | K12: 9 | L12: =VLOOKUP($K12,TEAMS!$A$3:$D$56,2,0) -> Phoenix | M12: =VLOOKUP($P12,TEAMS!$A$3:$D$56,2,0) -> Jets | N12: =VLOOKUP($Q12,TEAMS!$A$3:$D$56,2,0) -> Black Knights | O12: =VLOOKUP($I12,TEAMS!$A$3:$D$56,3,0) -> Open | P12: 8 | Q12: 10
B13: =I13 -> 15 | C13: =K13 -> 14 | D13: =P13 -> 11 | E13: =Q13 -> 19 | F13: =VLOOKUP(I13,TEAMS!A9:D62,4,0) -> Monday | G13: =VLOOKUP(F13,$F$40:$G$43,2,FALSE) -> 46153 | H13: 2 | I13: 15 | J13: =VLOOKUP($I13,TEAMS!$A$3:$D$56,2,0) -> Cliff Park | K13: 14 | L13: =VLOOKUP($K13,TEAMS!$A$3:$D$56,2,0) -> NU Royal | M13: =VLOOKUP($P13,TEAMS!$A$3:$D$56,2,0) -> TB Colts | N13: =VLOOKUP($Q13,TEAMS!$A$3:$D$56,2,0) -> Premier | O13: =VLOOKUP($I13,TEAMS!$A$3:$D$56,3,0) -> Open | P13: 11 | Q13: 19
B14: =I14 -> 13 | C14: =K14 -> 12 | D14: =P14 -> 3 | E14: =Q14 -> 14 | F14: =VLOOKUP(I14,TEAMS!A11:D64,4,0) -> Tuesday | G14: =VLOOKUP(F14,$F$40:$G$43,2,FALSE) -> 46154 | H14: 2 | I14: 13 | J14: =VLOOKUP($I14,TEAMS!$A$3:$D$56,2,0) -> Sonics | K14: 12 | L14: =VLOOKUP($K14,TEAMS!$A$3:$D$56,2,0) -> NU Yellow | M14: =VLOOKUP($P14,TEAMS!$A$3:$D$56,2,0) -> TB Mustangs | N14: =VLOOKUP($Q14,TEAMS!$A$3:$D$56,2,0) -> NU Royal | O14: =VLOOKUP($I14,TEAMS!$A$3:$D$56,3,0) -> Open | P14: 3 | Q14: 14
B15: =I15 -> 11 | C15: =K15 -> 10 | D15: =P15 -> 16 | E15: =Q15 -> 18 | F15: Tuesday | G15: =VLOOKUP(F15,$F$40:$G$43,2,FALSE) -> 46154 | H15: 2 | I15: 11 | J15: =VLOOKUP($I15,TEAMS!$A$3:$D$56,2,0) -> TB Colts | K15: 10 | L15: =VLOOKUP($K15,TEAMS!$A$3:$D$56,2,0) -> Black Knights | M15: =VLOOKUP($P15,TEAMS!$A$3:$D$56,2,0) -> Sirens | N15: =VLOOKUP($Q15,TEAMS!$A$3:$D$56,2,0) -> Venus | O15: =VLOOKUP($I15,TEAMS!$A$3:$D$56,3,0) -> Sprowston | P15: 16 | Q15: 18
B17: =I17 -> 20 | C17: =K17 -> 17 | D17: =P17 -> 7 | E17: =Q17 -> 23 | F17: =VLOOKUP(I17,TEAMS!A13:D66,4,0) -> Wednesday | G17: =VLOOKUP(F17,$F$40:$G$43,2,FALSE) -> 46155 | H17: 3 | I17: 20 | J17: =VLOOKUP($I17,TEAMS!$A$3:$D$56,2,0) -> White Knights | K17: 17 | L17: =VLOOKUP($K17,TEAMS!$A$3:$D$56,2,0) -> Blades | M17: =VLOOKUP($P17,TEAMS!$A$3:$D$56,2,0) -> Cromer Cobras | N17: =VLOOKUP($Q17,TEAMS!$A$3:$D$56,2,0) -> Hotshots | O17: =VLOOKUP($I17,TEAMS!$A$3:$D$56,3,0) -> Hewett | P17: 7 | Q17: 23
B18: =I18 -> 24 | C18: =K18 -> 18 | D18: =P18 -> 26 | E18: =Q18 -> 30 | F18: =VLOOKUP(I18,TEAMS!A14:D67,4,0) -> Wednesday | G18: =VLOOKUP(F18,$F$40:$G$43,2,FALSE) -> 46155 | H18: 3 | I18: 24 | J18: =VLOOKUP($I18,TEAMS!$A$3:$D$56,2,0) -> Icenians | K18: 18 | L18: =VLOOKUP($K18,TEAMS!$A$3:$D$56,2,0) -> Venus | M18: =VLOOKUP($P18,TEAMS!$A$3:$D$56,2,0) -> TB Shetlands | N18: =VLOOKUP($Q18,TEAMS!$A$3:$D$56,2,0) -> Watton Wolves | O18: =VLOOKUP($I18,TEAMS!$A$3:$D$56,3,0) -> Open | P18: 26 | Q18: 30
B19: =I19 -> 22 | C19: =K19 -> 23 | D19: =P19 -> 20 | E19: =Q19 -> 21 | F19: =VLOOKUP(I19,TEAMS!A16:D69,4,0) -> Tuesday | G19: =VLOOKUP(F19,$F$40:$G$43,2,FALSE) -> 46154 | H19: 3 | I19: 22 | J19: =VLOOKUP($I19,TEAMS!$A$3:$D$56,2,0) -> Wrens | K19: 23 | L19: =VLOOKUP($K19,TEAMS!$A$3:$D$56,2,0) -> Hotshots | M19: =VLOOKUP($P19,TEAMS!$A$3:$D$56,2,0) -> White Knights | N19: =VLOOKUP($Q19,TEAMS!$A$3:$D$56,2,0) -> Belton | O19: =VLOOKUP($I19,TEAMS!$A$3:$D$56,3,0) -> Open | P19: 20 | Q19: 21
B20: =I20 -> 21 | C20: =K20 -> 19 | D20: =P20 -> 33 | E20: =Q20 -> 34 | F20: Wednesday | G20: =VLOOKUP(F20,$F$40:$G$43,2,FALSE) -> 46155 | H20: 3 | I20: 21 | J20: =VLOOKUP($I20,TEAMS!$A$3:$D$56,2,0) -> Belton | K20: 19 | L20: =VLOOKUP($K20,TEAMS!$A$3:$D$56,2,0) -> Premier | M20: =VLOOKUP($P20,TEAMS!$A$3:$D$56,2,0) -> Hornets | N20: =VLOOKUP($Q20,TEAMS!$A$3:$D$56,2,0) -> NU Amber | O20: City | P20: 33 | Q20: 34
B22: =I22 -> 30 | C22: =K22 -> 26 | D22: =P22 -> 9 | E22: =Q22 -> 15 | F22: =VLOOKUP(I22,TEAMS!A20:D75,4,0) -> Tuesday | G22: =VLOOKUP(F22,$F$40:$G$43,2,FALSE) -> 46154 | H22: 4 | I22: 30 | J22: =VLOOKUP($I22,TEAMS!$A$3:$D$56,2,0) -> Watton Wolves | K22: 26 | L22: =VLOOKUP($K22,TEAMS!$A$3:$D$56,2,0) -> TB Shetlands | M22: =VLOOKUP($P22,TEAMS!$A$3:$D$56,2,0) -> Phoenix | N22: =VLOOKUP($Q22,TEAMS!$A$3:$D$56,2,0) -> Cliff Park | O22: =VLOOKUP($I22,TEAMS!$A$3:$D$56,3,0) -> UEA | P22: 9 | Q22: 15
B23: =I23 -> 28 | C23: =K23 -> 31 | D23: =P23 -> 22 | E23: =Q23 -> 29 | F23: wednesday | G23: =VLOOKUP(F23,$F$40:$G$43,2,FALSE) -> 46155 | H23: 4 | I23: 28 | J23: =VLOOKUP($I23,TEAMS!$A$3:$D$56,2,0) -> Hethersett Rockets | K23: 31 | L23: =VLOOKUP($K23,TEAMS!$A$3:$D$56,2,0) -> Trailblazers | M23: =VLOOKUP($P23,TEAMS!$A$3:$D$56,2,0) -> Wrens | N23: =VLOOKUP($Q23,TEAMS!$A$3:$D$56,2,0) -> NCF Emerald | O23: =VLOOKUP($I23,TEAMS!$A$3:$D$56,3,0) -> Hellesdon High | P23: 22 | Q23: 29
B24: =I24 -> 25 | C24: =K24 -> 32 | D24: =P24 -> 37 | E24: =Q24 -> 38 | F24: =VLOOKUP(I24,TEAMS!A22:D77,4,0) -> Wednesday | G24: =VLOOKUP(F24,$F$40:$G$43,2,FALSE) -> 46155 | H24: 4 | I24: 25 | J24: =VLOOKUP($I24,TEAMS!$A$3:$D$56,2,0) -> NU Ruby | K24: 32 | L24: =VLOOKUP($K24,TEAMS!$A$3:$D$56,2,0) -> Red Hot Chillies | M24: =VLOOKUP($P24,TEAMS!$A$3:$D$56,2,0) -> First Home Improvements | N24: =VLOOKUP($Q24,TEAMS!$A$3:$D$56,2,0) -> NU Red | O24: =VLOOKUP($I24,TEAMS!$A$3:$D$56,3,0) -> UEA | P24: 37 | Q24: 38
B25: =I25 -> 27 | C25: =K25 -> 29 | D25: =P25 -> 17 | E25: =Q25 -> 24 | F25: =VLOOKUP(I25,TEAMS!A21:D76,4,0) -> Tuesday | G25: =VLOOKUP(F25,$F$40:$G$43,2,FALSE) -> 46154 | H25: 4 | I25: 27 | J25: =VLOOKUP($I25,TEAMS!$A$3:$D$56,2,0) -> Falcons | K25: 29 | L25: =VLOOKUP($K25,TEAMS!$A$3:$D$56,2,0) -> NCF Emerald | M25: =VLOOKUP($P25,TEAMS!$A$3:$D$56,2,0) -> Blades | N25: =VLOOKUP($Q25,TEAMS!$A$3:$D$56,2,0) -> Icenians | O25: =VLOOKUP($I25,TEAMS!$A$3:$D$56,3,0) -> City | P25: 17 | Q25: 24
B27: =I27 -> 37 | C27: =K27 -> 39 | D27: =P27 -> 28 | E27: =Q27 -> 31 | F27: Monday | G27: =VLOOKUP(F27,$F$40:$G$43,2,FALSE) -> 46153 | H27: 5 | I27: 37 | J27: =VLOOKUP($I27,TEAMS!$A$3:$D$56,2,0) -> First Home Improvements | K27: 39 | L27: =VLOOKUP($K27,TEAMS!$A$3:$D$56,2,0) -> Tigers | M27: =VLOOKUP($P27,TEAMS!$A$3:$D$56,2,0) -> Hethersett Rockets | N27: =VLOOKUP($Q27,TEAMS!$A$3:$D$56,2,0) -> Trailblazers | O27: Open | P27: 28 | Q27: 31
B28: =I28 -> 40 | C28: =K28 -> 38 | D28: =P28 -> 0 | E28: =Q28 -> 0 | F28: =VLOOKUP(I28,TEAMS!A24:D79,4,0) -> 0 | G28: =VLOOKUP(F28,$F$40:$G$43,2,FALSE) -> #N/A | H28: 5 | I28: 40 | J28: =VLOOKUP($I28,TEAMS!$A$3:$D$56,2,0) -> BYE WEEK | K28: 38 | L28: =VLOOKUP($K28,TEAMS!$A$3:$D$56,2,0) -> NU Red | M28: =VLOOKUP($P28,TEAMS!$A$3:$D$56,2,0) -> #N/A | N28: =VLOOKUP($Q28,TEAMS!$A$3:$D$56,2,0) -> #N/A | O28: =VLOOKUP($I28,TEAMS!$A$3:$D$56,3,0) -> 0
B29: =I29 -> 36 | C29: =K29 -> 33 | D29: =P29 -> 32 | E29: =Q29 -> 35 | F29: =VLOOKUP(I29,TEAMS!A25:D80,4,0) -> Thursday | G29: =VLOOKUP(F29,$F$40:$G$43,2,FALSE) -> 46156 | H29: 5 | I29: 36 | J29: =VLOOKUP($I29,TEAMS!$A$3:$D$56,2,0) -> TB Fillies | K29: 33 | L29: =VLOOKUP($K29,TEAMS!$A$3:$D$56,2,0) -> Hornets | M29: =VLOOKUP($P29,TEAMS!$A$3:$D$56,2,0) -> Red Hot Chillies | N29: =VLOOKUP($Q29,TEAMS!$A$3:$D$56,2,0) -> Gems | O29: =VLOOKUP($I29,TEAMS!$A$3:$D$56,3,0) -> Sprowston | P29: 32 | Q29: 35
B30: =I30 -> 34 | C30: =K30 -> 35 | D30: =P30 -> 36 | E30: =Q30 -> 39 | F30: =VLOOKUP(I30,TEAMS!A26:D81,4,0) -> Tuesday | G30: =VLOOKUP(F30,$F$40:$G$43,2,FALSE) -> 46154 | H30: 5 | I30: 34 | J30: =VLOOKUP($I30,TEAMS!$A$3:$D$56,2,0) -> NU Amber | K30: 35 | L30: =VLOOKUP($K30,TEAMS!$A$3:$D$56,2,0) -> Gems | M30: =VLOOKUP($P30,TEAMS!$A$3:$D$56,2,0) -> TB Fillies | N30: =VLOOKUP($Q30,TEAMS!$A$3:$D$56,2,0) -> Tigers | O30: =VLOOKUP($I30,TEAMS!$A$3:$D$56,3,0) -> UEA | P30: 36 | Q30: 39
B31: =I32 -> 45 | C31: =K32 -> 47 | D31: =P32 -> 0 | E31: =Q32 -> 0
B32: =I33 -> 48 | C32: =K33 -> 46 | D32: =P33 -> 0 | E32: =Q33 -> 0 | F32: =VLOOKUP(I32,TEAMS!A27:D82,4,0) -> 0 | G32: =VLOOKUP(F32,$F$40:$G$43,2,FALSE) -> #N/A | H32: 6 | I32: 45 | J32: =VLOOKUP($I32,TEAMS!$A$3:$D$56,2,0) -> NCF Onyx | K32: 47 | L32: =VLOOKUP($K32,TEAMS!$A$3:$D$56,2,0) -> BYE WEEK | M32: =VLOOKUP($P32,TEAMS!$A$3:$D$56,2,0) -> #N/A | N32: =VLOOKUP($Q32,TEAMS!$A$3:$D$56,2,0) -> #N/A
B33: =I34 -> 44 | C33: =K34 -> 41 | D33: =P34 -> 27 | E33: =Q34 -> 45 | F33: =VLOOKUP(I33,TEAMS!A28:D83,4,0) -> 0 | G33: =VLOOKUP(F33,$F$40:$G$43,2,FALSE) -> #N/A | H33: 6 | I33: 48 | J33: =VLOOKUP($I33,TEAMS!$A$3:$D$56,2,0) -> BYE WEEK | K33: 46 | L33: =VLOOKUP($K33,TEAMS!$A$3:$D$56,2,0) -> Doves | M33: =VLOOKUP($P33,TEAMS!$A$3:$D$56,2,0) -> #N/A | N33: =VLOOKUP($Q33,TEAMS!$A$3:$D$56,2,0) -> #N/A | O33: =VLOOKUP($I33,TEAMS!$A$3:$D$56,3,0) -> 0
F34: =VLOOKUP(I34,TEAMS!A29:D84,4,0) -> Monday | G34: =VLOOKUP(F34,$F$40:$G$43,2,FALSE) -> 46153 | H34: 6 | I34: 44 | J34: =VLOOKUP($I34,TEAMS!$A$3:$D$56,2,0) -> Cromer Vipers | K34: 41 | L34: =VLOOKUP($K34,TEAMS!$A$3:$D$56,2,0) -> Dragons | M34: =VLOOKUP($P34,TEAMS!$A$3:$D$56,2,0) -> Falcons | N34: =VLOOKUP($Q34,TEAMS!$A$3:$D$56,2,0) -> NCF Onyx | O34: =VLOOKUP($I34,TEAMS!$A$3:$D$56,3,0) -> Hellesdon High | P34: 27 | Q34: 45
F35: =VLOOKUP(I35,TEAMS!A30:D85,4,0) -> Monday | G35: =VLOOKUP(F35,$F$40:$G$43,2,FALSE) -> 46153 | H35: 6 | I35: 42 | J35: =VLOOKUP($I35,TEAMS!$A$3:$D$56,2,0) -> TB Ponies | K35: 43 | L35: =VLOOKUP($K35,TEAMS!$A$3:$D$56,2,0) -> Trowse | M35: =VLOOKUP($P35,TEAMS!$A$3:$D$56,2,0) -> TB Ponies | N35: =VLOOKUP($Q35,TEAMS!$A$3:$D$56,2,0) -> Doves | O35: =VLOOKUP($I35,TEAMS!$A$3:$D$56,3,0) -> Sprowston | P35: 42 | Q35: 46
G37: where indicated the date or venue has changed
G39: Date | H39: UEA | I39: HELLESDON CC | J39: HEWETT | K39: OPEN | L39: CITY | M39: OLD CATTON | N39: Hellesdon High | O39: SPROWSTON | P39: THORPE
F40: MONDAY | G40: =G3 -> 46153 | H40: =COUNTIFS($O$7:$O$35,H$39,$F$7:$F$35,$F40) -> 0 | I40: =COUNTIFS($O$7:$O$35,I$39,$F$7:$F$35,$F40) -> 0 | J40: 0 | K40: =COUNTIFS($O$7:$O$35,K$39,$F$7:$F$35,$F40) -> 3 | L40: =COUNTIFS($O$7:$O$35,L$39,$F$7:$F$35,$F40) -> 0 | M40: =COUNTIFS($O$7:$O$35,M$39,$F$7:$F$35,$F40) -> 0 | N40: =COUNTIFS($O$7:$O$35,N$39,$F$7:$F$35,$F40) -> 1 | O40: =COUNTIFS($O$7:$O$35,O$39,$F$7:$F$35,$F40) -> 2 | P40: =COUNTIFS($O$7:$O$35,P$39,$F$7:$F$35,$F40) -> 0 | Q40: =SUM(H40:P40) -> 6
F41: TUESDAY | G41: =G3+1 -> 46154 | H41: =COUNTIFS($O$7:$O$35,H$39,$F$7:$F$35,$F41) -> 3 | I41: =COUNTIFS($O$7:$O$35,I$39,$F$7:$F$35,$F41) -> 0 | J41: =COUNTIFS($O$7:$O$35,J$39,$F$7:$F$35,$F41) -> 1 | K41: 2 | L41: =COUNTIFS($O$7:$O$35,L$39,$F$7:$F$35,$F41) -> 1 | M41: =COUNTIFS($O$7:$O$35,M$39,$F$7:$F$35,$F41) -> 0 | N41: =COUNTIFS($O$7:$O$35,N$39,$F$7:$F$35,$F41) -> 0 | O41: =COUNTIFS($O$7:$O$35,O$39,$F$7:$F$35,$F41) -> 1 | P41: =COUNTIFS($O$7:$O$35,P$39,$F$7:$F$35,$F41) -> 0 | Q41: =SUM(H41:P41) -> 8
F42: WEDNESDAY | G42: =G3+2 -> 46155 | H42: =COUNTIFS($O$7:$O$35,H$39,$F$7:$F$35,$F42) -> 2 | I42: =COUNTIFS($O$7:$O$35,I$39,$F$7:$F$35,$F42) -> 0 | J42: =COUNTIFS($O$7:$O$35,J$39,$F$7:$F$35,$F42) -> 1 | K42: =COUNTIFS($O$7:$O$35,K$39,$F$7:$F$35,$F42) -> 1 | L42: =COUNTIFS($O$7:$O$35,L$39,$F$7:$F$35,$F42) -> 1 | M42: =COUNTIFS($O$7:$O$35,M$39,$F$7:$F$35,$F42) -> 0 | N42: =COUNTIFS($O$7:$O$35,N$39,$F$7:$F$35,$F42) -> 1 | O42: =COUNTIFS($O$7:$O$35,O$39,$F$7:$F$35,$F42) -> 0 | P42: =COUNTIFS($O$7:$O$35,P$39,$F$7:$F$35,$F42) -> 0 | Q42: =SUM(H42:P42) -> 6
F43: THURSDAY | G43: =G3+3 -> 46156 | H43: =COUNTIFS($O$7:$O$35,H$39,$F$7:$F$35,$F43) -> 0 | I43: =COUNTIFS($O$7:$O$35,I$39,$F$7:$F$35,$F43) -> 0 | J43: =COUNTIFS($O$7:$O$35,J$39,$F$7:$F$35,$F43) -> 0 | K43: =COUNTIFS($O$7:$O$35,K$39,$F$7:$F$35,$F43) -> 0 | L43: =COUNTIFS($O$7:$O$35,L$39,$F$7:$F$35,$F43) -> 0 | M43: =COUNTIFS($O$7:$O$35,M$39,$F$7:$F$35,$F43) -> 0 | N43: =COUNTIFS($O$7:$O$35,N$39,$F$7:$F$35,$F43) -> 0 | O43: =COUNTIFS($O$7:$O$35,O$39,$F$7:$F$35,$F43) -> 1 | P43: =COUNTIFS($O$7:$O$35,P$39,$F$7:$F$35,$F43) -> 0 | Q43: =SUM(H43:P43) -> 1
Q44: =SUM(Q40:Q43) -> 21

Sheet WK 8 FIXTURES
F3: Week Comm | G3: 46160 | H3: Wk 8 | U3: Playing | X3: Umpiring
B4: Playing | D4: Umpiring
B5: Home | C5: Away | D5: Home | E5: Away | F5: Day | G5: Date | H5: Div | I5: Team Num | J5: Home Team | L5: Away Team | M5: Umpire 1 | N5: Umpire 2 | O5: Venue | P5: UMP1 | Q5: UMP2
B7: =I7 -> 5 | C7: =K7 -> 2 | D7: =P7 -> 1 | E7: =Q7 -> 3 | F7: Monday | G7: =VLOOKUP(F7,$F$40:$G$43,2,FALSE) -> 46160 | H7: 1 | I7: 5 | J7: =VLOOKUP($I7,TEAMS!$A$3:$D$56,2,0) -> TB Racers | K7: 2 | L7: =VLOOKUP($K7,TEAMS!$A$3:$D$56,2,0) -> NU White | M7: =VLOOKUP($P7,TEAMS!$A$3:$D$56,2,0) -> NU Blue | N7: =VLOOKUP($Q7,TEAMS!$A$3:$D$56,2,0) -> TB Mustangs | O7: Sprowston | P7: 1 | Q7: 3
B8: =I8 -> 4 | C8: =K8 -> 8 | D8: =P8 -> 2 | E8: =Q8 -> 5 | F8: =VLOOKUP(I8,TEAMS!A6:D11,4,0) -> Tuesday | G8: =VLOOKUP(F8,$F$40:$G$43,2,FALSE) -> 46161 | H8: 1 | I8: 4 | J8: =VLOOKUP($I8,TEAMS!$A$3:$D$56,2,0) -> Stars | K8: 8 | L8: =VLOOKUP($K8,TEAMS!$A$3:$D$56,2,0) -> Jets | M8: =VLOOKUP($P8,TEAMS!$A$3:$D$56,2,0) -> NU White | N8: =VLOOKUP($Q8,TEAMS!$A$3:$D$56,2,0) -> TB Racers | O8: =VLOOKUP($I8,TEAMS!$A$3:$D$56,3,0) -> UEA | P8: 2 | Q8: 5
B9: =I9 -> 3 | C9: =K9 -> 1 | D9: =P9 -> 4 | E9: =Q9 -> 6 | F9: =VLOOKUP(I9,TEAMS!A3:D10,4,0) -> Wednesday | G9: =VLOOKUP(F9,$F$40:$G$43,2,FALSE) -> 46162 | H9: 1 | I9: 3 | J9: =VLOOKUP($I9,TEAMS!$A$3:$D$56,2,0) -> TB Mustangs | K9: 1 | L9: =VLOOKUP($K9,TEAMS!$A$3:$D$56,2,0) -> NU Blue | M9: =VLOOKUP($P9,TEAMS!$A$3:$D$56,2,0) -> Stars | N9: =VLOOKUP($Q9,TEAMS!$A$3:$D$56,2,0) -> Red Knights | O9: =VLOOKUP($I9,TEAMS!$A$3:$D$56,3,0) -> Sprowston | P9: 4 | Q9: 6
B10: =I10 -> 6 | C10: =K10 -> 7 | D10: =P10 -> 12 | E10: =Q10 -> 14 | F10: =VLOOKUP(I10,TEAMS!A5:D10,4,0) -> Tuesday | G10: =VLOOKUP(F10,$F$40:$G$43,2,FALSE) -> 46161 | H10: 1 | I10: 6 | J10: =VLOOKUP($I10,TEAMS!$A$3:$D$56,2,0) -> Red Knights | K10: 7 | L10: =VLOOKUP($K10,TEAMS!$A$3:$D$56,2,0) -> Cromer Cobras | M10: =VLOOKUP($P10,TEAMS!$A$3:$D$56,2,0) -> NU Yellow | N10: =VLOOKUP($Q10,TEAMS!$A$3:$D$56,2,0) -> NU Royal | O10: =VLOOKUP($I10,TEAMS!$A$3:$D$56,3,0) -> Hewett | P10: 12 | Q10: 14
B12: =I12 -> 10 | C12: =K12 -> 14 | D12: =P12 -> 8 | E12: =Q12 -> 13 | F12: =VLOOKUP(I12,TEAMS!A11:D56,4,0) -> Monday | G12: =VLOOKUP(F12,$F$40:$G$43,2,FALSE) -> 46160 | H12: 2 | I12: 10 | J12: =VLOOKUP($I12,TEAMS!$A$3:$D$56,2,0) -> Black Knights | K12: 14 | L12: =VLOOKUP($K12,TEAMS!$A$3:$D$56,2,0) -> NU Royal | M12: =VLOOKUP($P12,TEAMS!$A$3:$D$56,2,0) -> Jets | N12: =VLOOKUP($Q12,TEAMS!$A$3:$D$56,2,0) -> Sonics | O12: =VLOOKUP($I12,TEAMS!$A$3:$D$56,3,0) -> Hewett | P12: 8 | Q12: 13
B13: =I13 -> 13 | C13: =K13 -> 9 | D13: =P13 -> 16 | E13: =Q13 -> 20 | F13: =VLOOKUP(I13,TEAMS!A11:D56,4,0) -> Tuesday | G13: =VLOOKUP(F13,$F$40:$G$43,2,FALSE) -> 46161 | H13: 2 | I13: 13 | J13: =VLOOKUP($I13,TEAMS!$A$3:$D$56,2,0) -> Sonics | K13: 9 | L13: =VLOOKUP($K13,TEAMS!$A$3:$D$56,2,0) -> Phoenix | M13: =VLOOKUP($P13,TEAMS!$A$3:$D$56,2,0) -> Sirens | N13: =VLOOKUP($Q13,TEAMS!$A$3:$D$56,2,0) -> White Knights | O13: =VLOOKUP($I13,TEAMS!$A$3:$D$56,3,0) -> Open | P13: 16 | Q13: 20
B14: =I14 -> 11 | C14: =K14 -> 15 | D14: =P14 -> 23 | E14: =Q14 -> 46 | F14: =VLOOKUP(I14,TEAMS!A12:D56,4,0) -> Tuesday | G14: =VLOOKUP(F14,$F$40:$G$43,2,FALSE) -> 46161 | H14: 2 | I14: 11 | J14: =VLOOKUP($I14,TEAMS!$A$3:$D$56,2,0) -> TB Colts | K14: 15 | L14: =VLOOKUP($K14,TEAMS!$A$3:$D$56,2,0) -> Cliff Park | M14: =VLOOKUP($P14,TEAMS!$A$3:$D$56,2,0) -> Hotshots | N14: =VLOOKUP($Q14,TEAMS!$A$3:$D$56,2,0) -> Doves | O14: =VLOOKUP($I14,TEAMS!$A$3:$D$56,3,0) -> Sprowston | P14: 23 | Q14: 46
B15: =I15 -> 16 | C15: =K15 -> 12 | D15: =P15 -> 18 | E15: =Q15 -> 19 | F15: =VLOOKUP(I15,TEAMS!A13:D56,4,0) -> Monday | G15: =VLOOKUP(F15,$F$40:$G$43,2,FALSE) -> 46160 | H15: 2 | I15: 16 | J15: =VLOOKUP($I15,TEAMS!$A$3:$D$56,2,0) -> Sirens | K15: 12 | L15: =VLOOKUP($K15,TEAMS!$A$3:$D$56,2,0) -> NU Yellow | M15: =VLOOKUP($P15,TEAMS!$A$3:$D$56,2,0) -> Venus | N15: =VLOOKUP($Q15,TEAMS!$A$3:$D$56,2,0) -> Premier | O15: =VLOOKUP($I15,TEAMS!$A$3:$D$56,3,0) -> Open | P15: 18 | Q15: 19
B17: =I17 -> 22 | C17: =K17 -> 19 | D17: =P17 -> 25 | E17: =Q17 -> 33 | F17: =VLOOKUP(I17,TEAMS!A17:D62,4,0) -> Tuesday | G17: =VLOOKUP(F17,$F$40:$G$43,2,FALSE) -> 46161 | H17: 3 | I17: 22 | J17: =VLOOKUP($I17,TEAMS!$A$3:$D$56,2,0) -> Wrens | K17: 19 | L17: =VLOOKUP($K17,TEAMS!$A$3:$D$56,2,0) -> Premier | M17: =VLOOKUP($P17,TEAMS!$A$3:$D$56,2,0) -> NU Ruby | N17: =VLOOKUP($Q17,TEAMS!$A$3:$D$56,2,0) -> Hornets | O17: =VLOOKUP($I17,TEAMS!$A$3:$D$56,3,0) -> Open | P17: 25 | Q17: 33
B18: =I18 -> 24 | C18: =K18 -> 21 | D18: =P18 -> 7 | E18: =Q18 -> 30 | F18: =VLOOKUP(I18,TEAMS!A19:D64,4,0) -> Wednesday | G18: =VLOOKUP(F18,$F$40:$G$43,2,FALSE) -> 46162 | H18: 3 | I18: 24 | J18: =VLOOKUP($I18,TEAMS!$A$3:$D$56,2,0) -> Icenians | K18: 21 | L18: =VLOOKUP($K18,TEAMS!$A$3:$D$56,2,0) -> Belton | M18: =VLOOKUP($P18,TEAMS!$A$3:$D$56,2,0) -> Cromer Cobras | N18: =VLOOKUP($Q18,TEAMS!$A$3:$D$56,2,0) -> Watton Wolves | O18: =VLOOKUP($I18,TEAMS!$A$3:$D$56,3,0) -> Open | P18: 7 | Q18: 30
B19: =I19 -> 17 | C19: =K19 -> 18 | D19: =P19 -> 21 | E19: =Q19 -> 26 | F19: =VLOOKUP(I19,TEAMS!A16:D61,4,0) -> Tuesday | G19: =VLOOKUP(F19,$F$40:$G$43,2,FALSE) -> 46161 | H19: 3 | I19: 17 | J19: =VLOOKUP($I19,TEAMS!$A$3:$D$56,2,0) -> Blades | K19: 18 | L19: =VLOOKUP($K19,TEAMS!$A$3:$D$56,2,0) -> Venus | M19: =VLOOKUP($P19,TEAMS!$A$3:$D$56,2,0) -> Belton | N19: =VLOOKUP($Q19,TEAMS!$A$3:$D$56,2,0) -> TB Shetlands | O19: =VLOOKUP($I19,TEAMS!$A$3:$D$56,3,0) -> Open | P19: 21 | Q19: 26
B20: =I20 -> 20 | C20: =K20 -> 23 | D20: =P20 -> 10 | E20: =Q20 -> 11 | F20: =VLOOKUP(I20,TEAMS!A18:D63,4,0) -> Wednesday | G20: =VLOOKUP(F20,$F$40:$G$43,2,FALSE) -> 46162 | H20: 3 | I20: 20 | J20: =VLOOKUP($I20,TEAMS!$A$3:$D$56,2,0) -> White Knights | K20: 23 | L20: =VLOOKUP($K20,TEAMS!$A$3:$D$56,2,0) -> Hotshots | M20: =VLOOKUP($P20,TEAMS!$A$3:$D$56,2,0) -> Black Knights | N20: =VLOOKUP($Q20,TEAMS!$A$3:$D$56,2,0) -> TB Colts | O20: =VLOOKUP($I20,TEAMS!$A$3:$D$56,3,0) -> Hewett | P20: 10 | Q20: 11
B22: =I22 -> 26 | C22: =K22 -> 25 | D22: =P22 -> 15 | E22: =Q22 -> 17 | F22: =VLOOKUP(I22,TEAMS!A21:D66,4,0) -> Wednesday | G22: =VLOOKUP(F22,$F$40:$G$43,2,FALSE) -> 46162 | H22: 4 | I22: 26 | J22: =VLOOKUP($I22,TEAMS!$A$3:$D$56,2,0) -> TB Shetlands | K22: 25 | L22: =VLOOKUP($K22,TEAMS!$A$3:$D$56,2,0) -> NU Ruby | M22: =VLOOKUP($P22,TEAMS!$A$3:$D$56,2,0) -> Cliff Park | N22: =VLOOKUP($Q22,TEAMS!$A$3:$D$56,2,0) -> Blades | O22: =VLOOKUP($I22,TEAMS!$A$3:$D$56,3,0) -> Sprowston | P22: 15 | Q22: 17
B23: =I23 -> 28 | C23: =K23 -> 27 | D23: =P23 -> 9 | E23: =Q23 -> 22 | F23: Wednesday | G23: =VLOOKUP(F23,$F$40:$G$43,2,FALSE) -> 46162 | H23: 4 | I23: 28 | J23: =VLOOKUP($I23,TEAMS!$A$3:$D$56,2,0) -> Hethersett Rockets | K23: 27 | L23: =VLOOKUP($K23,TEAMS!$A$3:$D$56,2,0) -> Falcons | M23: =VLOOKUP($P23,TEAMS!$A$3:$D$56,2,0) -> Phoenix | N23: =VLOOKUP($Q23,TEAMS!$A$3:$D$56,2,0) -> Wrens | O23: =VLOOKUP($I23,TEAMS!$A$3:$D$56,3,0) -> Hellesdon High | P23: 9 | Q23: 22
B24: =I24 -> 30 | C24: =K24 -> 29 | D24: =P24 -> 24 | E24: =Q24 -> 38 | F24: Tuesday | G24: =VLOOKUP(F24,$F$40:$G$43,2,FALSE) -> 46161 | H24: 4 | I24: 30 | J24: =VLOOKUP($I24,TEAMS!$A$3:$D$56,2,0) -> Watton Wolves | K24: 29 | L24: =VLOOKUP($K24,TEAMS!$A$3:$D$56,2,0) -> NCF Emerald | M24: =VLOOKUP($P24,TEAMS!$A$3:$D$56,2,0) -> Icenians | N24: =VLOOKUP($Q24,TEAMS!$A$3:$D$56,2,0) -> NU Red | O24: UEA | P24: 24 | Q24: 38
B25: =I25 -> 32 | C25: =K25 -> 31 | D25: =P25 -> 39 | E25: =Q25 -> 36 | F25: Tuesday | G25: =VLOOKUP(F25,$F$40:$G$43,2,FALSE) -> 46161 | H25: 4 | I25: 32 | J25: =VLOOKUP($I25,TEAMS!$A$3:$D$56,2,0) -> Red Hot Chillies | K25: 31 | L25: =VLOOKUP($K25,TEAMS!$A$3:$D$56,2,0) -> Trailblazers | M25: =VLOOKUP($P25,TEAMS!$A$3:$D$56,2,0) -> Tigers | N25: =VLOOKUP($Q25,TEAMS!$A$3:$D$56,2,0) -> TB Fillies | O25: =VLOOKUP($I25,TEAMS!$A$3:$D$56,3,0) -> Sprowston | P25: 39 | Q25: 36
B27: =I27 -> 34 | C27: =K27 -> 37 | D27: =P27 -> 27 | E27: =Q27 -> 28 | F27: =VLOOKUP(I27,TEAMS!A28:D75,4,0) -> Tuesday | G27: =VLOOKUP(F27,$F$40:$G$43,2,FALSE) -> 46161 | H27: 5 | I27: 34 | J27: =VLOOKUP($I27,TEAMS!$A$3:$D$56,2,0) -> NU Amber | K27: 37 | L27: =VLOOKUP($K27,TEAMS!$A$3:$D$56,2,0) -> First Home Improvements | M27: =VLOOKUP($P27,TEAMS!$A$3:$D$56,2,0) -> Falcons | N27: =VLOOKUP($Q27,TEAMS!$A$3:$D$56,2,0) -> Hethersett Rockets | O27: =VLOOKUP($I27,TEAMS!$A$3:$D$56,3,0) -> UEA | P27: 27 | Q27: 28
B28: =I28 -> 40 | C28: =K28 -> 36 | D28: =P28 -> 0 | E28: =Q28 -> 0 | F28: =VLOOKUP(I28,TEAMS!A27:D74,4,0) -> 0 | G28: =VLOOKUP(F28,$F$40:$G$43,2,FALSE) -> #N/A | H28: 5 | I28: 40 | J28: =VLOOKUP($I28,TEAMS!$A$3:$D$56,2,0) -> BYE WEEK | K28: 36 | L28: =VLOOKUP($K28,TEAMS!$A$3:$D$56,2,0) -> TB Fillies | M28: =VLOOKUP($P28,TEAMS!$A$3:$D$56,2,0) -> #N/A | N28: =VLOOKUP($Q28,TEAMS!$A$3:$D$56,2,0) -> #N/A | O28: =VLOOKUP($I28,TEAMS!$A$3:$D$56,3,0) -> 0
B29: =I29 -> 35 | C29: =K29 -> 33 | D29: =P29 -> 29 | E29: =Q29 -> 31 | F29: Wednesday | G29: =VLOOKUP(F29,$F$40:$G$43,2,FALSE) -> 46162 | H29: 5 | I29: 35 | J29: =VLOOKUP($I29,TEAMS!$A$3:$D$56,2,0) -> Gems | K29: 33 | L29: =VLOOKUP($K29,TEAMS!$A$3:$D$56,2,0) -> Hornets | M29: =VLOOKUP($P29,TEAMS!$A$3:$D$56,2,0) -> NCF Emerald | N29: =VLOOKUP($Q29,TEAMS!$A$3:$D$56,2,0) -> Trailblazers | O29: UEA | P29: 29 | Q29: 31
B30: =I30 -> 38 | C30: =K30 -> 39 | D30: =P30 -> 37 | E30: =Q30 -> 32 | F30: Monday | G30: =VLOOKUP(F30,$F$40:$G$43,2,FALSE) -> 46160 | H30: 5 | I30: 38 | J30: =VLOOKUP($I30,TEAMS!$A$3:$D$56,2,0) -> NU Red | K30: 39 | L30: =VLOOKUP($K30,TEAMS!$A$3:$D$56,2,0) -> Tigers | M30: =VLOOKUP($P30,TEAMS!$A$3:$D$56,2,0) -> First Home Improvements | N30: =VLOOKUP($Q30,TEAMS!$A$3:$D$56,2,0) -> Red Hot Chillies | O30: UEA | P30: 37 | Q30: 32
B31: =I32 -> 42 | C31: =K32 -> 45 | D31: =P32 -> 43 | E31: =Q32 -> 41
B32: =I33 -> 48 | C32: =K33 -> 44 | D32: =P33 -> 0 | E32: =Q33 -> 0 | F32: =VLOOKUP(I32,TEAMS!A30:D77,4,0) -> Monday | G32: =VLOOKUP(F32,$F$40:$G$43,2,FALSE) -> 46160 | H32: 6 | I32: 42 | J32: =VLOOKUP($I32,TEAMS!$A$3:$D$56,2,0) -> TB Ponies | K32: 45 | L32: =VLOOKUP($K32,TEAMS!$A$3:$D$56,2,0) -> NCF Onyx | M32: =VLOOKUP($P32,TEAMS!$A$3:$D$56,2,0) -> Trowse | N32: =VLOOKUP($Q32,TEAMS!$A$3:$D$56,2,0) -> Dragons | O32: =VLOOKUP($I32,TEAMS!$A$3:$D$56,3,0) -> Sprowston | P32: 43 | Q32: 41
B33: =I34 -> 43 | C33: =K34 -> 41 | D33: =P34 -> 42 | E33: =Q34 -> 44 | F33: =VLOOKUP(I33,TEAMS!A31:D78,4,0) -> 0 | G33: =VLOOKUP(F33,$F$40:$G$43,2,FALSE) -> #N/A | H33: 6 | I33: 48 | J33: =VLOOKUP($I33,TEAMS!$A$3:$D$56,2,0) -> BYE WEEK | K33: 44 | L33: =VLOOKUP($K33,TEAMS!$A$3:$D$56,2,0) -> Cromer Vipers | M33: =VLOOKUP($P33,TEAMS!$A$3:$D$56,2,0) -> #N/A | N33: =VLOOKUP($Q33,TEAMS!$A$3:$D$56,2,0) -> #N/A | O33: =VLOOKUP($I33,TEAMS!$A$3:$D$56,3,0) -> 0
F34: =VLOOKUP(I34,TEAMS!A32:D79,4,0) -> Thursday | G34: =VLOOKUP(F34,$F$40:$G$43,2,FALSE) -> 46163 | H34: 6 | I34: 43 | J34: =VLOOKUP($I34,TEAMS!$A$3:$D$56,2,0) -> Trowse | K34: 41 | L34: =VLOOKUP($K34,TEAMS!$A$3:$D$56,2,0) -> Dragons | M34: =VLOOKUP($P34,TEAMS!$A$3:$D$56,2,0) -> TB Ponies | N34: =VLOOKUP($Q34,TEAMS!$A$3:$D$56,2,0) -> Cromer Vipers | O34: =VLOOKUP($I34,TEAMS!$A$3:$D$56,3,0) -> Hellesdon High | P34: 42 | Q34: 44
F35: =VLOOKUP(I35,TEAMS!A33:D80,4,0) -> 0 | G35: =VLOOKUP(F35,$F$40:$G$43,2,FALSE) -> #N/A | H35: 6 | I35: 47 | J35: =VLOOKUP($I35,TEAMS!$A$3:$D$56,2,0) -> BYE WEEK | K35: 46 | L35: =VLOOKUP($K35,TEAMS!$A$3:$D$56,2,0) -> Doves | M35: =VLOOKUP($P35,TEAMS!$A$3:$D$56,2,0) -> #N/A | N35: =VLOOKUP($Q35,TEAMS!$A$3:$D$56,2,0) -> #N/A | O35: =VLOOKUP($I35,TEAMS!$A$3:$D$56,3,0) -> 0
G37: where indicated the date or venue has changed
G39: Date | H39: UEA | I39: HELLESDON CC | J39: HEWETT | K39: OPEN | L39: CITY | M39: OLD CATTON | N39: Hellesdon High | O39: SPROWSTON | P39: THORPE
F40: MONDAY | G40: =G3 -> 46160 | H40: =COUNTIFS($O$7:$O$35,H$39,$F$7:$F$35,$F40) -> 1 | I40: =COUNTIFS($O$7:$O$35,I$39,$F$7:$F$35,$F40) -> 0 | J40: =COUNTIFS($O$7:$O$35,J$39,$F$7:$F$35,$F40) -> 1 | K40: =COUNTIFS($O$7:$O$35,K$39,$F$7:$F$35,$F40) -> 1 | L40: =COUNTIFS($O$7:$O$35,L$39,$F$7:$F$35,$F40) -> 0 | M40: =COUNTIFS($O$7:$O$35,M$39,$F$7:$F$35,$F40) -> 0 | N40: =COUNTIFS($O$7:$O$35,N$39,$F$7:$F$35,$F40) -> 0 | O40: =COUNTIFS($O$7:$O$35,O$39,$F$7:$F$35,$F40) -> 2 | P40: =COUNTIFS($O$7:$O$35,P$39,$F$7:$F$35,$F40) -> 0 | Q40: =SUM(H40:P40) -> 5
F41: TUESDAY | G41: =G40+1 -> 46161 | H41: =COUNTIFS($O$7:$O$35,H$39,$F$7:$F$35,$F41) -> 3 | I41: =COUNTIFS($O$7:$O$35,I$39,$F$7:$F$35,$F41) -> 0 | J41: =COUNTIFS($O$7:$O$35,J$39,$F$7:$F$35,$F41) -> 1 | K41: 3 | L41: =COUNTIFS($O$7:$O$35,L$39,$F$7:$F$35,$F41) -> 0 | M41: =COUNTIFS($O$7:$O$35,M$39,$F$7:$F$35,$F41) -> 0 | N41: =COUNTIFS($O$7:$O$35,N$39,$F$7:$F$35,$F41) -> 0 | O41: =COUNTIFS($O$7:$O$35,O$39,$F$7:$F$35,$F41) -> 2 | P41: =COUNTIFS($O$7:$O$35,P$39,$F$7:$F$35,$F41) -> 0 | Q41: =SUM(H41:P41) -> 9
F42: WEDNESDAY | G42: =G41+1 -> 46162 | H42: =COUNTIFS($O$7:$O$35,H$39,$F$7:$F$35,$F42) -> 1 | I42: =COUNTIFS($O$7:$O$35,I$39,$F$7:$F$35,$F42) -> 0 | J42: =COUNTIFS($O$7:$O$35,J$39,$F$7:$F$35,$F42) -> 1 | K42: =COUNTIFS($O$7:$O$35,K$39,$F$7:$F$35,$F42) -> 1 | L42: =COUNTIFS($O$7:$O$35,L$39,$F$7:$F$35,$F42) -> 0 | M42: =COUNTIFS($O$7:$O$35,M$39,$F$7:$F$35,$F42) -> 0 | N42: =COUNTIFS($O$7:$O$35,N$39,$F$7:$F$35,$F42) -> 1 | O42: =COUNTIFS($O$7:$O$35,O$39,$F$7:$F$35,$F42) -> 2 | P42: =COUNTIFS($O$7:$O$35,P$39,$F$7:$F$35,$F42) -> 0 | Q42: =SUM(H42:P42) -> 6
F43: THURSDAY | G43: =G42+1 -> 46163 | H43: =COUNTIFS($O$7:$O$35,H$39,$F$7:$F$35,$F43) -> 0 | I43: =COUNTIFS($O$7:$O$35,I$39,$F$7:$F$35,$F43) -> 0 | J43: =COUNTIFS($O$7:$O$35,J$39,$F$7:$F$35,$F43) -> 0 | K43: 0 | L43: =COUNTIFS($O$7:$O$35,L$39,$F$7:$F$35,$F43) -> 0 | M43: =COUNTIFS($O$7:$O$35,M$39,$F$7:$F$35,$F43) -> 0 | N43: =COUNTIFS($O$7:$O$35,N$39,$F$7:$F$35,$F43) -> 1 | O43: =COUNTIFS($O$7:$O$35,O$39,$F$7:$F$35,$F43) -> 0 | P43: =COUNTIFS($O$7:$O$35,P$39,$F$7:$F$35,$F43) -> 0 | Q43: =SUM(H43:P43) -> 1
Q44: =SUM(Q40:Q43) -> 21

Sheet WK 9 FIXTURES
F3: Week Comm | G3: 46174 | H3: Wk 9 | U3: Playing | X3: Umpiring
B4: Playing | D4: Umpiring
B5: Home | C5: Away | D5: Home | E5: Away | F5: Day | G5: Date | H5: Div | I5: Team Num | J5: Home Team | L5: Away Team | M5: Umpire 1 | N5: Umpire 2 | O5: Venue | P5: UMP1 | Q5: UMP2
B7: =I7 -> 5 | C7: =K7 -> 1 | D7: =P7 -> 18 | E7: =Q7 -> 19 | F7: Monday | G7: =VLOOKUP(F7,$F$40:$G$43,2,FALSE) -> 46174 | H7: 1 | I7: 5 | J7: =VLOOKUP($I7,TEAMS!$A$3:$D$56,2,0) -> TB Racers | K7: 1 | L7: =VLOOKUP($K7,TEAMS!$A$3:$D$56,2,0) -> NU Blue | M7: =VLOOKUP($P7,TEAMS!$A$3:$D$56,2,0) -> Venus | N7: =VLOOKUP($Q7,TEAMS!$A$3:$D$56,2,0) -> Premier | O7: Sprowston | P7: 18 | Q7: 19
B8: =I8 -> 7 | C8: =K8 -> 4 | D8: =P8 -> 8 | E8: =Q8 -> 11 | F8: =VLOOKUP(I8,TEAMS!A3:D56,4,0) -> Monday | G8: =VLOOKUP(F8,$F$40:$G$43,2,FALSE) -> 46174 | H8: 1 | I8: 7 | J8: =VLOOKUP($I8,TEAMS!$A$3:$D$56,2,0) -> Cromer Cobras | K8: 4 | L8: =VLOOKUP($K8,TEAMS!$A$3:$D$56,2,0) -> Stars | M8: =VLOOKUP($P8,TEAMS!$A$3:$D$56,2,0) -> Jets | N8: =VLOOKUP($Q8,TEAMS!$A$3:$D$56,2,0) -> TB Colts | O8: Hellesdon High | P8: 8 | Q8: 11
B9: =I9 -> 2 | C9: =K9 -> 8 | D9: =P9 -> 16 | E9: =Q9 -> 13 | F9: =VLOOKUP(I9,TEAMS!A3:D56,4,0) -> Wednesday | G9: =VLOOKUP(F9,$F$40:$G$43,2,FALSE) -> 46176 | H9: 1 | I9: 2 | J9: =VLOOKUP($I9,TEAMS!$A$3:$D$56,2,0) -> NU White | K9: 8 | L9: =VLOOKUP($K9,TEAMS!$A$3:$D$56,2,0) -> Jets | M9: =VLOOKUP($P9,TEAMS!$A$3:$D$56,2,0) -> Sirens | N9: =VLOOKUP($Q9,TEAMS!$A$3:$D$56,2,0) -> Sonics | O9: =VLOOKUP($I9,TEAMS!$A$3:$D$56,3,0) -> UEA | P9: 16 | Q9: 13
B10: =I10 -> 3 | C10: =K10 -> 6 | D10: =P10 -> 1 | E10: =Q10 -> 23 | F10: Wednesday | G10: =VLOOKUP(F10,$F$40:$G$43,2,FALSE) -> 46176 | H10: 1 | I10: 3 | J10: =VLOOKUP($I10,TEAMS!$A$3:$D$56,2,0) -> TB Mustangs | K10: 6 | L10: =VLOOKUP($K10,TEAMS!$A$3:$D$56,2,0) -> Red Knights | M10: =VLOOKUP($P10,TEAMS!$A$3:$D$56,2,0) -> NU Blue | N10: =VLOOKUP($Q10,TEAMS!$A$3:$D$56,2,0) -> Hotshots | O10: =VLOOKUP($I10,TEAMS!$A$3:$D$56,3,0) -> Sprowston | P10: 1 | Q10: 23
B12: =I12 -> 10 | C12: =K12 -> 15 | D12: =P12 -> 12 | E12: =Q12 -> 14 | F12: =VLOOKUP(I12,TEAMS!A10:D63,4,0) -> Monday | G12: =VLOOKUP(F12,$F$40:$G$43,2,FALSE) -> 46174 | H12: 2 | I12: 10 | J12: =VLOOKUP($I12,TEAMS!$A$3:$D$56,2,0) -> Black Knights | K12: 15 | L12: =VLOOKUP($K12,TEAMS!$A$3:$D$56,2,0) -> Cliff Park | M12: =VLOOKUP($P12,TEAMS!$A$3:$D$56,2,0) -> NU Yellow | N12: =VLOOKUP($Q12,TEAMS!$A$3:$D$56,2,0) -> NU Royal | O12: =VLOOKUP($I12,TEAMS!$A$3:$D$56,3,0) -> Hewett | P12: 12 | Q12: 14
B13: =I13 -> 9 | C13: =K13 -> 12 | D13: =P13 -> 6 | E13: =Q13 -> 5 | F13: =VLOOKUP(I13,TEAMS!A11:D64,4,0) -> Tuesday | G13: =VLOOKUP(F13,$F$40:$G$43,2,FALSE) -> 46175 | H13: 2 | I13: 9 | J13: =VLOOKUP($I13,TEAMS!$A$3:$D$56,2,0) -> Phoenix | K13: 12 | L13: =VLOOKUP($K13,TEAMS!$A$3:$D$56,2,0) -> NU Yellow | M13: =VLOOKUP($P13,TEAMS!$A$3:$D$56,2,0) -> Red Knights | N13: =VLOOKUP($Q13,TEAMS!$A$3:$D$56,2,0) -> TB Racers | O13: =VLOOKUP($I13,TEAMS!$A$3:$D$56,3,0) -> UEA | P13: 6 | Q13: 5
B14: =I14 -> 11 | C14: =K14 -> 14 | D14: =P14 -> 10 | E14: =Q14 -> 2 | F14: =VLOOKUP(I14,TEAMS!A8:D61,4,0) -> Tuesday | G14: =VLOOKUP(F14,$F$40:$G$43,2,FALSE) -> 46175 | H14: 2 | I14: 11 | J14: =VLOOKUP($I14,TEAMS!$A$3:$D$56,2,0) -> TB Colts | K14: 14 | L14: =VLOOKUP($K14,TEAMS!$A$3:$D$56,2,0) -> NU Royal | M14: =VLOOKUP($P14,TEAMS!$A$3:$D$56,2,0) -> Black Knights | N14: =VLOOKUP($Q14,TEAMS!$A$3:$D$56,2,0) -> NU White | O14: =VLOOKUP($I14,TEAMS!$A$3:$D$56,3,0) -> Sprowston | P14: 10 | Q14: 2
B15: =I15 -> 13 | C15: =K15 -> 16 | D15: =P15 -> 3 | E15: =Q15 -> 4 | F15: =VLOOKUP(I15,TEAMS!A9:D62,4,0) -> Tuesday | G15: =VLOOKUP(F15,$F$40:$G$43,2,FALSE) -> 46175 | H15: 2 | I15: 13 | J15: =VLOOKUP($I15,TEAMS!$A$3:$D$56,2,0) -> Sonics | K15: 16 | L15: =VLOOKUP($K15,TEAMS!$A$3:$D$56,2,0) -> Sirens | M15: =VLOOKUP($P15,TEAMS!$A$3:$D$56,2,0) -> TB Mustangs | N15: =VLOOKUP($Q15,TEAMS!$A$3:$D$56,2,0) -> Stars | O15: =VLOOKUP($I15,TEAMS!$A$3:$D$56,3,0) -> Open | P15: 3 | Q15: 4
B17: =I17 -> 18 | C17: =K17 -> 21 | D17: =P17 -> 7 | E17: =Q17 -> 26 | F17: =VLOOKUP(I17,TEAMS!A13:D66,4,0) -> Tuesday | G17: =VLOOKUP(F17,$F$40:$G$43,2,FALSE) -> 46175 | H17: 3 | I17: 18 | J17: =VLOOKUP($I17,TEAMS!$A$3:$D$56,2,0) -> Venus | K17: 21 | L17: =VLOOKUP($K17,TEAMS!$A$3:$D$56,2,0) -> Belton | M17: =VLOOKUP($P17,TEAMS!$A$3:$D$56,2,0) -> Cromer Cobras | N17: =VLOOKUP($Q17,TEAMS!$A$3:$D$56,2,0) -> TB Shetlands | O17: =VLOOKUP($I17,TEAMS!$A$3:$D$56,3,0) -> Open | P17: 7 | Q17: 26
B18: =I18 -> 19 | C18: =K18 -> 23 | D18: =P18 -> 20 | E18: =Q18 -> 30 | F18: =VLOOKUP(I18,TEAMS!A14:D67,4,0) -> Tuesday | G18: =VLOOKUP(F18,$F$40:$G$43,2,FALSE) -> 46175 | H18: 3 | I18: 19 | J18: =VLOOKUP($I18,TEAMS!$A$3:$D$56,2,0) -> Premier | K18: 23 | L18: =VLOOKUP($K18,TEAMS!$A$3:$D$56,2,0) -> Hotshots | M18: =VLOOKUP($P18,TEAMS!$A$3:$D$56,2,0) -> White Knights | N18: =VLOOKUP($Q18,TEAMS!$A$3:$D$56,2,0) -> Watton Wolves | O18: Hellesdon High | P18: 20 | Q18: 30
B19: =I19 -> 20 | C19: =K19 -> 24 | D19: =P19 -> 21 | E19: =Q19 -> 46 | F19: =VLOOKUP(I19,TEAMS!A15:D68,4,0) -> Wednesday | G19: =VLOOKUP(F19,$F$40:$G$43,2,FALSE) -> 46176 | H19: 3 | I19: 20 | J19: =VLOOKUP($I19,TEAMS!$A$3:$D$56,2,0) -> White Knights | K19: 24 | L19: =VLOOKUP($K19,TEAMS!$A$3:$D$56,2,0) -> Icenians | M19: =VLOOKUP($P19,TEAMS!$A$3:$D$56,2,0) -> Belton | N19: =VLOOKUP($Q19,TEAMS!$A$3:$D$56,2,0) -> Doves | O19: =VLOOKUP($I19,TEAMS!$A$3:$D$56,3,0) -> Hewett | P19: 21 | Q19: 46
B20: =I20 -> 22 | C20: =K20 -> 17 | D20: =P20 -> 33 | E20: =Q20 -> 38 | F20: =VLOOKUP(I20,TEAMS!A16:D69,4,0) -> Tuesday | G20: =VLOOKUP(F20,$F$40:$G$43,2,FALSE) -> 46175 | H20: 3 | I20: 22 | J20: =VLOOKUP($I20,TEAMS!$A$3:$D$56,2,0) -> Wrens | K20: 17 | L20: =VLOOKUP($K20,TEAMS!$A$3:$D$56,2,0) -> Blades | M20: =VLOOKUP($P20,TEAMS!$A$3:$D$56,2,0) -> Hornets | N20: =VLOOKUP($Q20,TEAMS!$A$3:$D$56,2,0) -> NU Red | O20: =VLOOKUP($I20,TEAMS!$A$3:$D$56,3,0) -> Open | P20: 33 | Q20: 38
B22: =I22 -> 26 | C22: =K22 -> 28 | D22: =P22 -> 17 | E22: =Q22 -> 22 | F22: Monday | G22: =VLOOKUP(F22,$F$40:$G$43,2,FALSE) -> 46174 | H22: 4 | I22: 26 | J22: =VLOOKUP($I22,TEAMS!$A$3:$D$56,2,0) -> TB Shetlands | K22: 28 | L22: =VLOOKUP($K22,TEAMS!$A$3:$D$56,2,0) -> Hethersett Rockets | M22: =VLOOKUP($P22,TEAMS!$A$3:$D$56,2,0) -> Blades | N22: =VLOOKUP($Q22,TEAMS!$A$3:$D$56,2,0) -> Wrens | O22: =VLOOKUP($I22,TEAMS!$A$3:$D$56,3,0) -> Sprowston | P22: 17 | Q22: 22
B23: =I23 -> 32 | C23: =K23 -> 30 | D23: =P23 -> 15 | E23: =Q23 -> 25 | F23: Wednesday | G23: =VLOOKUP(F23,$F$40:$G$43,2,FALSE) -> 46176 | H23: 4 | I23: 32 | J23: =VLOOKUP($I23,TEAMS!$A$3:$D$56,2,0) -> Red Hot Chillies | K23: 30 | L23: =VLOOKUP($K23,TEAMS!$A$3:$D$56,2,0) -> Watton Wolves | M23: =VLOOKUP($P23,TEAMS!$A$3:$D$56,2,0) -> Cliff Park | N23: =VLOOKUP($Q23,TEAMS!$A$3:$D$56,2,0) -> NU Ruby | O23: =VLOOKUP($I23,TEAMS!$A$3:$D$56,3,0) -> Sprowston | P23: 15 | Q23: 25
B24: =I24 -> 31 | C24: =K24 -> 29 | D24: =P24 -> 28 | E24: =Q24 -> 32 | F24: =VLOOKUP(I24,TEAMS!A20:D75,4,0) -> Thursday | G24: =VLOOKUP(F24,$F$40:$G$43,2,FALSE) -> 46177 | H24: 4 | I24: 31 | J24: =VLOOKUP($I24,TEAMS!$A$3:$D$56,2,0) -> Trailblazers | K24: 29 | L24: =VLOOKUP($K24,TEAMS!$A$3:$D$56,2,0) -> NCF Emerald | M24: =VLOOKUP($P24,TEAMS!$A$3:$D$56,2,0) -> Hethersett Rockets | N24: =VLOOKUP($Q24,TEAMS!$A$3:$D$56,2,0) -> Red Hot Chillies | O24: =VLOOKUP($I24,TEAMS!$A$3:$D$56,3,0) -> Hellesdon High | P24: 28 | Q24: 32
B25: =I25 -> 27 | C25: =K25 -> 25 | D25: =P25 -> 29 | E25: =Q25 -> 24 | F25: =VLOOKUP(I25,TEAMS!A18:D73,4,0) -> Tuesday | G25: =VLOOKUP(F25,$F$40:$G$43,2,FALSE) -> 46175 | H25: 4 | I25: 27 | J25: =VLOOKUP($I25,TEAMS!$A$3:$D$56,2,0) -> Falcons | K25: 25 | L25: =VLOOKUP($K25,TEAMS!$A$3:$D$56,2,0) -> NU Ruby | M25: =VLOOKUP($P25,TEAMS!$A$3:$D$56,2,0) -> NCF Emerald | N25: =VLOOKUP($Q25,TEAMS!$A$3:$D$56,2,0) -> Icenians | O25: =VLOOKUP($I25,TEAMS!$A$3:$D$56,3,0) -> City | P25: 29 | Q25: 24
B27: =I27 -> 37 | C27: =K27 -> 33 | D27: =P27 -> 34 | E27: =Q27 -> 31 | F27: =VLOOKUP(I27,TEAMS!A25:D80,4,0) -> Monday | G27: =VLOOKUP(F27,$F$40:$G$43,2,FALSE) -> 46174 | H27: 5 | I27: 37 | J27: =VLOOKUP($I27,TEAMS!$A$3:$D$56,2,0) -> First Home Improvements | K27: 33 | L27: =VLOOKUP($K27,TEAMS!$A$3:$D$56,2,0) -> Hornets | M27: =VLOOKUP($P27,TEAMS!$A$3:$D$56,2,0) -> NU Amber | N27: =VLOOKUP($Q27,TEAMS!$A$3:$D$56,2,0) -> Trailblazers | O27: =VLOOKUP($I27,TEAMS!$A$3:$D$56,3,0) -> Open | P27: 34 | Q27: 31
B28: =I28 -> 39 | C28: =K28 -> 36 | D28: =P28 -> 35 | E28: =Q28 -> 37 | F28: =VLOOKUP(I28,TEAMS!A23:D78,4,0) -> Wednesday | G28: =VLOOKUP(F28,$F$40:$G$43,2,FALSE) -> 46176 | H28: 5 | I28: 39 | J28: =VLOOKUP($I28,TEAMS!$A$3:$D$56,2,0) -> Tigers | K28: 36 | L28: =VLOOKUP($K28,TEAMS!$A$3:$D$56,2,0) -> TB Fillies | M28: =VLOOKUP($P28,TEAMS!$A$3:$D$56,2,0) -> Gems | N28: =VLOOKUP($Q28,TEAMS!$A$3:$D$56,2,0) -> First Home Improvements | O28: =VLOOKUP($I28,TEAMS!$A$3:$D$56,3,0) -> Hellesdon High | P28: 35 | Q28: 37
B29: =I29 -> 34 | C29: =K29 -> 40 | D29: =P29 -> 0 | E29: =Q29 -> 0 | G29: =VLOOKUP(F29,$F$40:$G$43,2,FALSE) -> #N/A | H29: 5 | I29: 34 | J29: =VLOOKUP($I29,TEAMS!$A$3:$D$56,2,0) -> NU Amber | K29: 40 | L29: =VLOOKUP($K29,TEAMS!$A$3:$D$56,2,0) -> BYE WEEK | M29: =VLOOKUP($P29,TEAMS!$A$3:$D$56,2,0) -> #N/A | N29: =VLOOKUP($Q29,TEAMS!$A$3:$D$56,2,0) -> #N/A
B30: =I30 -> 38 | C30: =K30 -> 35 | D30: =P30 -> 44 | E30: =Q30 -> 36 | F30: =VLOOKUP(I30,TEAMS!A26:D81,4,0) -> Monday | G30: =VLOOKUP(F30,$F$40:$G$43,2,FALSE) -> 46174 | H30: 5 | I30: 38 | J30: =VLOOKUP($I30,TEAMS!$A$3:$D$56,2,0) -> NU Red | K30: 35 | L30: =VLOOKUP($K30,TEAMS!$A$3:$D$56,2,0) -> Gems | M30: =VLOOKUP($P30,TEAMS!$A$3:$D$56,2,0) -> Cromer Vipers | N30: =VLOOKUP($Q30,TEAMS!$A$3:$D$56,2,0) -> TB Fillies | O30: =VLOOKUP($I30,TEAMS!$A$3:$D$56,3,0) -> UEA | P30: 44 | Q30: 36
B31: =I32 -> 45 | C31: =K32 -> 41 | D31: =P32 -> 43 | E31: =Q32 -> 27
B32: =I33 -> 47 | C32: =K33 -> 44 | D32: =P33 -> 0 | E32: =Q33 -> 0 | F32: Wednesday | G32: =VLOOKUP(F32,$F$40:$G$43,2,FALSE) -> 46176 | H32: 6 | I32: 45 | J32: =VLOOKUP($I32,TEAMS!$A$3:$D$56,2,0) -> NCF Onyx | K32: 41 | L32: =VLOOKUP($K32,TEAMS!$A$3:$D$56,2,0) -> Dragons | M32: =VLOOKUP($P32,TEAMS!$A$3:$D$56,2,0) -> Trowse | N32: =VLOOKUP($Q32,TEAMS!$A$3:$D$56,2,0) -> Falcons | O32: =VLOOKUP($I32,TEAMS!$A$3:$D$56,3,0) -> Hellesdon High | P32: 43 | Q32: 27
B33: =I34 -> 42 | C33: =K34 -> 48 | D33: =P34 -> 0 | E33: =Q34 -> 0 | F33: =VLOOKUP(I33,TEAMS!A28:D83,4,0) -> 0 | G33: =VLOOKUP(F33,$F$40:$G$43,2,FALSE) -> #N/A | H33: 6 | I33: 47 | J33: =VLOOKUP($I33,TEAMS!$A$3:$D$56,2,0) -> BYE WEEK | K33: 44 | L33: =VLOOKUP($K33,TEAMS!$A$3:$D$56,2,0) -> Cromer Vipers | M33: =VLOOKUP($P33,TEAMS!$A$3:$D$56,2,0) -> #N/A | N33: =VLOOKUP($Q33,TEAMS!$A$3:$D$56,2,0) -> #N/A | O33: =VLOOKUP($I33,TEAMS!$A$3:$D$56,3,0) -> 0
G34: =VLOOKUP(F34,$F$40:$G$43,2,FALSE) -> #N/A | H34: 6 | I34: 42 | J34: =VLOOKUP($I34,TEAMS!$A$3:$D$56,2,0) -> TB Ponies | K34: 48 | L34: =VLOOKUP($K34,TEAMS!$A$3:$D$56,2,0) -> BYE WEEK | M34: =VLOOKUP($P34,TEAMS!$A$3:$D$56,2,0) -> #N/A | N34: =VLOOKUP($Q34,TEAMS!$A$3:$D$56,2,0) -> #N/A
F35: Tuesday | G35: =VLOOKUP(F35,$F$40:$G$43,2,FALSE) -> 46175 | H35: 6 | I35: 46 | J35: =VLOOKUP($I35,TEAMS!$A$3:$D$56,2,0) -> Doves | K35: 43 | L35: =VLOOKUP($K35,TEAMS!$A$3:$D$56,2,0) -> Trowse | M35: =VLOOKUP($P35,TEAMS!$A$3:$D$56,2,0) -> NCF Onyx | N35: =VLOOKUP($Q35,TEAMS!$A$3:$D$56,2,0) -> Dragons | O35: Sprowston | P35: 45 | Q35: 41
G37: whre indicated the date or venue has changed
G39: Date | H39: UEA | I39: HELLESDON CC | J39: HEWETT | K39: OPEN | L39: CITY | M39: OLD CATTON | N39: Hellesdon High | O39: Sprowston | P39: THORPE
F40: MONDAY | G40: =G3 -> 46174 | H40: =COUNTIFS($O$7:$O$35,H$39,$F$7:$F$35,$F40) -> 1 | I40: =COUNTIFS($O$7:$O$35,I$39,$F$7:$F$35,$F40) -> 0 | J40: =COUNTIFS($O$7:$O$35,J$39,$F$7:$F$35,$F40) -> 1 | K40: =COUNTIFS($O$7:$O$35,K$39,$F$7:$F$35,$F40) -> 1 | L40: =COUNTIFS($O$7:$O$35,L$39,$F$7:$F$35,$F40) -> 0 | M40: =COUNTIFS($O$7:$O$35,M$39,$F$7:$F$35,$F40) -> 0 | N40: =COUNTIFS($O$7:$O$35,N$39,$F$7:$F$35,$F40) -> 1 | O40: =COUNTIFS($O$7:$O$35,O$39,$F$7:$F$35,$F40) -> 2 | P40: =COUNTIFS($O$7:$O$35,P$39,$F$7:$F$35,$F40) -> 0 | Q40: =SUM(H40:P40) -> 6
F41: TUESDAY | G41: =G3+1 -> 46175 | H41: =COUNTIFS($O$7:$O$35,H$39,$F$7:$F$35,$F41) -> 1 | I41: =COUNTIFS($O$7:$O$35,I$39,$F$7:$F$35,$F41) -> 0 | J41: =COUNTIFS($O$7:$O$35,J$39,$F$7:$F$35,$F41) -> 0 | K41: 3 | L41: =COUNTIFS($O$7:$O$35,L$39,$F$7:$F$35,$F41) -> 1 | M41: =COUNTIFS($O$7:$O$35,M$39,$F$7:$F$35,$F41) -> 0 | N41: =COUNTIFS($O$7:$O$35,N$39,$F$7:$F$35,$F41) -> 1 | O41: =COUNTIFS($O$7:$O$35,O$39,$F$7:$F$35,$F41) -> 2 | P41: =COUNTIFS($O$7:$O$35,P$39,$F$7:$F$35,$F41) -> 0 | Q41: =SUM(H41:P41) -> 8
F42: WEDNESDAY | G42: =G3+2 -> 46176 | H42: =COUNTIFS($O$7:$O$35,H$39,$F$7:$F$35,$F42) -> 1 | I42: =COUNTIFS($O$7:$O$35,I$39,$F$7:$F$35,$F42) -> 0 | J42: =COUNTIFS($O$7:$O$35,J$39,$F$7:$F$35,$F42) -> 1 | K42: =COUNTIFS($O$7:$O$35,K$39,$F$7:$F$35,$F42) -> 0 | L42: =COUNTIFS($O$7:$O$35,L$39,$F$7:$F$35,$F42) -> 0 | M42: =COUNTIFS($O$7:$O$35,M$39,$F$7:$F$35,$F42) -> 0 | N42: =COUNTIFS($O$7:$O$35,N$39,$F$7:$F$35,$F42) -> 2 | O42: =COUNTIFS($O$7:$O$35,O$39,$F$7:$F$35,$F42) -> 2 | P42: =COUNTIFS($O$7:$O$35,P$39,$F$7:$F$35,$F42) -> 0 | Q42: =SUM(H42:P42) -> 6
F43: THURSDAY | G43: =G3+3 -> 46177 | H43: =COUNTIFS($O$7:$O$35,H$39,$F$7:$F$35,$F43) -> 0 | I43: =COUNTIFS($O$7:$O$35,I$39,$F$7:$F$35,$F43) -> 0 | J43: =COUNTIFS($O$7:$O$35,J$39,$F$7:$F$35,$F43) -> 0 | L43: =COUNTIFS($O$7:$O$35,L$39,$F$7:$F$35,$F43) -> 0 | M43: =COUNTIFS($O$7:$O$35,M$39,$F$7:$F$35,$F43) -> 0 | N43: =COUNTIFS($O$7:$O$35,N$39,$F$7:$F$35,$F43) -> 1 | O43: =COUNTIFS($O$7:$O$35,O$39,$F$7:$F$35,$F43) -> 0 | P43: =COUNTIFS($O$7:$O$35,P$39,$F$7:$F$35,$F43) -> 0 | Q43: =SUM(H43:P43) -> 1
Q44: =SUM(Q40:Q43) -> 21

Sheet WK 10 FIXTURES
F3: Week Comm | G3: 46181 | H3: Wk 10 | U3: Playing | X3: Umpiring
B4: Playing | D4: Umpiring | U4: Home | V4: Away | X4: Home | Y4: Away
B5: Home | C5: Away | D5: Home | E5: Away | F5: Day | G5: Date | H5: Div | I5: Team Num | J5: Home Team | L5: Away Team | M5: Umpire 1 | N5: Umpire 2 | O5: Venue | P5: UMP1 | Q5: UMP2
B7: =I7 -> 7 | C7: =K7 -> 8 | D7: =P7 -> 16 | E7: =Q7 -> 4 | F7: =VLOOKUP(I7,TEAMS!A4:D55,4,0) -> Monday | G7: =VLOOKUP(F7,$F$40:$G$43,2,FALSE) -> 46181 | H7: 1 | I7: 7 | J7: =VLOOKUP($I7,TEAMS!$A$3:$D$56,2,0) -> Cromer Cobras | K7: 8 | L7: =VLOOKUP($K7,TEAMS!$A$3:$D$56,2,0) -> Jets | M7: =VLOOKUP($P7,TEAMS!$A$3:$D$56,2,0) -> Sirens | N7: =VLOOKUP($Q7,TEAMS!$A$3:$D$56,2,0) -> Stars | O7: Hellesdon High | P7: 16 | Q7: 4
B8: =I8 -> 5 | C8: =K8 -> 3 | D8: =P8 -> 6 | E8: =Q8 -> 11 | F8: Monday | G8: =VLOOKUP(F8,$F$40:$G$43,2,FALSE) -> 46181 | H8: 1 | I8: 5 | J8: =VLOOKUP($I8,TEAMS!$A$3:$D$56,2,0) -> TB Racers | K8: 3 | L8: =VLOOKUP($K8,TEAMS!$A$3:$D$56,2,0) -> TB Mustangs | M8: =VLOOKUP($P8,TEAMS!$A$3:$D$56,2,0) -> Red Knights | N8: =VLOOKUP($Q8,TEAMS!$A$3:$D$56,2,0) -> TB Colts | O8: Sprowston | P8: 6 | Q8: 11
B9: =I9 -> 6 | C9: =K9 -> 4 | D9: =P9 -> 8 | E9: =Q9 -> 1 | F9: =VLOOKUP(I9,TEAMS!A3:D56,4,0) -> Tuesday | G9: =VLOOKUP(F9,$F$40:$G$43,2,FALSE) -> 46182 | H9: 1 | I9: 6 | J9: =VLOOKUP($I9,TEAMS!$A$3:$D$56,2,0) -> Red Knights | K9: 4 | L9: =VLOOKUP($K9,TEAMS!$A$3:$D$56,2,0) -> Stars | M9: =VLOOKUP($P9,TEAMS!$A$3:$D$56,2,0) -> Jets | N9: =VLOOKUP($Q9,TEAMS!$A$3:$D$56,2,0) -> NU Blue | O9: =VLOOKUP($I9,TEAMS!$A$3:$D$56,3,0) -> Hewett | P9: 8 | Q9: 1
B10: =I10 -> 2 | C10: =K10 -> 1 | D10: =P10 -> 12 | E10: =Q10 -> 14 | F10: =VLOOKUP(I10,TEAMS!A3:D56,4,0) -> Wednesday | G10: =VLOOKUP(F10,$F$40:$G$43,2,FALSE) -> 46183 | H10: 1 | I10: 2 | J10: =VLOOKUP($I10,TEAMS!$A$3:$D$56,2,0) -> NU White | K10: 1 | L10: =VLOOKUP($K10,TEAMS!$A$3:$D$56,2,0) -> NU Blue | M10: =VLOOKUP($P10,TEAMS!$A$3:$D$56,2,0) -> NU Yellow | N10: =VLOOKUP($Q10,TEAMS!$A$3:$D$56,2,0) -> NU Royal | O10: =VLOOKUP($I10,TEAMS!$A$3:$D$56,3,0) -> UEA | P10: 12 | Q10: 14
B12: =I12 -> 12 | C12: =K12 -> 15 | D12: =P12 -> 2 | E12: =Q12 -> 5 | F12: =VLOOKUP(I12,TEAMS!A8:D61,4,0) -> Tuesday | G12: =VLOOKUP(F12,$F$40:$G$43,2,FALSE) -> 46182 | H12: 2 | I12: 12 | J12: =VLOOKUP($I12,TEAMS!$A$3:$D$56,2,0) -> NU Yellow | K12: 15 | L12: =VLOOKUP($K12,TEAMS!$A$3:$D$56,2,0) -> Cliff Park | M12: =VLOOKUP($P12,TEAMS!$A$3:$D$56,2,0) -> NU White | N12: =VLOOKUP($Q12,TEAMS!$A$3:$D$56,2,0) -> TB Racers | O12: =VLOOKUP($I12,TEAMS!$A$3:$D$56,3,0) -> UEA | P12: 2 | Q12: 5
B13: =I13 -> 14 | C13: =K13 -> 9 | D13: =P13 -> 3 | E13: =Q13 -> 13 | F13: Tuesday | G13: =VLOOKUP(F13,$F$40:$G$43,2,FALSE) -> 46182 | H13: 2 | I13: 14 | J13: =VLOOKUP($I13,TEAMS!$A$3:$D$56,2,0) -> NU Royal | K13: 9 | L13: =VLOOKUP($K13,TEAMS!$A$3:$D$56,2,0) -> Phoenix | M13: =VLOOKUP($P13,TEAMS!$A$3:$D$56,2,0) -> TB Mustangs | N13: =VLOOKUP($Q13,TEAMS!$A$3:$D$56,2,0) -> Sonics | O13: Hellesdon High | P13: 3 | Q13: 13
B14: =I14 -> 11 | C14: =K14 -> 16 | D14: =P14 -> 25 | E14: =Q14 -> 26 | F14: =VLOOKUP(I14,TEAMS!A11:D64,4,0) -> Tuesday | G14: =VLOOKUP(F14,$F$40:$G$43,2,FALSE) -> 46182 | H14: 2 | I14: 11 | J14: =VLOOKUP($I14,TEAMS!$A$3:$D$56,2,0) -> TB Colts | K14: 16 | L14: =VLOOKUP($K14,TEAMS!$A$3:$D$56,2,0) -> Sirens | M14: =VLOOKUP($P14,TEAMS!$A$3:$D$56,2,0) -> NU Ruby | N14: =VLOOKUP($Q14,TEAMS!$A$3:$D$56,2,0) -> TB Shetlands | O14: =VLOOKUP($I14,TEAMS!$A$3:$D$56,3,0) -> Sprowston | P14: 25 | Q14: 26
B15: =I15 -> 10 | C15: =K15 -> 13 | D15: =P15 -> 18 | E15: =Q15 -> 19 | F15: =VLOOKUP(I15,TEAMS!A9:D62,4,0) -> Monday | G15: =VLOOKUP(F15,$F$40:$G$43,2,FALSE) -> 46181 | H15: 2 | I15: 10 | J15: =VLOOKUP($I15,TEAMS!$A$3:$D$56,2,0) -> Black Knights | K15: 13 | L15: =VLOOKUP($K15,TEAMS!$A$3:$D$56,2,0) -> Sonics | M15: =VLOOKUP($P15,TEAMS!$A$3:$D$56,2,0) -> Venus | N15: =VLOOKUP($Q15,TEAMS!$A$3:$D$56,2,0) -> Premier | O15: =VLOOKUP($I15,TEAMS!$A$3:$D$56,3,0) -> Hewett | P15: 18 | Q15: 19
B17: =I17 -> 18 | C17: =K17 -> 19 | D17: =P17 -> 7 | E17: =Q17 -> 10 | F17: =VLOOKUP(I17,TEAMS!A16:D69,4,0) -> Tuesday | G17: =VLOOKUP(F17,$F$40:$G$43,2,FALSE) -> 46182 | H17: 3 | I17: 18 | J17: =VLOOKUP($I17,TEAMS!$A$3:$D$56,2,0) -> Venus | K17: 19 | L17: =VLOOKUP($K17,TEAMS!$A$3:$D$56,2,0) -> Premier | M17: =VLOOKUP($P17,TEAMS!$A$3:$D$56,2,0) -> Cromer Cobras | N17: =VLOOKUP($Q17,TEAMS!$A$3:$D$56,2,0) -> Black Knights | O17: Open | P17: 7 | Q17: 10
B18: =I18 -> 20 | C18: =K18 -> 22 | D18: =P18 -> 23 | E18: =Q18 -> 30 | F18: =VLOOKUP(I18,TEAMS!A13:D66,4,0) -> Wednesday | G18: =VLOOKUP(F18,$F$40:$G$43,2,FALSE) -> 46183 | H18: 3 | I18: 20 | J18: =VLOOKUP($I18,TEAMS!$A$3:$D$56,2,0) -> White Knights | K18: 22 | L18: =VLOOKUP($K18,TEAMS!$A$3:$D$56,2,0) -> Wrens | M18: =VLOOKUP($P18,TEAMS!$A$3:$D$56,2,0) -> Hotshots | N18: =VLOOKUP($Q18,TEAMS!$A$3:$D$56,2,0) -> Watton Wolves | O18: =VLOOKUP($I18,TEAMS!$A$3:$D$56,3,0) -> Hewett | P18: 23 | Q18: 30
B19: =I19 -> 23 | C19: =K19 -> 24 | D19: =P19 -> 20 | E19: =Q19 -> 21 | F19: =VLOOKUP(I19,TEAMS!A14:D67,4,0) -> Tuesday | G19: =VLOOKUP(F19,$F$40:$G$43,2,FALSE) -> 46182 | H19: 3 | I19: 23 | J19: =VLOOKUP($I19,TEAMS!$A$3:$D$56,2,0) -> Hotshots | K19: 24 | L19: =VLOOKUP($K19,TEAMS!$A$3:$D$56,2,0) -> Icenians | M19: =VLOOKUP($P19,TEAMS!$A$3:$D$56,2,0) -> White Knights | N19: =VLOOKUP($Q19,TEAMS!$A$3:$D$56,2,0) -> Belton | O19: =VLOOKUP($I19,TEAMS!$A$3:$D$56,3,0) -> Open | P19: 20 | Q19: 21
B20: =I20 -> 21 | C20: =K20 -> 17 | D20: =P20 -> 46 | E20: =Q20 -> 32 | F20: =VLOOKUP(I20,TEAMS!A15:D68,4,0) -> Monday | G20: =VLOOKUP(F20,$F$40:$G$43,2,FALSE) -> 46181 | H20: 3 | I20: 21 | J20: =VLOOKUP($I20,TEAMS!$A$3:$D$56,2,0) -> Belton | K20: 17 | L20: =VLOOKUP($K20,TEAMS!$A$3:$D$56,2,0) -> Blades | M20: =VLOOKUP($P20,TEAMS!$A$3:$D$56,2,0) -> Doves | N20: =VLOOKUP($Q20,TEAMS!$A$3:$D$56,2,0) -> Red Hot Chillies | O20: =VLOOKUP($I20,TEAMS!$A$3:$D$56,3,0) -> Open | P20: 46 | Q20: 32
B22: =I22 -> 25 | C22: =K22 -> 28 | D22: =P22 -> 9 | E22: =Q22 -> 15 | F22: =VLOOKUP(I22,TEAMS!A18:D73,4,0) -> Wednesday | G22: =VLOOKUP(F22,$F$40:$G$43,2,FALSE) -> 46183 | H22: 4 | I22: 25 | J22: =VLOOKUP($I22,TEAMS!$A$3:$D$56,2,0) -> NU Ruby | K22: 28 | L22: =VLOOKUP($K22,TEAMS!$A$3:$D$56,2,0) -> Hethersett Rockets | M22: =VLOOKUP($P22,TEAMS!$A$3:$D$56,2,0) -> Phoenix | N22: =VLOOKUP($Q22,TEAMS!$A$3:$D$56,2,0) -> Cliff Park | O22: =VLOOKUP($I22,TEAMS!$A$3:$D$56,3,0) -> UEA | P22: 9 | Q22: 15
B23: =I23 -> 31 | C23: =K23 -> 30 | D23: =P23 -> 22 | E23: =Q23 -> 28 | F23: =VLOOKUP(I23,TEAMS!A21:D76,4,0) -> Thursday | G23: =VLOOKUP(F23,$F$40:$G$43,2,FALSE) -> 46184 | H23: 4 | I23: 31 | J23: =VLOOKUP($I23,TEAMS!$A$3:$D$56,2,0) -> Trailblazers | K23: 30 | L23: =VLOOKUP($K23,TEAMS!$A$3:$D$56,2,0) -> Watton Wolves | M23: =VLOOKUP($P23,TEAMS!$A$3:$D$56,2,0) -> Wrens | N23: =VLOOKUP($Q23,TEAMS!$A$3:$D$56,2,0) -> Hethersett Rockets | O23: =VLOOKUP($I23,TEAMS!$A$3:$D$56,3,0) -> Hellesdon High | P23: 22 | Q23: 28
B24: =I24 -> 26 | C24: =K24 -> 27 | D24: =P24 -> 17 | E24: =Q24 -> 24 | F24: =VLOOKUP(I24,TEAMS!A19:D74,4,0) -> Wednesday | G24: =VLOOKUP(F24,$F$40:$G$43,2,FALSE) -> 46183 | H24: 4 | I24: 26 | J24: =VLOOKUP($I24,TEAMS!$A$3:$D$56,2,0) -> TB Shetlands | K24: 27 | L24: =VLOOKUP($K24,TEAMS!$A$3:$D$56,2,0) -> Falcons | M24: =VLOOKUP($P24,TEAMS!$A$3:$D$56,2,0) -> Blades | N24: =VLOOKUP($Q24,TEAMS!$A$3:$D$56,2,0) -> Icenians | O24: =VLOOKUP($I24,TEAMS!$A$3:$D$56,3,0) -> Sprowston | P24: 17 | Q24: 24
B25: =I25 -> 29 | C25: =K25 -> 32 | D25: =P25 -> 31 | E25: =Q25 -> 37 | F25: Wednesday | G25: =VLOOKUP(F25,$F$40:$G$43,2,FALSE) -> 46183 | H25: 4 | I25: 29 | J25: =VLOOKUP($I25,TEAMS!$A$3:$D$56,2,0) -> NCF Emerald | K25: 32 | L25: =VLOOKUP($K25,TEAMS!$A$3:$D$56,2,0) -> Red Hot Chillies | M25: =VLOOKUP($P25,TEAMS!$A$3:$D$56,2,0) -> Trailblazers | N25: =VLOOKUP($Q25,TEAMS!$A$3:$D$56,2,0) -> First Home Improvements | O25: =VLOOKUP($I25,TEAMS!$A$3:$D$56,3,0) -> Hellesdon High | P25: 31 | Q25: 37
B27: =I27 -> 39 | C27: =K27 -> 40 | D27: =P27 -> 0 | E27: =Q27 -> 0 | G27: =VLOOKUP(F27,$F$40:$G$43,2,FALSE) -> #N/A | H27: 5 | I27: 39 | J27: =VLOOKUP($I27,TEAMS!$A$3:$D$56,2,0) -> Tigers | K27: 40 | L27: =VLOOKUP($K27,TEAMS!$A$3:$D$56,2,0) -> BYE WEEK | M27: =VLOOKUP($P27,TEAMS!$A$3:$D$56,2,0) -> #N/A | N27: =VLOOKUP($Q27,TEAMS!$A$3:$D$56,2,0) -> #N/A
B28: =I28 -> 37 | C28: =K28 -> 35 | D28: =P28 -> 29 | E28: =Q28 -> 39 | F28: =VLOOKUP(I28,TEAMS!A23:D78,4,0) -> Monday | G28: =VLOOKUP(F28,$F$40:$G$43,2,FALSE) -> 46181 | H28: 5 | I28: 37 | J28: =VLOOKUP($I28,TEAMS!$A$3:$D$56,2,0) -> First Home Improvements | K28: 35 | L28: =VLOOKUP($K28,TEAMS!$A$3:$D$56,2,0) -> Gems | M28: =VLOOKUP($P28,TEAMS!$A$3:$D$56,2,0) -> NCF Emerald | N28: =VLOOKUP($Q28,TEAMS!$A$3:$D$56,2,0) -> Tigers | O28: =VLOOKUP($I28,TEAMS!$A$3:$D$56,3,0) -> Open | P28: 29 | Q28: 39
B29: =I29 -> 38 | C29: =K29 -> 36 | D29: =P29 -> 34 | E29: =Q29 -> 33 | F29: =VLOOKUP(I29,TEAMS!A24:D79,4,0) -> Monday | G29: =VLOOKUP(F29,$F$40:$G$43,2,FALSE) -> 46181 | H29: 5 | I29: 38 | J29: =VLOOKUP($I29,TEAMS!$A$3:$D$56,2,0) -> NU Red | K29: 36 | L29: =VLOOKUP($K29,TEAMS!$A$3:$D$56,2,0) -> TB Fillies | M29: =VLOOKUP($P29,TEAMS!$A$3:$D$56,2,0) -> NU Amber | N29: =VLOOKUP($Q29,TEAMS!$A$3:$D$56,2,0) -> Hornets | O29: =VLOOKUP($I29,TEAMS!$A$3:$D$56,3,0) -> UEA | P29: 34 | Q29: 33
B30: =I30 -> 34 | C30: =K30 -> 33 | D30: =P30 -> 38 | E30: =Q30 -> 35 | F30: =VLOOKUP(I30,TEAMS!A25:D80,4,0) -> Tuesday | G30: =VLOOKUP(F30,$F$40:$G$43,2,FALSE) -> 46182 | H30: 5 | I30: 34 | J30: =VLOOKUP($I30,TEAMS!$A$3:$D$56,2,0) -> NU Amber | K30: 33 | L30: =VLOOKUP($K30,TEAMS!$A$3:$D$56,2,0) -> Hornets | M30: =VLOOKUP($P30,TEAMS!$A$3:$D$56,2,0) -> NU Red | N30: =VLOOKUP($Q30,TEAMS!$A$3:$D$56,2,0) -> Gems | O30: =VLOOKUP($I30,TEAMS!$A$3:$D$56,3,0) -> UEA | P30: 38 | Q30: 35
B31: =I32 -> 47 | C31: =K32 -> 48 | D31: =P32 -> 0 | E31: =Q32 -> 0
B32: =I33 -> 43 | C32: =K33 -> 45 | D32: =P33 -> 44 | E32: =Q33 -> 42 | F32: =VLOOKUP(I32,TEAMS!A26:D81,4,0) -> 0 | G32: =VLOOKUP(F32,$F$40:$G$43,2,FALSE) -> #N/A | H32: 6 | I32: 47 | J32: =VLOOKUP($I32,TEAMS!$A$3:$D$56,2,0) -> BYE WEEK | K32: 48 | L32: =VLOOKUP($K32,TEAMS!$A$3:$D$56,2,0) -> BYE WEEK | M32: =VLOOKUP($P32,TEAMS!$A$3:$D$56,2,0) -> #N/A | N32: =VLOOKUP($Q32,TEAMS!$A$3:$D$56,2,0) -> #N/A | O32: =VLOOKUP($I32,TEAMS!$A$3:$D$56,3,0) -> 0
B33: =I34 -> 46 | C33: =K34 -> 44 | D33: =P34 -> 27 | E33: =Q34 -> 43 | F33: =VLOOKUP(I33,TEAMS!A27:D82,4,0) -> Thursday | G33: =VLOOKUP(F33,$F$40:$G$43,2,FALSE) -> 46184 | H33: 6 | I33: 43 | J33: =VLOOKUP($I33,TEAMS!$A$3:$D$56,2,0) -> Trowse | K33: 45 | L33: =VLOOKUP($K33,TEAMS!$A$3:$D$56,2,0) -> NCF Onyx | M33: =VLOOKUP($P33,TEAMS!$A$3:$D$56,2,0) -> Cromer Vipers | N33: =VLOOKUP($Q33,TEAMS!$A$3:$D$56,2,0) -> TB Ponies | O33: =VLOOKUP($I33,TEAMS!$A$3:$D$56,3,0) -> Hellesdon High | P33: 44 | Q33: 42
F34: Tuesday | G34: =VLOOKUP(F34,$F$40:$G$43,2,FALSE) -> 46182 | H34: 6 | I34: 46 | J34: =VLOOKUP($I34,TEAMS!$A$3:$D$56,2,0) -> Doves | K34: 44 | L34: =VLOOKUP($K34,TEAMS!$A$3:$D$56,2,0) -> Cromer Vipers | M34: =VLOOKUP($P34,TEAMS!$A$3:$D$56,2,0) -> Falcons | N34: =VLOOKUP($Q34,TEAMS!$A$3:$D$56,2,0) -> Trowse | O34: Sprowston | P34: 27 | Q34: 43
F35: =VLOOKUP(I35,TEAMS!A29:D84,4,0) -> Monday | G35: =VLOOKUP(F35,$F$40:$G$43,2,FALSE) -> 46181 | H35: 6 | I35: 42 | J35: =VLOOKUP($I35,TEAMS!$A$3:$D$56,2,0) -> TB Ponies | K35: 41 | L35: =VLOOKUP($K35,TEAMS!$A$3:$D$56,2,0) -> Dragons | M35: =VLOOKUP($P35,TEAMS!$A$3:$D$56,2,0) -> NCF Onyx | N35: =VLOOKUP($Q35,TEAMS!$A$3:$D$56,2,0) -> Dragons | O35: =VLOOKUP($I35,TEAMS!$A$3:$D$56,3,0) -> Sprowston | P35: 45 | Q35: 41
G37: where indicated the date or venue has changed
G39: Date | H39: UEA | I39: HELLESDON CC | J39: HEWETT | K39: OPEN | L39: CITY | M39: OLD CATTON | N39: Hellesdon High | O39: Sprowston | P39: THORPE
F40: MONDAY | G40: =G3 -> 46181 | H40: =COUNTIFS($O$7:$O$35,H$39,$F$7:$F$35,$F40) -> 1 | I40: =COUNTIFS($O$7:$O$35,I$39,$F$7:$F$35,$F40) -> 0 | J40: =COUNTIFS($O$7:$O$35,J$39,$F$7:$F$35,$F40) -> 1 | K40: =COUNTIFS($O$7:$O$35,K$39,$F$7:$F$35,$F40) -> 2 | L40: =COUNTIFS($O$7:$O$35,L$39,$F$7:$F$35,$F40) -> 0 | M40: =COUNTIFS($O$7:$O$35,M$39,$F$7:$F$35,$F40) -> 0 | N40: =COUNTIFS($O$7:$O$35,N$39,$F$7:$F$35,$F40) -> 1 | O40: =COUNTIFS($O$7:$O$35,O$39,$F$7:$F$35,$F40) -> 2 | P40: =COUNTIFS($O$7:$O$35,P$39,$F$7:$F$35,$F40) -> 0 | Q40: =SUM(H40:P40) -> 7
F41: TUESDAY | G41: =G3+1 -> 46182 | H41: =COUNTIFS($O$7:$O$35,H$39,$F$7:$F$35,$F41) -> 2 | I41: =COUNTIFS($O$7:$O$35,I$39,$F$7:$F$35,$F41) -> 0 | J41: =COUNTIFS($O$7:$O$35,J$39,$F$7:$F$35,$F41) -> 1 | K41: =COUNTIFS($O$7:$O$35,K$39,$F$7:$F$35,$F41) -> 2 | L41: =COUNTIFS($O$7:$O$35,L$39,$F$7:$F$35,$F41) -> 0 | M41: =COUNTIFS($O$7:$O$35,M$39,$F$7:$F$35,$F41) -> 0 | N41: =COUNTIFS($O$7:$O$35,N$39,$F$7:$F$35,$F41) -> 1 | O41: =COUNTIFS($O$7:$O$35,O$39,$F$7:$F$35,$F41) -> 2 | P41: =COUNTIFS($O$7:$O$35,P$39,$F$7:$F$35,$F41) -> 0 | Q41: =SUM(H41:P41) -> 8
F42: WEDNESDAY | G42: =G3+2 -> 46183 | H42: =COUNTIFS($O$7:$O$35,H$39,$F$7:$F$35,$F42) -> 2 | I42: =COUNTIFS($O$7:$O$35,I$39,$F$7:$F$35,$F42) -> 0 | J42: =COUNTIFS($O$7:$O$35,J$39,$F$7:$F$35,$F42) -> 1 | K42: =COUNTIFS($O$7:$O$35,K$39,$F$7:$F$35,$F42) -> 0 | L42: =COUNTIFS($O$7:$O$35,L$39,$F$7:$F$35,$F42) -> 0 | M42: =COUNTIFS($O$7:$O$35,M$39,$F$7:$F$35,$F42) -> 0 | N42: =COUNTIFS($O$7:$O$35,N$39,$F$7:$F$35,$F42) -> 1 | O42: =COUNTIFS($O$7:$O$35,O$39,$F$7:$F$35,$F42) -> 1 | P42: =COUNTIFS($O$7:$O$35,P$39,$F$7:$F$35,$F42) -> 0 | Q42: =SUM(H42:P42) -> 5
F43: THURSDAY | G43: =G3+3 -> 46184 | H43: =COUNTIFS($O$7:$O$35,H$39,$F$7:$F$35,$F43) -> 0 | I43: =COUNTIFS($O$7:$O$35,I$39,$F$7:$F$35,$F43) -> 0 | J43: =COUNTIFS($O$7:$O$35,J$39,$F$7:$F$35,$F43) -> 0 | L43: =COUNTIFS($O$7:$O$35,L$39,$F$7:$F$35,$F43) -> 0 | M43: =COUNTIFS($O$7:$O$35,M$39,$F$7:$F$35,$F43) -> 0 | N43: =COUNTIFS($O$7:$O$35,N$39,$F$7:$F$35,$F43) -> 2 | O43: =COUNTIFS($O$7:$O$35,O$39,$F$7:$F$35,$F43) -> 0 | P43: =COUNTIFS($O$7:$O$35,P$39,$F$7:$F$35,$F43) -> 0 | Q43: =SUM(H43:P43) -> 2
Q44: =SUM(Q40:Q43) -> 22

Sheet WK 11 FIXTURES
F3: Week Comm | G3: 46188 | H3: Wk 11 | U3: Playing | X3: Umpiring
B4: Playing | D4: Umpiring
B5: Home | C5: Away | D5: Home | E5: Away | F5: Day | G5: Date | H5: Div | I5: Team Num | J5: Home Team | L5: Away Team | M5: Umpire 1 | N5: Umpire 2 | O5: Venue | P5: UMP1 | Q5: UMP2
B7: =I7 -> 7 | C7: =K7 -> 2 | D7: =P7 -> 1 | E7: =Q7 -> 3 | F7: =VLOOKUP(I7,TEAMS!A3:D56,4,0) -> Monday | G7: =VLOOKUP(F7,$F$40:$G$43,2,FALSE) -> 46188 | H7: 1 | I7: 7 | J7: =VLOOKUP($I7,TEAMS!$A$3:$D$56,2,0) -> Cromer Cobras | K7: 2 | L7: =VLOOKUP($K7,TEAMS!$A$3:$D$56,2,0) -> NU White | M7: =VLOOKUP($P7,TEAMS!$A$3:$D$56,2,0) -> NU Blue | N7: =VLOOKUP($Q7,TEAMS!$A$3:$D$56,2,0) -> TB Mustangs | O7: Hellesdon High | P7: 1 | Q7: 3
B8: =I8 -> 5 | C8: =K8 -> 4 | D8: =P8 -> 8 | E8: =Q8 -> 11 | F8: Monday | G8: =VLOOKUP(F8,$F$40:$G$43,2,FALSE) -> 46188 | H8: 1 | I8: 5 | J8: =VLOOKUP($I8,TEAMS!$A$3:$D$56,2,0) -> TB Racers | K8: 4 | L8: =VLOOKUP($K8,TEAMS!$A$3:$D$56,2,0) -> Stars | M8: =VLOOKUP($P8,TEAMS!$A$3:$D$56,2,0) -> Jets | N8: =VLOOKUP($Q8,TEAMS!$A$3:$D$56,2,0) -> TB Colts | O8: Sprowston | P8: 8 | Q8: 11
B9: =I9 -> 8 | C9: =K9 -> 3 | D9: =P9 -> 2 | E9: =Q9 -> 6 | F9: =VLOOKUP(I9,TEAMS!A5:D56,4,0) -> Wednesday | G9: =VLOOKUP(F9,$F$40:$G$43,2,FALSE) -> 46190 | H9: 1 | I9: 8 | J9: =VLOOKUP($I9,TEAMS!$A$3:$D$56,2,0) -> Jets | K9: 3 | L9: =VLOOKUP($K9,TEAMS!$A$3:$D$56,2,0) -> TB Mustangs | M9: =VLOOKUP($P9,TEAMS!$A$3:$D$56,2,0) -> NU White | N9: =VLOOKUP($Q9,TEAMS!$A$3:$D$56,2,0) -> Red Knights | O9: =VLOOKUP($I9,TEAMS!$A$3:$D$56,3,0) -> UEA | P9: 2 | Q9: 6
B10: =I10 -> 6 | C10: =K10 -> 1 | D10: =P10 -> 4 | E10: =Q10 -> 5 | F10: =VLOOKUP(I10,TEAMS!A3:D56,4,0) -> Tuesday | G10: =VLOOKUP(F10,$F$40:$G$43,2,FALSE) -> 46189 | H10: 1 | I10: 6 | J10: =VLOOKUP($I10,TEAMS!$A$3:$D$56,2,0) -> Red Knights | K10: 1 | L10: =VLOOKUP($K10,TEAMS!$A$3:$D$56,2,0) -> NU Blue | M10: =VLOOKUP($P10,TEAMS!$A$3:$D$56,2,0) -> Stars | N10: =VLOOKUP($Q10,TEAMS!$A$3:$D$56,2,0) -> TB Racers | O10: =VLOOKUP($I10,TEAMS!$A$3:$D$56,3,0) -> Hewett | P10: 4 | Q10: 5
B12: =I12 -> 9 | C12: =K12 -> 11 | D12: =P12 -> 10 | E12: =Q12 -> 12 | F12: =VLOOKUP(I12,TEAMS!A8:D61,4,0) -> Tuesday | G12: =VLOOKUP(F12,$F$40:$G$43,2,FALSE) -> 46189 | H12: 2 | I12: 9 | J12: =VLOOKUP($I12,TEAMS!$A$3:$D$56,2,0) -> Phoenix | K12: 11 | L12: =VLOOKUP($K12,TEAMS!$A$3:$D$56,2,0) -> TB Colts | M12: =VLOOKUP($P12,TEAMS!$A$3:$D$56,2,0) -> Black Knights | N12: =VLOOKUP($Q12,TEAMS!$A$3:$D$56,2,0) -> NU Yellow | O12: =VLOOKUP($I12,TEAMS!$A$3:$D$56,3,0) -> UEA | P12: 10 | Q12: 12
B13: =I13 -> 10 | C13: =K13 -> 12 | D13: =P13 -> 13 | E13: =Q13 -> 19 | F13: =VLOOKUP(I13,TEAMS!A9:D62,4,0) -> Monday | G13: =VLOOKUP(F13,$F$40:$G$43,2,FALSE) -> 46188 | H13: 2 | I13: 10 | J13: =VLOOKUP($I13,TEAMS!$A$3:$D$56,2,0) -> Black Knights | K13: 12 | L13: =VLOOKUP($K13,TEAMS!$A$3:$D$56,2,0) -> NU Yellow | M13: =VLOOKUP($P13,TEAMS!$A$3:$D$56,2,0) -> Sonics | N13: =VLOOKUP($Q13,TEAMS!$A$3:$D$56,2,0) -> Premier | O13: =VLOOKUP($I13,TEAMS!$A$3:$D$56,3,0) -> Hewett | P13: 13 | Q13: 19
B14: =I14 -> 14 | C14: =K14 -> 16 | D14: =P14 -> 18 | E14: =Q14 -> 34 | F14: =VLOOKUP(I14,TEAMS!A11:D64,4,0) -> Monday | G14: =VLOOKUP(F14,$F$40:$G$43,2,FALSE) -> 46188 | H14: 2 | I14: 14 | J14: =VLOOKUP($I14,TEAMS!$A$3:$D$56,2,0) -> NU Royal | K14: 16 | L14: =VLOOKUP($K14,TEAMS!$A$3:$D$56,2,0) -> Sirens | M14: =VLOOKUP($P14,TEAMS!$A$3:$D$56,2,0) -> Venus | N14: =VLOOKUP($Q14,TEAMS!$A$3:$D$56,2,0) -> NU Amber | O14: =VLOOKUP($I14,TEAMS!$A$3:$D$56,3,0) -> UEA | P14: 18 | Q14: 34
B15: =I15 -> 13 | C15: =K15 -> 15 | D15: =P15 -> 14 | E15: =Q15 -> 16 | F15: =VLOOKUP(I15,TEAMS!A10:D63,4,0) -> Tuesday | G15: =VLOOKUP(F15,$F$40:$G$43,2,FALSE) -> 46189 | H15: 2 | I15: 13 | J15: =VLOOKUP($I15,TEAMS!$A$3:$D$56,2,0) -> Sonics | K15: 15 | L15: =VLOOKUP($K15,TEAMS!$A$3:$D$56,2,0) -> Cliff Park | M15: =VLOOKUP($P15,TEAMS!$A$3:$D$56,2,0) -> NU Royal | N15: =VLOOKUP($Q15,TEAMS!$A$3:$D$56,2,0) -> Sirens | O15: =VLOOKUP($I15,TEAMS!$A$3:$D$56,3,0) -> Open | P15: 14 | Q15: 16
B17: =I17 -> 19 | C17: =K17 -> 17 | D17: =P17 -> 21 | E17: =Q17 -> 23 | F17: =VLOOKUP(I17,TEAMS!A13:D66,4,0) -> Tuesday | G17: =VLOOKUP(F17,$F$40:$G$43,2,FALSE) -> 46189 | H17: 3 | I17: 19 | J17: =VLOOKUP($I17,TEAMS!$A$3:$D$56,2,0) -> Premier | K17: 17 | L17: =VLOOKUP($K17,TEAMS!$A$3:$D$56,2,0) -> Blades | M17: =VLOOKUP($P17,TEAMS!$A$3:$D$56,2,0) -> Belton | N17: =VLOOKUP($Q17,TEAMS!$A$3:$D$56,2,0) -> Hotshots | O17: Hellesdon High | P17: 21 | Q17: 23
B18: =I18 -> 18 | C18: =K18 -> 20 | D18: =P18 -> 25 | E18: =Q18 -> 30 | F18: =VLOOKUP(I18,TEAMS!A14:D67,4,0) -> Tuesday | G18: =VLOOKUP(F18,$F$40:$G$43,2,FALSE) -> 46189 | H18: 3 | I18: 18 | J18: =VLOOKUP($I18,TEAMS!$A$3:$D$56,2,0) -> Venus | K18: 20 | L18: =VLOOKUP($K18,TEAMS!$A$3:$D$56,2,0) -> White Knights | M18: =VLOOKUP($P18,TEAMS!$A$3:$D$56,2,0) -> NU Ruby | N18: =VLOOKUP($Q18,TEAMS!$A$3:$D$56,2,0) -> Watton Wolves | O18: =VLOOKUP($I18,TEAMS!$A$3:$D$56,3,0) -> Open | P18: 25 | Q18: 30
B19: =I19 -> 22 | C19: =K19 -> 24 | D19: =P19 -> 33 | E19: =Q19 -> 38 | F19: =VLOOKUP(I19,TEAMS!A15:D68,4,0) -> Tuesday | G19: =VLOOKUP(F19,$F$40:$G$43,2,FALSE) -> 46189 | H19: 3 | I19: 22 | J19: =VLOOKUP($I19,TEAMS!$A$3:$D$56,2,0) -> Wrens | K19: 24 | L19: =VLOOKUP($K19,TEAMS!$A$3:$D$56,2,0) -> Icenians | M19: =VLOOKUP($P19,TEAMS!$A$3:$D$56,2,0) -> Hornets | N19: =VLOOKUP($Q19,TEAMS!$A$3:$D$56,2,0) -> NU Red | O19: =VLOOKUP($I19,TEAMS!$A$3:$D$56,3,0) -> Open | P19: 33 | Q19: 38
B20: =I20 -> 21 | C20: =K20 -> 23 | D20: =P20 -> 9 | E20: =Q20 -> 15 | F20: =VLOOKUP(I20,TEAMS!A16:D69,4,0) -> Monday | G20: =VLOOKUP(F20,$F$40:$G$43,2,FALSE) -> 46188 | H20: 3 | I20: 21 | J20: =VLOOKUP($I20,TEAMS!$A$3:$D$56,2,0) -> Belton | K20: 23 | L20: =VLOOKUP($K20,TEAMS!$A$3:$D$56,2,0) -> Hotshots | M20: =VLOOKUP($P20,TEAMS!$A$3:$D$56,2,0) -> Phoenix | N20: =VLOOKUP($Q20,TEAMS!$A$3:$D$56,2,0) -> Cliff Park | O20: =VLOOKUP($I20,TEAMS!$A$3:$D$56,3,0) -> Open | P20: 9 | Q20: 15
B22: =I22 -> 31 | C22: =K22 -> 26 | D22: =P22 -> 20 | E22: =Q22 -> 29 | F22: =VLOOKUP(I22,TEAMS!A20:D75,4,0) -> Thursday | G22: =VLOOKUP(F22,$F$40:$G$43,2,FALSE) -> 46191 | H22: 4 | I22: 31 | J22: =VLOOKUP($I22,TEAMS!$A$3:$D$56,2,0) -> Trailblazers | K22: 26 | L22: =VLOOKUP($K22,TEAMS!$A$3:$D$56,2,0) -> TB Shetlands | M22: =VLOOKUP($P22,TEAMS!$A$3:$D$56,2,0) -> White Knights | N22: =VLOOKUP($Q22,TEAMS!$A$3:$D$56,2,0) -> NCF Emerald | O22: =VLOOKUP($I22,TEAMS!$A$3:$D$56,3,0) -> Hellesdon High | P22: 20 | Q22: 29
B23: =I23 -> 28 | C23: =K23 -> 30 | D23: =P23 -> 17 | E23: =Q23 -> 31 | F23: Wednesday | G23: =VLOOKUP(F23,$F$40:$G$43,2,FALSE) -> 46190 | H23: 4 | I23: 28 | J23: =VLOOKUP($I23,TEAMS!$A$3:$D$56,2,0) -> Hethersett Rockets | K23: 30 | L23: =VLOOKUP($K23,TEAMS!$A$3:$D$56,2,0) -> Watton Wolves | M23: =VLOOKUP($P23,TEAMS!$A$3:$D$56,2,0) -> Blades | N23: =VLOOKUP($Q23,TEAMS!$A$3:$D$56,2,0) -> Trailblazers | O23: =VLOOKUP($I23,TEAMS!$A$3:$D$56,3,0) -> Hellesdon High | P23: 17 | Q23: 31
B24: =I24 -> 29 | C24: =K24 -> 25 | D24: =P24 -> 37 | E24: =Q24 -> 32 | F24: Wednesday | G24: =VLOOKUP(F24,$F$40:$G$43,2,FALSE) -> 46190 | H24: 4 | I24: 29 | J24: =VLOOKUP($I24,TEAMS!$A$3:$D$56,2,0) -> NCF Emerald | K24: 25 | L24: =VLOOKUP($K24,TEAMS!$A$3:$D$56,2,0) -> NU Ruby | M24: =VLOOKUP($P24,TEAMS!$A$3:$D$56,2,0) -> First Home Improvements | N24: =VLOOKUP($Q24,TEAMS!$A$3:$D$56,2,0) -> Red Hot Chillies | O24: =VLOOKUP($I24,TEAMS!$A$3:$D$56,3,0) -> Hellesdon High | P24: 37 | Q24: 32
B25: =I25 -> 27 | C25: =K25 -> 32 | D25: =P25 -> 28 | E25: =Q25 -> 26 | F25: Tuesday | G25: =VLOOKUP(F25,$F$40:$G$43,2,FALSE) -> 46189 | H25: 4 | I25: 27 | J25: =VLOOKUP($I25,TEAMS!$A$3:$D$56,2,0) -> Falcons | K25: 32 | L25: =VLOOKUP($K25,TEAMS!$A$3:$D$56,2,0) -> Red Hot Chillies | M25: =VLOOKUP($P25,TEAMS!$A$3:$D$56,2,0) -> Hethersett Rockets | N25: =VLOOKUP($Q25,TEAMS!$A$3:$D$56,2,0) -> TB Shetlands | O25: =VLOOKUP($I25,TEAMS!$A$3:$D$56,3,0) -> City | P25: 28 | Q25: 26
B27: =I27 -> 39 | C27: =K27 -> 34 | D27: =P27 -> 22 | E27: =Q27 -> 24 | F27: =VLOOKUP(I27,TEAMS!A23:D78,4,0) -> Wednesday | G27: =VLOOKUP(F27,$F$40:$G$43,2,FALSE) -> 46190 | H27: 5 | I27: 39 | J27: =VLOOKUP($I27,TEAMS!$A$3:$D$56,2,0) -> Tigers | K27: 34 | L27: =VLOOKUP($K27,TEAMS!$A$3:$D$56,2,0) -> NU Amber | M27: =VLOOKUP($P27,TEAMS!$A$3:$D$56,2,0) -> Wrens | N27: =VLOOKUP($Q27,TEAMS!$A$3:$D$56,2,0) -> Icenians | O27: UEA | P27: 22 | Q27: 24
B28: =I28 -> 37 | C28: =K28 -> 36 | D28: =P28 -> 39 | E28: =Q28 -> 35 | F28: =VLOOKUP(I28,TEAMS!A24:D79,4,0) -> Monday | G28: =VLOOKUP(F28,$F$40:$G$43,2,FALSE) -> 46188 | H28: 5 | I28: 37 | J28: =VLOOKUP($I28,TEAMS!$A$3:$D$56,2,0) -> First Home Improvements | K28: 36 | L28: =VLOOKUP($K28,TEAMS!$A$3:$D$56,2,0) -> TB Fillies | M28: =VLOOKUP($P28,TEAMS!$A$3:$D$56,2,0) -> Tigers | N28: =VLOOKUP($Q28,TEAMS!$A$3:$D$56,2,0) -> Gems | O28: =VLOOKUP($I28,TEAMS!$A$3:$D$56,3,0) -> Open | P28: 39 | Q28: 35
B29: =I29 -> 40 | C29: =K29 -> 35 | D29: =P29 -> 0 | E29: =Q29 -> 0 | F29: =VLOOKUP(I29,TEAMS!A25:D80,4,0) -> 0 | G29: =VLOOKUP(F29,$F$40:$G$43,2,FALSE) -> #N/A | H29: 5 | I29: 40 | J29: =VLOOKUP($I29,TEAMS!$A$3:$D$56,2,0) -> BYE WEEK | K29: 35 | L29: =VLOOKUP($K29,TEAMS!$A$3:$D$56,2,0) -> Gems | M29: =VLOOKUP($P29,TEAMS!$A$3:$D$56,2,0) -> #N/A | N29: =VLOOKUP($Q29,TEAMS!$A$3:$D$56,2,0) -> #N/A | O29: =VLOOKUP($I29,TEAMS!$A$3:$D$56,3,0) -> 0
B30: =I30 -> 38 | C30: =K30 -> 33 | D30: =P30 -> 45 | E30: =Q30 -> 44 | F30: =VLOOKUP(I30,TEAMS!A26:D81,4,0) -> Monday | G30: =VLOOKUP(F30,$F$40:$G$43,2,FALSE) -> 46188 | H30: 5 | I30: 38 | J30: =VLOOKUP($I30,TEAMS!$A$3:$D$56,2,0) -> NU Red | K30: 33 | L30: =VLOOKUP($K30,TEAMS!$A$3:$D$56,2,0) -> Hornets | M30: =VLOOKUP($P30,TEAMS!$A$3:$D$56,2,0) -> NCF Onyx | N30: =VLOOKUP($Q30,TEAMS!$A$3:$D$56,2,0) -> Cromer Vipers | O30: =VLOOKUP($I30,TEAMS!$A$3:$D$56,3,0) -> UEA | P30: 45 | Q30: 44
B31: =I32 -> 47 | C31: =K32 -> 42 | D31: =P32 -> 0 | E31: =Q31 -> 0
B32: =I33 -> 45 | C32: =K33 -> 44 | D32: =P33 -> 27 | E32: =Q32 -> 0 | F32: =VLOOKUP(I32,TEAMS!A27:D82,4,0) -> 0 | G32: =VLOOKUP(F32,$F$40:$G$43,2,FALSE) -> #N/A | H32: 6 | I32: 47 | J32: =VLOOKUP($I32,TEAMS!$A$3:$D$56,2,0) -> BYE WEEK | K32: 42 | L32: =VLOOKUP($K32,TEAMS!$A$3:$D$56,2,0) -> TB Ponies | M32: =VLOOKUP($P32,TEAMS!$A$3:$D$56,2,0) -> #N/A | N32: =VLOOKUP($Q31,TEAMS!$A$3:$D$56,2,0) -> #N/A | O32: =VLOOKUP($I32,TEAMS!$A$3:$D$56,3,0) -> 0
B33: =I34 -> 48 | C33: =K34 -> 43 | D33: =P34 -> 0 | E33: =Q33 -> 36 | F33: Wednesday | G33: =VLOOKUP(F33,$F$40:$G$43,2,FALSE) -> 46190 | H33: 6 | I33: 45 | J33: =VLOOKUP($I33,TEAMS!$A$3:$D$56,2,0) -> NCF Onyx | K33: 44 | L33: =VLOOKUP($K33,TEAMS!$A$3:$D$56,2,0) -> Cromer Vipers | M33: =VLOOKUP($P33,TEAMS!$A$3:$D$56,2,0) -> Falcons | N33: =VLOOKUP($Q32,TEAMS!$A$3:$D$56,2,0) -> #N/A | O33: =VLOOKUP($I33,TEAMS!$A$3:$D$56,3,0) -> Hellesdon High | P33: 27 | Q33: 36
F34: =VLOOKUP(I34,TEAMS!A29:D84,4,0) -> 0 | G34: =VLOOKUP(F34,$F$40:$G$43,2,FALSE) -> #N/A | H34: 6 | I34: 48 | J34: =VLOOKUP($I34,TEAMS!$A$3:$D$56,2,0) -> BYE WEEK | K34: 43 | L34: =VLOOKUP($K34,TEAMS!$A$3:$D$56,2,0) -> Trowse | M34: =VLOOKUP($P34,TEAMS!$A$3:$D$56,2,0) -> #N/A | N34: =VLOOKUP($Q33,TEAMS!$A$3:$D$56,2,0) -> TB Fillies | O34: =VLOOKUP($I34,TEAMS!$A$3:$D$56,3,0) -> 0
F35: =VLOOKUP(I35,TEAMS!A30:D85,4,0) -> Monday | G35: =VLOOKUP(F35,$F$40:$G$43,2,FALSE) -> 46188 | H35: 6 | I35: 41 | J35: =VLOOKUP($I35,TEAMS!$A$3:$D$56,2,0) -> Dragons | K35: 46 | L35: =VLOOKUP($K35,TEAMS!$A$3:$D$56,2,0) -> Doves | M35: =VLOOKUP($P35,TEAMS!$A$3:$D$56,2,0) -> TB Ponies | N35: =VLOOKUP($Q34,TEAMS!$A$3:$D$56,2,0) -> #N/A | O35: =VLOOKUP($I35,TEAMS!$A$3:$D$56,3,0) -> Hellesdon High | P35: 42 | Q35: 43
G37: where indicated the date or venue has changed
G39: Date | H39: UEA | I39: HELLESDON CC | J39: HEWETT | K39: OPEN | L39: CITY | M39: OLD CATTON | N39: Hellesdon High | O39: Sprowston | P39: THORPE
F40: MONDAY | G40: =G3 -> 46188 | H40: =COUNTIFS($O$7:$O$35,H$39,$F$7:$F$35,$F40) -> 2 | I40: =COUNTIFS($O$7:$O$35,I$39,$F$7:$F$35,$F40) -> 0 | J40: =COUNTIFS($O$7:$O$35,J$39,$F$7:$F$35,$F40) -> 1 | K40: =COUNTIFS($O$7:$O$35,K$39,$F$7:$F$35,$F40) -> 2 | L40: =COUNTIFS($O$7:$O$35,L$39,$F$7:$F$35,$F40) -> 0 | M40: =COUNTIFS($O$7:$O$35,M$39,$F$7:$F$35,$F40) -> 0 | N40: =COUNTIFS($O$7:$O$35,N$39,$F$7:$F$35,$F40) -> 2 | O40: =COUNTIFS($O$7:$O$35,O$39,$F$7:$F$35,$F40) -> 1 | P40: =COUNTIFS($O$7:$O$35,P$39,$F$7:$F$35,$F40) -> 0 | Q40: =SUM(H40:P40) -> 8
F41: TUESDAY | G41: =G3+1 -> 46189 | H41: =COUNTIFS($O$7:$O$35,H$39,$F$7:$F$35,$F41) -> 1 | I41: =COUNTIFS($O$7:$O$35,I$39,$F$7:$F$35,$F41) -> 0 | J41: =COUNTIFS($O$7:$O$35,J$39,$F$7:$F$35,$F41) -> 1 | K41: 3 | L41: =COUNTIFS($O$7:$O$35,L$39,$F$7:$F$35,$F41) -> 1 | M41: =COUNTIFS($O$7:$O$35,M$39,$F$7:$F$35,$F41) -> 0 | N41: =COUNTIFS($O$7:$O$35,N$39,$F$7:$F$35,$F41) -> 1 | O41: =COUNTIFS($O$7:$O$35,O$39,$F$7:$F$35,$F41) -> 0 | P41: =COUNTIFS($O$7:$O$35,P$39,$F$7:$F$35,$F41) -> 0 | Q41: =SUM(H41:P41) -> 7
F42: WEDNESDAY | G42: =G3+2 -> 46190 | H42: =COUNTIFS($O$7:$O$35,H$39,$F$7:$F$35,$F42) -> 2 | I42: =COUNTIFS($O$7:$O$35,I$39,$F$7:$F$35,$F42) -> 0 | J42: =COUNTIFS($O$7:$O$35,J$39,$F$7:$F$35,$F42) -> 0 | K42: =COUNTIFS($O$7:$O$35,K$39,$F$7:$F$35,$F42) -> 0 | L42: =COUNTIFS($O$7:$O$35,L$39,$F$7:$F$35,$F42) -> 0 | M42: =COUNTIFS($O$7:$O$35,M$39,$F$7:$F$35,$F42) -> 0 | N42: =COUNTIFS($O$7:$O$35,N$39,$F$7:$F$35,$F42) -> 3 | O42: =COUNTIFS($O$7:$O$35,O$39,$F$7:$F$35,$F42) -> 0 | P42: =COUNTIFS($O$7:$O$35,P$39,$F$7:$F$35,$F42) -> 0 | Q42: =SUM(H42:P42) -> 5
F43: THURSDAY | G43: =G3+3 -> 46191 | H43: =COUNTIFS($O$7:$O$35,H$39,$F$7:$F$35,$F43) -> 0 | I43: =COUNTIFS($O$7:$O$35,I$39,$F$7:$F$35,$F43) -> 0 | J43: =COUNTIFS($O$7:$O$35,J$39,$F$7:$F$35,$F43) -> 0 | K43: =COUNTIFS($O$7:$O$35,K$39,$F$7:$F$35,$F43) -> 0 | L43: =COUNTIFS($O$7:$O$35,L$39,$F$7:$F$35,$F43) -> 0 | M43: =COUNTIFS($O$7:$O$35,M$39,$F$7:$F$35,$F43) -> 0 | N43: =COUNTIFS($O$7:$O$35,N$39,$F$7:$F$35,$F43) -> 1 | O43: =COUNTIFS($O$7:$O$35,O$39,$F$7:$F$35,$F43) -> 0 | P43: =COUNTIFS($O$7:$O$35,P$39,$F$7:$F$35,$F43) -> 0 | Q43: =SUM(H43:P43) -> 1
Q44: =SUM(Q40:Q43) -> 21

Sheet WK 12 FIXTURES
F3: Week Comm | G3: 46195 | H3: Wk 12 | U3: Playing | X3: Umpiring
B4: Playing | D4: Umpiring
B5: Home | C5: Away | D5: Home | E5: Away | F5: Day | G5: Date | H5: Div | I5: Team Num | J5: Home Team | L5: Away Team | M5: Umpire 1 | N5: Umpire 2 | O5: Venue | P5: UMP1 | Q5: UMP2
B7: =I7 -> 5 | C7: =K7 -> 6 | D7: =P7 -> 1 | E7: =Q7 -> 8 | F7: Monday | G7: =VLOOKUP(F7,$F$40:$G$43,2,FALSE) -> 46195 | H7: 1 | I7: 5 | J7: =VLOOKUP($I7,TEAMS!$A$3:$D$56,2,0) -> TB Racers | K7: 6 | L7: =VLOOKUP($K7,TEAMS!$A$3:$D$56,2,0) -> Red Knights | M7: =VLOOKUP($P7,TEAMS!$A$3:$D$56,2,0) -> NU Blue | N7: =VLOOKUP($Q7,TEAMS!$A$3:$D$56,2,0) -> Jets | O7: Sprowston | P7: 1 | Q7: 8
B8: =I8 -> 1 | C8: =K8 -> 8 | D8: =P8 -> 3 | E8: =Q8 -> 23 | F8: =VLOOKUP(I8,TEAMS!A3:D56,4,0) -> Wednesday | G8: =VLOOKUP(F8,$F$40:$G$43,2,FALSE) -> 46197 | H8: 1 | I8: 1 | J8: =VLOOKUP($I8,TEAMS!$A$3:$D$56,2,0) -> NU Blue | K8: 8 | L8: =VLOOKUP($K8,TEAMS!$A$3:$D$56,2,0) -> Jets | M8: =VLOOKUP($P8,TEAMS!$A$3:$D$56,2,0) -> TB Mustangs | N8: =VLOOKUP($Q8,TEAMS!$A$3:$D$56,2,0) -> Hotshots | O8: =VLOOKUP($I8,TEAMS!$A$3:$D$56,3,0) -> UEA | P8: 3 | Q8: 23
B9: =I9 -> 4 | C9: =K9 -> 2 | D9: =P9 -> 5 | E9: =Q9 -> 6 | F9: =VLOOKUP(I9,TEAMS!A3:D56,4,0) -> Tuesday | G9: =VLOOKUP(F9,$F$40:$G$43,2,FALSE) -> 46196 | H9: 1 | I9: 4 | J9: =VLOOKUP($I9,TEAMS!$A$3:$D$56,2,0) -> Stars | K9: 2 | L9: =VLOOKUP($K9,TEAMS!$A$3:$D$56,2,0) -> NU White | M9: =VLOOKUP($P9,TEAMS!$A$3:$D$56,2,0) -> TB Racers | N9: =VLOOKUP($Q9,TEAMS!$A$3:$D$56,2,0) -> Red Knights | O9: =VLOOKUP($I9,TEAMS!$A$3:$D$56,3,0) -> UEA | P9: 5 | Q9: 6
B10: =I10 -> 7 | C10: =K10 -> 3 | D10: =P10 -> 4 | E10: =Q10 -> 2 | F10: =VLOOKUP(I10,TEAMS!A5:D56,4,0) -> Monday | G10: =VLOOKUP(F10,$F$40:$G$43,2,FALSE) -> 46195 | H10: 1 | I10: 7 | J10: =VLOOKUP($I10,TEAMS!$A$3:$D$56,2,0) -> Cromer Cobras | K10: 3 | L10: =VLOOKUP($K10,TEAMS!$A$3:$D$56,2,0) -> TB Mustangs | M10: =VLOOKUP($P10,TEAMS!$A$3:$D$56,2,0) -> Stars | N10: =VLOOKUP($Q10,TEAMS!$A$3:$D$56,2,0) -> NU White | O10: Hellesdon High | P10: 4 | Q10: 2
B12: =I12 -> 9 | C12: =K12 -> 15 | D12: =P12 -> 13 | E12: =Q12 -> 14 | F12: =VLOOKUP(I12,TEAMS!A9:D62,4,0) -> Tuesday | G12: =VLOOKUP(F12,$F$40:$G$43,2,FALSE) -> 46196 | H12: 2 | I12: 9 | J12: =VLOOKUP($I12,TEAMS!$A$3:$D$56,2,0) -> Phoenix | K12: 15 | L12: =VLOOKUP($K12,TEAMS!$A$3:$D$56,2,0) -> Cliff Park | M12: =VLOOKUP($P12,TEAMS!$A$3:$D$56,2,0) -> Sonics | N12: =VLOOKUP($Q12,TEAMS!$A$3:$D$56,2,0) -> NU Royal | O12: =VLOOKUP($I12,TEAMS!$A$3:$D$56,3,0) -> UEA | P12: 13 | Q12: 14
B13: =I13 -> 14 | C13: =K13 -> 13 | D13: =P13 -> 11 | E13: =Q13 -> 12 | F13: =VLOOKUP(I13,TEAMS!A11:D64,4,0) -> Monday | G13: =VLOOKUP(F13,$F$40:$G$43,2,FALSE) -> 46195 | H13: 2 | I13: 14 | J13: =VLOOKUP($I13,TEAMS!$A$3:$D$56,2,0) -> NU Royal | K13: 13 | L13: =VLOOKUP($K13,TEAMS!$A$3:$D$56,2,0) -> Sonics | M13: =VLOOKUP($P13,TEAMS!$A$3:$D$56,2,0) -> TB Colts | N13: =VLOOKUP($Q13,TEAMS!$A$3:$D$56,2,0) -> NU Yellow | O13: =VLOOKUP($I13,TEAMS!$A$3:$D$56,3,0) -> UEA | P13: 11 | Q13: 12
B14: =I14 -> 10 | C14: =K14 -> 16 | D14: =P14 -> 18 | E14: =Q14 -> 19 | F14: =VLOOKUP(I14,TEAMS!A8:D61,4,0) -> Monday | G14: =VLOOKUP(F14,$F$40:$G$43,2,FALSE) -> 46195 | H14: 2 | I14: 10 | J14: =VLOOKUP($I14,TEAMS!$A$3:$D$56,2,0) -> Black Knights | K14: 16 | L14: =VLOOKUP($K14,TEAMS!$A$3:$D$56,2,0) -> Sirens | M14: =VLOOKUP($P14,TEAMS!$A$3:$D$56,2,0) -> Venus | N14: =VLOOKUP($Q14,TEAMS!$A$3:$D$56,2,0) -> Premier | O14: =VLOOKUP($I14,TEAMS!$A$3:$D$56,3,0) -> Hewett | P14: 18 | Q14: 19
B15: =I15 -> 11 | C15: =K15 -> 12 | D15: =P15 -> 26 | E15: =Q15 -> 16 | F15: =VLOOKUP(I15,TEAMS!A10:D63,4,0) -> Tuesday | G15: =VLOOKUP(F15,$F$40:$G$43,2,FALSE) -> 46196 | H15: 2 | I15: 11 | J15: =VLOOKUP($I15,TEAMS!$A$3:$D$56,2,0) -> TB Colts | K15: 12 | L15: =VLOOKUP($K15,TEAMS!$A$3:$D$56,2,0) -> NU Yellow | M15: =VLOOKUP($P15,TEAMS!$A$3:$D$56,2,0) -> TB Shetlands | N15: =VLOOKUP($Q15,TEAMS!$A$3:$D$56,2,0) -> Sirens | O15: =VLOOKUP($I15,TEAMS!$A$3:$D$56,3,0) -> Sprowston | P15: 26 | Q15: 16
B17: =I17 -> 19 | C17: =K17 -> 24 | D17: =P17 -> 7 | E17: =Q17 -> 10 | F17: =VLOOKUP(I17,TEAMS!A14:D67,4,0) -> Tuesday | G17: =VLOOKUP(F17,$F$40:$G$43,2,FALSE) -> 46196 | H17: 3 | I17: 19 | J17: =VLOOKUP($I17,TEAMS!$A$3:$D$56,2,0) -> Premier | K17: 24 | L17: =VLOOKUP($K17,TEAMS!$A$3:$D$56,2,0) -> Icenians | M17: =VLOOKUP($P17,TEAMS!$A$3:$D$56,2,0) -> Cromer Cobras | N17: =VLOOKUP($Q17,TEAMS!$A$3:$D$56,2,0) -> Black Knights | O17: Hellesdon High | P17: 7 | Q17: 10
B18: =I18 -> 18 | C18: =K18 -> 22 | D18: =P18 -> 20 | E18: =Q18 -> 21 | F18: =VLOOKUP(I18,TEAMS!A16:D69,4,0) -> Tuesday | G18: =VLOOKUP(F18,$F$40:$G$43,2,FALSE) -> 46196 | H18: 3 | I18: 18 | J18: =VLOOKUP($I18,TEAMS!$A$3:$D$56,2,0) -> Venus | K18: 22 | L18: =VLOOKUP($K18,TEAMS!$A$3:$D$56,2,0) -> Wrens | M18: =VLOOKUP($P18,TEAMS!$A$3:$D$56,2,0) -> White Knights | N18: =VLOOKUP($Q18,TEAMS!$A$3:$D$56,2,0) -> Belton | O18: =VLOOKUP($I18,TEAMS!$A$3:$D$56,3,0) -> Open | P18: 20 | Q18: 21
B19: =I19 -> 23 | C19: =K19 -> 17 | D19: =P19 -> 32 | E19: =Q19 -> 33 | F19: =VLOOKUP(I19,TEAMS!A13:D66,4,0) -> Tuesday | G19: =VLOOKUP(F19,$F$40:$G$43,2,FALSE) -> 46196 | H19: 3 | I19: 23 | J19: =VLOOKUP($I19,TEAMS!$A$3:$D$56,2,0) -> Hotshots | K19: 17 | L19: =VLOOKUP($K19,TEAMS!$A$3:$D$56,2,0) -> Blades | M19: =VLOOKUP($P19,TEAMS!$A$3:$D$56,2,0) -> Red Hot Chillies | N19: =VLOOKUP($Q19,TEAMS!$A$3:$D$56,2,0) -> Hornets | O19: =VLOOKUP($I19,TEAMS!$A$3:$D$56,3,0) -> Open | P19: 32 | Q19: 33
B20: =I20 -> 21 | C20: =K20 -> 20 | D20: =P20 -> 17 | E20: =Q20 -> 25 | F20: =VLOOKUP(I20,TEAMS!A15:D68,4,0) -> Monday | G20: =VLOOKUP(F20,$F$40:$G$43,2,FALSE) -> 46195 | H20: 3 | I20: 21 | J20: =VLOOKUP($I20,TEAMS!$A$3:$D$56,2,0) -> Belton | K20: 20 | L20: =VLOOKUP($K20,TEAMS!$A$3:$D$56,2,0) -> White Knights | M20: =VLOOKUP($P20,TEAMS!$A$3:$D$56,2,0) -> Blades | N20: =VLOOKUP($Q20,TEAMS!$A$3:$D$56,2,0) -> NU Ruby | O20: =VLOOKUP($I20,TEAMS!$A$3:$D$56,3,0) -> Open | P20: 17 | Q20: 25
B22: =I22 -> 32 | C22: =K22 -> 26 | D22: =P22 -> 9 | E22: =Q22 -> 15 | F22: Wednesday | G22: =VLOOKUP(F22,$F$40:$G$43,2,FALSE) -> 46197 | H22: 4 | I22: 32 | J22: =VLOOKUP($I22,TEAMS!$A$3:$D$56,2,0) -> Red Hot Chillies | K22: 26 | L22: =VLOOKUP($K22,TEAMS!$A$3:$D$56,2,0) -> TB Shetlands | M22: =VLOOKUP($P22,TEAMS!$A$3:$D$56,2,0) -> Phoenix | N22: =VLOOKUP($Q22,TEAMS!$A$3:$D$56,2,0) -> Cliff Park | O22: =VLOOKUP($I22,TEAMS!$A$3:$D$56,3,0) -> Sprowston | P22: 9 | Q22: 15
B23: =I23 -> 30 | C23: =K23 -> 25 | D23: =P23 -> 31 | E23: =Q23 -> 29 | F23: =VLOOKUP(I23,TEAMS!A18:D73,4,0) -> Tuesday | G23: =VLOOKUP(F23,$F$40:$G$43,2,FALSE) -> 46196 | H23: 4 | I23: 30 | J23: =VLOOKUP($I23,TEAMS!$A$3:$D$56,2,0) -> Watton Wolves | K23: 25 | L23: =VLOOKUP($K23,TEAMS!$A$3:$D$56,2,0) -> NU Ruby | M23: =VLOOKUP($P23,TEAMS!$A$3:$D$56,2,0) -> Trailblazers | N23: =VLOOKUP($Q23,TEAMS!$A$3:$D$56,2,0) -> NCF Emerald | O23: =VLOOKUP($I23,TEAMS!$A$3:$D$56,3,0) -> UEA | P23: 31 | Q23: 29
B24: =I24 -> 29 | C24: =K24 -> 28 | D24: =P24 -> 22 | E24: =Q24 -> 24 | F24: Wednesday | G24: =VLOOKUP(F24,$F$40:$G$43,2,FALSE) -> 46197 | H24: 4 | I24: 29 | J24: =VLOOKUP($I24,TEAMS!$A$3:$D$56,2,0) -> NCF Emerald | K24: 28 | L24: =VLOOKUP($K24,TEAMS!$A$3:$D$56,2,0) -> Hethersett Rockets | M24: =VLOOKUP($P24,TEAMS!$A$3:$D$56,2,0) -> Wrens | N24: =VLOOKUP($Q24,TEAMS!$A$3:$D$56,2,0) -> Icenians | O24: =VLOOKUP($I24,TEAMS!$A$3:$D$56,3,0) -> Hellesdon High | P24: 22 | Q24: 24
B25: =I25 -> 31 | C25: =K25 -> 27 | D25: =P25 -> 28 | E25: =Q25 -> 30 | F25: =VLOOKUP(I25,TEAMS!A20:D75,4,0) -> Thursday | G25: =VLOOKUP(F25,$F$40:$G$43,2,FALSE) -> 46198 | H25: 4 | I25: 31 | J25: =VLOOKUP($I25,TEAMS!$A$3:$D$56,2,0) -> Trailblazers | K25: 27 | L25: =VLOOKUP($K25,TEAMS!$A$3:$D$56,2,0) -> Falcons | M25: =VLOOKUP($P25,TEAMS!$A$3:$D$56,2,0) -> Hethersett Rockets | N25: =VLOOKUP($Q25,TEAMS!$A$3:$D$56,2,0) -> Watton Wolves | O25: =VLOOKUP($I25,TEAMS!$A$3:$D$56,3,0) -> Hellesdon High | P25: 28 | Q25: 30
F26: =VLOOKUP(I26,TEAMS!A21:D76,4,0) -> #N/A
B27: =I27 -> 38 | C27: =K27 -> 37 | D27: =P27 -> 27 | E27: =Q27 -> 34 | F27: =VLOOKUP(I27,TEAMS!A22:D77,4,0) -> Monday | G27: =VLOOKUP(F27,$F$40:$G$43,2,FALSE) -> 46195 | H27: 5 | I27: 38 | J27: =VLOOKUP($I27,TEAMS!$A$3:$D$56,2,0) -> NU Red | K27: 37 | L27: =VLOOKUP($K27,TEAMS!$A$3:$D$56,2,0) -> First Home Improvements | M27: =VLOOKUP($P27,TEAMS!$A$3:$D$56,2,0) -> Falcons | N27: =VLOOKUP($Q27,TEAMS!$A$3:$D$56,2,0) -> NU Amber | O27: =VLOOKUP($I27,TEAMS!$A$3:$D$56,3,0) -> UEA | P27: 27 | Q27: 34
B28: =I28 -> 33 | C28: =K28 -> 40 | D28: =P28 -> 0 | E28: =Q28 -> 0 | G28: =VLOOKUP(F28,$F$40:$G$43,2,FALSE) -> #N/A | H28: 5 | I28: 33 | J28: =VLOOKUP($I28,TEAMS!$A$3:$D$56,2,0) -> Hornets | K28: 40 | L28: =VLOOKUP($K28,TEAMS!$A$3:$D$56,2,0) -> BYE WEEK | M28: =VLOOKUP($P28,TEAMS!$A$3:$D$56,2,0) -> #N/A | N28: =VLOOKUP($Q28,TEAMS!$A$3:$D$56,2,0) -> #N/A | O28: 0
B29: =I29 -> 34 | C29: =K29 -> 36 | D29: =P29 -> 38 | E29: =Q29 -> 37 | F29: =VLOOKUP(I29,TEAMS!A24:D79,4,0) -> Tuesday | G29: =VLOOKUP(F29,$F$40:$G$43,2,FALSE) -> 46196 | H29: 5 | I29: 34 | J29: =VLOOKUP($I29,TEAMS!$A$3:$D$56,2,0) -> NU Amber | K29: 36 | L29: =VLOOKUP($K29,TEAMS!$A$3:$D$56,2,0) -> TB Fillies | M29: =VLOOKUP($P29,TEAMS!$A$3:$D$56,2,0) -> NU Red | N29: =VLOOKUP($Q29,TEAMS!$A$3:$D$56,2,0) -> First Home Improvements | O29: =VLOOKUP($I29,TEAMS!$A$3:$D$56,3,0) -> UEA | P29: 38 | Q29: 37
B30: =I30 -> 39 | C30: =K30 -> 35 | D30: =P30 -> 43 | E30: =Q30 -> 41 | F30: =VLOOKUP(I30,TEAMS!A25:D80,4,0) -> Wednesday | G30: =VLOOKUP(F30,$F$40:$G$43,2,FALSE) -> 46197 | H30: 5 | I30: 39 | J30: =VLOOKUP($I30,TEAMS!$A$3:$D$56,2,0) -> Tigers | K30: 35 | L30: =VLOOKUP($K30,TEAMS!$A$3:$D$56,2,0) -> Gems | M30: =VLOOKUP($P30,TEAMS!$A$3:$D$56,2,0) -> Trowse | N30: =VLOOKUP($Q30,TEAMS!$A$3:$D$56,2,0) -> Dragons | O30: =VLOOKUP($I30,TEAMS!$A$3:$D$56,3,0) -> Hellesdon High | P30: 43 | Q30: 41
B31: =I32 -> 45 | C31: =K32 -> 46 | D31: =P31 -> 0 | E31: =Q31 -> 0 | F31: =VLOOKUP(I31,TEAMS!A26:D81,4,0) -> #N/A
B32: =I33 -> 41 | C32: =K33 -> 48 | D32: =P32 -> 42 | E32: =Q32 -> 44 | F32: Wednesday | G32: =VLOOKUP(F32,$F$40:$G$43,2,FALSE) -> 46197 | H32: 6 | I32: 45 | J32: =VLOOKUP($I32,TEAMS!$A$3:$D$56,2,0) -> NCF Onyx | K32: 46 | L32: =VLOOKUP($K32,TEAMS!$A$3:$D$56,2,0) -> Doves | M32: TB Ponies | N32: Cromer Vipers | O32: =VLOOKUP($I32,TEAMS!$A$3:$D$56,3,0) -> Hellesdon High | P32: 42 | Q32: 44
B33: =I34 -> 42 | C33: =K34 -> 44 | D33: =P33 -> 0 | E33: =Q33 -> 0 | G33: =VLOOKUP(F33,$F$40:$G$43,2,FALSE) -> #N/A | H33: 6 | I33: 41 | J33: =VLOOKUP($I33,TEAMS!$A$3:$D$56,2,0) -> Dragons | K33: 48 | L33: =VLOOKUP($K33,TEAMS!$A$3:$D$56,2,0) -> BYE WEEK
F34: =VLOOKUP(I34,TEAMS!A29:D84,4,0) -> Monday | G34: =VLOOKUP(F34,$F$40:$G$43,2,FALSE) -> 46195 | H34: 6 | I34: 42 | J34: =VLOOKUP($I34,TEAMS!$A$3:$D$56,2,0) -> TB Ponies | K34: 44 | L34: =VLOOKUP($K34,TEAMS!$A$3:$D$56,2,0) -> Cromer Vipers | M34: NCF Onyx | N34: Doves | O34: =VLOOKUP($I34,TEAMS!$A$3:$D$56,3,0) -> Sprowston | P34: 45 | Q34: 46
F35: =VLOOKUP(I35,TEAMS!A30:D85,4,0) -> 0 | G35: =VLOOKUP(F35,$F$40:$G$43,2,FALSE) -> #N/A | H35: 6 | I35: 47 | J35: =VLOOKUP($I35,TEAMS!$A$3:$D$56,2,0) -> BYE WEEK | K35: 43 | L35: =VLOOKUP($K35,TEAMS!$A$3:$D$56,2,0) -> Trowse | O35: =VLOOKUP($I35,TEAMS!$A$3:$D$56,3,0) -> 0
G37: where indicated the date or venue has changed
G39: Date | H39: UEA | I39: HELLESDON CC | J39: HEWETT | K39: OPEN | L39: CITY | M39: OLD CATTON | N39: Hellesdon High | O39: Sprowston | P39: THORPE
F40: MONDAY | G40: =G3 -> 46195 | H40: =COUNTIFS($O$7:$O$35,H$39,$F$7:$F$35,$F40) -> 2 | I40: =COUNTIFS($O$7:$O$35,I$39,$F$7:$F$35,$F40) -> 0 | J40: =COUNTIFS($O$7:$O$35,J$39,$F$7:$F$35,$F40) -> 1 | K40: =COUNTIFS($O$7:$O$35,K$39,$F$7:$F$35,$F40) -> 1 | L40: =COUNTIFS($O$7:$O$35,L$39,$F$7:$F$35,$F40) -> 0 | M40: =COUNTIFS($O$7:$O$35,M$39,$F$7:$F$35,$F40) -> 0 | N40: =COUNTIFS($O$7:$O$35,N$39,$F$7:$F$35,$F40) -> 1 | O40: =COUNTIFS($O$7:$O$35,O$39,$F$7:$F$35,$F40) -> 2 | P40: =COUNTIFS($O$7:$O$35,P$39,$F$7:$F$35,$F40) -> 0 | Q40: =SUM(H40:P40) -> 7
F41: TUESDAY | G41: =G3+1 -> 46196 | H41: =COUNTIFS($O$7:$O$35,H$39,$F$7:$F$35,$F41) -> 4 | I41: =COUNTIFS($O$7:$O$35,I$39,$F$7:$F$35,$F41) -> 0 | J41: =COUNTIFS($O$7:$O$35,J$39,$F$7:$F$35,$F41) -> 0 | K41: =COUNTIFS($O$7:$O$35,K$39,$F$7:$F$35,$F41) -> 2 | L41: =COUNTIFS($O$7:$O$35,L$39,$F$7:$F$35,$F41) -> 0 | M41: =COUNTIFS($O$7:$O$35,M$39,$F$7:$F$35,$F41) -> 0 | N41: =COUNTIFS($O$7:$O$35,N$39,$F$7:$F$35,$F41) -> 1 | O41: =COUNTIFS($O$7:$O$35,O$39,$F$7:$F$35,$F41) -> 1 | P41: =COUNTIFS($O$7:$O$35,P$39,$F$7:$F$35,$F41) -> 0 | Q41: =SUM(H41:P41) -> 8
F42: WEDNESDAY | G42: =G3+2 -> 46197 | H42: =COUNTIFS($O$7:$O$35,H$39,$F$7:$F$35,$F42) -> 1 | I42: =COUNTIFS($O$7:$O$35,I$39,$F$7:$F$35,$F42) -> 0 | J42: =COUNTIFS($O$7:$O$35,J$39,$F$7:$F$35,$F42) -> 0 | K42: =COUNTIFS($O$7:$O$35,K$39,$F$7:$F$35,$F42) -> 0 | L42: =COUNTIFS($O$7:$O$35,L$39,$F$7:$F$35,$F42) -> 0 | M42: =COUNTIFS($O$7:$O$35,M$39,$F$7:$F$35,$F42) -> 0 | N42: =COUNTIFS($O$7:$O$35,N$39,$F$7:$F$35,$F42) -> 3 | O42: =COUNTIFS($O$7:$O$35,O$39,$F$7:$F$35,$F42) -> 1 | P42: =COUNTIFS($O$7:$O$35,P$39,$F$7:$F$35,$F42) -> 0 | Q42: =SUM(H42:P42) -> 5
F43: THURSDAY | G43: =G3+3 -> 46198 | H43: =COUNTIFS($O$7:$O$35,H$39,$F$7:$F$35,$F43) -> 0 | I43: =COUNTIFS($O$7:$O$35,I$39,$F$7:$F$35,$F43) -> 0 | J43: =COUNTIFS($O$7:$O$35,J$39,$F$7:$F$35,$F43) -> 0 | K43: =COUNTIFS($O$7:$O$35,K$39,$F$7:$F$35,$F43) -> 0 | L43: =COUNTIFS($O$7:$O$35,L$39,$F$7:$F$35,$F43) -> 0 | M43: =COUNTIFS($O$7:$O$35,M$39,$F$7:$F$35,$F43) -> 0 | N43: =COUNTIFS($O$7:$O$35,N$39,$F$7:$F$35,$F43) -> 1 | O43: =COUNTIFS($O$7:$O$35,O$39,$F$7:$F$35,$F43) -> 0 | P43: =COUNTIFS($O$7:$O$35,P$39,$F$7:$F$35,$F43) -> 0 | Q43: =SUM(H43:P43) -> 1
Q44: =SUM(Q40:Q43) -> 21

Sheet WK 13 FIXTURES
F3: Week Comm | G3: 46202 | H3: Wk 13 | U3: Playing | X3: Umpiring
B4: Playing | D4: Umpiring
B5: Home | C5: Away | D5: Home | E5: Away | F5: Day | G5: Date | H5: Div | I5: Team Num | J5: Home Team | L5: Away Team | M5: Umpire 1 | N5: Umpire 2 | O5: Venue | P5: UMP1 | Q5: UMP2
B7: =I7 -> 7 | C7: =K7 -> 1 | D7: =P7 -> 6 | E7: =Q7 -> 4 | F7: =VLOOKUP(I7,TEAMS!A3:D56,4,0) -> Monday | G7: =VLOOKUP(F7,$F$40:$G$43,2,FALSE) -> 46202 | H7: 1 | I7: 7 | J7: =VLOOKUP($I7,TEAMS!$A$3:$D$56,2,0) -> Cromer Cobras | K7: 1 | L7: =VLOOKUP(K7,TEAMS!A3:D56,2,0) -> NU Blue | M7: =VLOOKUP($P7,TEAMS!$A$3:$D$56,2,0) -> Red Knights | N7: =VLOOKUP($Q7,TEAMS!$A$3:$D$56,2,0) -> Stars | O7: Hellesdon High | P7: 6 | Q7: 4
B8: =I8 -> 5 | C8: =K8 -> 8 | D8: =P8 -> 3 | E8: =Q8 -> 2 | F8: Monday | G8: =VLOOKUP(F8,$F$40:$G$43,2,FALSE) -> 46202 | H8: 1 | I8: 5 | J8: =VLOOKUP($I8,TEAMS!$A$3:$D$56,2,0) -> TB Racers | K8: 8 | L8: =VLOOKUP(K8,TEAMS!A3:D56,2,0) -> Jets | M8: =VLOOKUP($P8,TEAMS!$A$3:$D$56,2,0) -> TB Mustangs | N8: =VLOOKUP($Q8,TEAMS!$A$3:$D$56,2,0) -> NU White | O8: Sprowston | P8: 3 | Q8: 2
B9: =I9 -> 3 | C9: =K9 -> 4 | D9: =P9 -> 1 | E9: =Q9 -> 5 | F9: =VLOOKUP(I9,TEAMS!A5:D56,4,0) -> Wednesday | G9: =VLOOKUP(F9,$F$40:$G$43,2,FALSE) -> 46204 | H9: 1 | I9: 3 | J9: =VLOOKUP($I9,TEAMS!$A$3:$D$56,2,0) -> TB Mustangs | K9: 4 | L9: =VLOOKUP(K9,TEAMS!A3:D56,2,0) -> Stars | M9: =VLOOKUP($P9,TEAMS!$A$3:$D$56,2,0) -> NU Blue | N9: =VLOOKUP($Q9,TEAMS!$A$3:$D$56,2,0) -> TB Racers | O9: =VLOOKUP($I9,TEAMS!$A$3:$D$56,3,0) -> Sprowston | P9: 1 | Q9: 5
B10: =I10 -> 6 | C10: =K10 -> 2 | D10: =P10 -> 8 | E10: =Q10 -> 16 | F10: =VLOOKUP(I10,TEAMS!A3:D56,4,0) -> Tuesday | G10: =VLOOKUP(F10,$F$40:$G$43,2,FALSE) -> 46203 | H10: 1 | I10: 6 | J10: =VLOOKUP($I10,TEAMS!$A$3:$D$56,2,0) -> Red Knights | K10: 2 | L10: =VLOOKUP(K10,TEAMS!A3:D56,2,0) -> NU White | M10: =VLOOKUP($P10,TEAMS!$A$3:$D$56,2,0) -> Jets | N10: =VLOOKUP($Q10,TEAMS!$A$3:$D$56,2,0) -> Sirens | O10: =VLOOKUP($I10,TEAMS!$A$3:$D$56,3,0) -> Hewett | P10: 8 | Q10: 16
B12: =I12 -> 14 | C12: =K12 -> 12 | D12: =P12 -> 10 | E12: =Q12 -> 11 | F12: =VLOOKUP(I12,TEAMS!A10:D63,4,0) -> Monday | G12: =VLOOKUP(F12,$F$40:$G$43,2,FALSE) -> 46202 | H12: 2 | I12: 14 | J12: =VLOOKUP($I12,TEAMS!$A$3:$D$56,2,0) -> NU Royal | K12: 12 | L12: =VLOOKUP(K12,TEAMS!A3:D56,2,0) -> NU Yellow | M12: =VLOOKUP($P12,TEAMS!$A$3:$D$56,2,0) -> Black Knights | N12: =VLOOKUP($Q12,TEAMS!$A$3:$D$56,2,0) -> TB Colts | O12: =VLOOKUP($I12,TEAMS!$A$3:$D$56,3,0) -> UEA | P12: 10 | Q12: 11
